BEGIN:VCALENDAR
VERSION:2.0
PRODID:-//Ville d&#039;Etaples sur mer - ECPv6.15.13.1//NONSGML v1.0//EN
CALSCALE:GREGORIAN
METHOD:PUBLISH
X-WR-CALNAME:Ville d&#039;Etaples sur mer
X-ORIGINAL-URL:https://etaples-sur-mer.fr
X-WR-CALDESC:Évènements pour Ville d&#039;Etaples sur mer
REFRESH-INTERVAL;VALUE=DURATION:PT1H
X-Robots-Tag:noindex
X-PUBLISHED-TTL:PT1H
BEGIN:VTIMEZONE
TZID:Europe/Paris
BEGIN:DAYLIGHT
TZOFFSETFROM:+0100
TZOFFSETTO:+0200
TZNAME:CEST
DTSTART:20250330T010000
END:DAYLIGHT
BEGIN:STANDARD
TZOFFSETFROM:+0200
TZOFFSETTO:+0100
TZNAME:CET
DTSTART:20251026T010000
END:STANDARD
BEGIN:DAYLIGHT
TZOFFSETFROM:+0100
TZOFFSETTO:+0200
TZNAME:CEST
DTSTART:20260329T010000
END:DAYLIGHT
BEGIN:STANDARD
TZOFFSETFROM:+0200
TZOFFSETTO:+0100
TZNAME:CET
DTSTART:20261025T010000
END:STANDARD
BEGIN:DAYLIGHT
TZOFFSETFROM:+0100
TZOFFSETTO:+0200
TZNAME:CEST
DTSTART:20270328T010000
END:DAYLIGHT
BEGIN:STANDARD
TZOFFSETFROM:+0200
TZOFFSETTO:+0100
TZNAME:CET
DTSTART:20271031T010000
END:STANDARD
END:VTIMEZONE
BEGIN:VEVENT
DTSTART;TZID=Europe/Paris:20260425T203000
DTEND;TZID=Europe/Paris:20260425T230000
DTSTAMP:20260422T162349
CREATED:20260126T095759Z
LAST-MODIFIED:20260225T135807Z
UID:239699-1777149000-1777158000@etaples-sur-mer.fr
SUMMARY:Théâtre : « De quoi je me mêle »
DESCRIPTION:Par Mam’zelle spectacle et le service événementiel \nSamedi 25 avril à 20h30 – salle de la Corderie \nComment arriver à sauver son couple quand on se retrouve contraints de cohabiter avec une troisième personne qui ne jure que par le divorce ? \nLe duo d’auteurs du gros succès « Dîner de famille » vous livre sa dernière pépite ! \nMarion et Mathieu sont mariés depuis 10 ans. Pour sauver leur couple\, ils ont une idée originale : revivre dans les moindres détails le week-end où ils sont tombés amoureux. \nPour cela\, ils relouent la maison dans laquelle ils s’étaient rencontrés. Mais en arrivant\, ils découvrent qu’elle est déjà occupée par Pierre\, écrivain dépressif venu s’isoler pour écrire un livre sur les bienfaits du divorce. \nLe trio va devoir passer le week-end ensemble : la cohabitation promet d’être explosive ! \nAuteur : Joseph Gallet\, Pascal Rocher \nMise en scène : Philippe Petit. \nArtistes : Carine Samson\, et en alternance Pascal Putet\, Jean-Marc Keller\, Franck Savelli et Camille Damour. \nTarifs : 14€/adulte et 10€/enfant \nInfos : C. Samson – 06 72 80 70 85 \nhttps://www.billetreduc.com/spectacle/de-quoi-je-me-mele-399630 \n 
URL:https://etaples-sur-mer.fr/evenement/theatre-de-quoi-je-me-mele/
LOCATION:Salle de la Corderie
CATEGORIES:Animations,Culture,Spectacle,Theatre
ATTACH;FMTTYPE=image/jpeg:https://etaples-sur-mer.fr/wp-content/uploads/2026/01/Affiche-De-quoi-je-me-mele-copie-rvb-scaled.jpg
END:VEVENT
END:VCALENDAR