BEGIN:VCALENDAR
VERSION:2.0
PRODID:-//Ville d&#039;Etaples sur mer - ECPv6.15.13.1//NONSGML v1.0//EN
CALSCALE:GREGORIAN
METHOD:PUBLISH
X-WR-CALNAME:Ville d&#039;Etaples sur mer
X-ORIGINAL-URL:https://etaples-sur-mer.fr
X-WR-CALDESC:Évènements pour Ville d&#039;Etaples sur mer
REFRESH-INTERVAL;VALUE=DURATION:PT1H
X-Robots-Tag:noindex
X-PUBLISHED-TTL:PT1H
BEGIN:VTIMEZONE
TZID:Europe/Paris
BEGIN:DAYLIGHT
TZOFFSETFROM:+0100
TZOFFSETTO:+0200
TZNAME:CEST
DTSTART:20230326T010000
END:DAYLIGHT
BEGIN:STANDARD
TZOFFSETFROM:+0200
TZOFFSETTO:+0100
TZNAME:CET
DTSTART:20231029T010000
END:STANDARD
BEGIN:DAYLIGHT
TZOFFSETFROM:+0100
TZOFFSETTO:+0200
TZNAME:CEST
DTSTART:20240331T010000
END:DAYLIGHT
BEGIN:STANDARD
TZOFFSETFROM:+0200
TZOFFSETTO:+0100
TZNAME:CET
DTSTART:20241027T010000
END:STANDARD
BEGIN:DAYLIGHT
TZOFFSETFROM:+0100
TZOFFSETTO:+0200
TZNAME:CEST
DTSTART:20250330T010000
END:DAYLIGHT
BEGIN:STANDARD
TZOFFSETFROM:+0200
TZOFFSETTO:+0100
TZNAME:CET
DTSTART:20251026T010000
END:STANDARD
END:VTIMEZONE
BEGIN:VEVENT
DTSTART;TZID=Europe/Paris:20241026T203000
DTEND;TZID=Europe/Paris:20241026T203000
DTSTAMP:20260423T200150
CREATED:20240620T145614Z
LAST-MODIFIED:20240911T091150Z
UID:199835-1729974600-1729974600@etaples-sur-mer.fr
SUMMARY:LA TOILE D'ARAIGNEE 
DESCRIPTION:Par le Théâtre H. \nSamedi 26 octobre à 20h30 – Salle de la Corderie \nLa troupe amateur de la région parisienne\, « Le Théâtre H »\, présente cette année son adaptation théâtrale de « La Toile d’araignée »\, une pièce d’Agatha Christie \nClarissa Hailsham-Brown\, une femme charmante et imaginative\, est l’épouse d’un diplomate britannique souvent absent\, Henry Hailsham-Brown. Elle adore inventer des histoires pour amuser ses invités et passer le temps. Un jour\, elle se retrouve impliquée dans une situation qui dépasse toutes ses inventions : un véritable meurtre se produit dans son salon. \nTarifs : 10€ / gratuit pour les moins de 13 ans\nRenseignements et billetterie : Compagnie Théâtre H – 03 21 89 62 73
URL:https://etaples-sur-mer.fr/evenement/la-toile-daraignee/
LOCATION:Salle de la Corderie
CATEGORIES:Animations,Art,Theatre
ATTACH;FMTTYPE=image/jpeg:https://etaples-sur-mer.fr/wp-content/uploads/2024/06/Affiche-theatre-toile-araignee-copie-scaled.jpg
ORGANIZER;CN="Service %C3%A9v%C3%A9nementiel":MAILTO:communication@etaples-sur-mer.net
END:VEVENT
END:VCALENDAR