BEGIN:VCALENDAR
VERSION:2.0
PRODID:-//Ville d&#039;Etaples sur mer - ECPv6.15.13.1//NONSGML v1.0//EN
CALSCALE:GREGORIAN
METHOD:PUBLISH
X-ORIGINAL-URL:https://etaples-sur-mer.fr
X-WR-CALDESC:Évènements pour Ville d&#039;Etaples sur mer
REFRESH-INTERVAL;VALUE=DURATION:PT1H
X-Robots-Tag:noindex
X-PUBLISHED-TTL:PT1H
BEGIN:VTIMEZONE
TZID:Europe/Paris
BEGIN:DAYLIGHT
TZOFFSETFROM:+0100
TZOFFSETTO:+0200
TZNAME:CEST
DTSTART:20240331T010000
END:DAYLIGHT
BEGIN:STANDARD
TZOFFSETFROM:+0200
TZOFFSETTO:+0100
TZNAME:CET
DTSTART:20241027T010000
END:STANDARD
BEGIN:DAYLIGHT
TZOFFSETFROM:+0100
TZOFFSETTO:+0200
TZNAME:CEST
DTSTART:20250330T010000
END:DAYLIGHT
BEGIN:STANDARD
TZOFFSETFROM:+0200
TZOFFSETTO:+0100
TZNAME:CET
DTSTART:20251026T010000
END:STANDARD
BEGIN:DAYLIGHT
TZOFFSETFROM:+0100
TZOFFSETTO:+0200
TZNAME:CEST
DTSTART:20260329T010000
END:DAYLIGHT
BEGIN:STANDARD
TZOFFSETFROM:+0200
TZOFFSETTO:+0100
TZNAME:CET
DTSTART:20261025T010000
END:STANDARD
END:VTIMEZONE
BEGIN:VEVENT
DTSTART;VALUE=DATE:20251121
DTEND;VALUE=DATE:20251122
DTSTAMP:20260422T223738
CREATED:20251104T143252Z
LAST-MODIFIED:20251104T143252Z
UID:235372-1763683200-1763769599@etaples-sur-mer.fr
SUMMARY:MOBILISONS NOUS CONTRE LES VIOLENCES FAITES AUX FEMMES : THÉÂTRE ET DÉBAT
DESCRIPTION:Par le FIAC de Berck et le service Action Sociale du CCAS \nVendredi 21 novembre à 14h et à 20h – Salle de la Corderie \nDans le cadre de l’action « Mobilisons nous contre les violences faites aux femmes »\, le FIAC de Berck propose deux représentations de la pièce de théâtre intitulée « Les cicatrices du silence » au grand public. Les spectateurs pourront ensuite assister à un débat/forum sur la place de la femme dans la société animée par les professionnels des dispositifs DIANE et ANNA. \nInfos : 03 21 89 60 60
URL:https://etaples-sur-mer.fr/evenement/mobilisons-nous-contre-les-violences-faites-aux-femmes-theatre-et-debat/
LOCATION:Salle de la Corderie
CATEGORIES:Animations,Sensibilisation,Theatre
ATTACH;FMTTYPE=image/jpeg:https://etaples-sur-mer.fr/wp-content/uploads/2025/11/Theatre-scaled.jpg
END:VEVENT
END:VCALENDAR