BEGIN:VCALENDAR
VERSION:2.0
PRODID:-//Ville d&#039;Etaples sur mer - ECPv6.15.13.1//NONSGML v1.0//EN
CALSCALE:GREGORIAN
METHOD:PUBLISH
X-WR-CALNAME:Ville d&#039;Etaples sur mer
X-ORIGINAL-URL:https://etaples-sur-mer.fr
X-WR-CALDESC:Évènements pour Ville d&#039;Etaples sur mer
REFRESH-INTERVAL;VALUE=DURATION:PT1H
X-Robots-Tag:noindex
X-PUBLISHED-TTL:PT1H
BEGIN:VTIMEZONE
TZID:Europe/Paris
BEGIN:DAYLIGHT
TZOFFSETFROM:+0100
TZOFFSETTO:+0200
TZNAME:CEST
DTSTART:20240331T010000
END:DAYLIGHT
BEGIN:STANDARD
TZOFFSETFROM:+0200
TZOFFSETTO:+0100
TZNAME:CET
DTSTART:20241027T010000
END:STANDARD
BEGIN:DAYLIGHT
TZOFFSETFROM:+0100
TZOFFSETTO:+0200
TZNAME:CEST
DTSTART:20250330T010000
END:DAYLIGHT
BEGIN:STANDARD
TZOFFSETFROM:+0200
TZOFFSETTO:+0100
TZNAME:CET
DTSTART:20251026T010000
END:STANDARD
BEGIN:DAYLIGHT
TZOFFSETFROM:+0100
TZOFFSETTO:+0200
TZNAME:CEST
DTSTART:20260329T010000
END:DAYLIGHT
BEGIN:STANDARD
TZOFFSETFROM:+0200
TZOFFSETTO:+0100
TZNAME:CET
DTSTART:20261025T010000
END:STANDARD
END:VTIMEZONE
BEGIN:VEVENT
DTSTART;TZID=Europe/Paris:20250927T203000
DTEND;TZID=Europe/Paris:20250927T230000
DTSTAMP:20260423T014156
CREATED:20250618T125155Z
LAST-MODIFIED:20250701T152842Z
UID:225216-1759005000-1759014000@etaples-sur-mer.fr
SUMMARY:THÉÂTRE : MÊME PAS MORT
DESCRIPTION:Par « la troupe G3T » de Cayeux sur Mer \nPour la première fois\, la ville d’Etaples-sur-mer accueille la troupe « G3T » (Groupe Théâtral Tout Terrain) de Cayeux-sur-mer. La troupe amateure a vu officiellement le jour en 2012 après avoir gravité dans un premier temps autour de la compagnie Passe Muraille\, lors des Nocturnes qu’elle organisait à Cayeux-sur-mer. \nDepuis 3 ans\, sous la présidence de Patrice Debeurme\, elle multiplie les représentations et joue hors des limites de la ville. Après « Psychodrome » de Gilles Grenouillet\, « Avarice » de Victor Haim\, les comédiens interpréteront la pièce de Jean-Pierre Martinez « Même pas mort ». \nDans un lit d’hôpital\, un homme qui a perdu la mémoire à la suite d’une opération de la dernière chance\, voit défiler toutes les femmes qu’il a oubliées. L’une d’elles serait-elle la femme de sa vie ? Les rires seront au rendez-vous de cette comédie romantique. Durée 1h10.  \nTarif : 8 € / adulte\, 5 € /12 à 16 ans\, gratuit/moins de 12 ans  \nInfos : P.Debeurme – 06 69 99 77 49
URL:https://etaples-sur-mer.fr/evenement/theatre-meme-pas-mort/
LOCATION:Salle de la Corderie
CATEGORIES:Spectacle,Theatre
ATTACH;FMTTYPE=image/jpeg:https://etaples-sur-mer.fr/wp-content/uploads/2025/06/Affiche-theatre-meme-pas-mort-copie-Copier.jpg
END:VEVENT
END:VCALENDAR