BEGIN:VCALENDAR
VERSION:2.0
PRODID:-//Ville d&#039;Etaples sur mer - ECPv6.15.13.1//NONSGML v1.0//EN
CALSCALE:GREGORIAN
METHOD:PUBLISH
X-ORIGINAL-URL:https://etaples-sur-mer.fr
X-WR-CALDESC:Évènements pour Ville d&#039;Etaples sur mer
REFRESH-INTERVAL;VALUE=DURATION:PT1H
X-Robots-Tag:noindex
X-PUBLISHED-TTL:PT1H
BEGIN:VTIMEZONE
TZID:Europe/Paris
BEGIN:DAYLIGHT
TZOFFSETFROM:+0100
TZOFFSETTO:+0200
TZNAME:CEST
DTSTART:20240331T010000
END:DAYLIGHT
BEGIN:STANDARD
TZOFFSETFROM:+0200
TZOFFSETTO:+0100
TZNAME:CET
DTSTART:20241027T010000
END:STANDARD
BEGIN:DAYLIGHT
TZOFFSETFROM:+0100
TZOFFSETTO:+0200
TZNAME:CEST
DTSTART:20250330T010000
END:DAYLIGHT
BEGIN:STANDARD
TZOFFSETFROM:+0200
TZOFFSETTO:+0100
TZNAME:CET
DTSTART:20251026T010000
END:STANDARD
BEGIN:DAYLIGHT
TZOFFSETFROM:+0100
TZOFFSETTO:+0200
TZNAME:CEST
DTSTART:20260329T010000
END:DAYLIGHT
BEGIN:STANDARD
TZOFFSETFROM:+0200
TZOFFSETTO:+0100
TZNAME:CET
DTSTART:20261025T010000
END:STANDARD
END:VTIMEZONE
BEGIN:VEVENT
DTSTART;TZID=Europe/Paris:20250315T203000
DTEND;TZID=Europe/Paris:20250315T220000
DTSTAMP:20260423T112044
CREATED:20241126T131944Z
LAST-MODIFIED:20241209T130553Z
UID:213134-1742070600-1742076000@etaples-sur-mer.fr
SUMMARY:Théâtre : « la roue tourne »
DESCRIPTION:Par la troupe « Mamzelle spectacles » \nSamedi 15 mars – salle de la Corderie à 20h30 \nUne comédie de Jérôme Paquatte\, Jean-Marc Keller et Carine Samson \nMise en scène de Jérôme Paquatte \nComme beaucoup de femmes en 1978\, Françoise aimerait changer de vie. Entourée d’un mari trop calme et d’un voisin trop entreprenant\, elle va devoir faire preuve d’imagination pour se sortir de son quotidien de ménagère. Replongez dans l’univers des années 70 pour être témoin de l’émancipation d’une femme « au foyer » dans une comédie pleine de rebondissements ! Au programme\, de l’amour\, des secrets et une soupe pas suffisamment salée ! \nTarifs : 12€/ adulte – 8 € /enfant \nhttps://www.billetreduc.com/364121/evt.htm \nInfos : Carine Samson – 06 72 80 70 85
URL:https://etaples-sur-mer.fr/evenement/theatre-la-roue-tourne/
LOCATION:Salle de la Corderie
CATEGORIES:Theatre
ATTACH;FMTTYPE=image/jpeg:https://etaples-sur-mer.fr/wp-content/uploads/2024/11/Affiche-La-Roue-tourne-Mamzelle-15-mars.jpg
ORGANIZER;CN="Service %C3%A9v%C3%A9nementiel":MAILTO:communication@etaples-sur-mer.net
END:VEVENT
END:VCALENDAR