BEGIN:VCALENDAR
VERSION:2.0
PRODID:-//Ville d&#039;Etaples sur mer - ECPv6.15.13.1//NONSGML v1.0//EN
CALSCALE:GREGORIAN
METHOD:PUBLISH
X-ORIGINAL-URL:https://etaples-sur-mer.fr
X-WR-CALDESC:Évènements pour Ville d&#039;Etaples sur mer
REFRESH-INTERVAL;VALUE=DURATION:PT1H
X-Robots-Tag:noindex
X-PUBLISHED-TTL:PT1H
BEGIN:VTIMEZONE
TZID:Europe/Paris
BEGIN:DAYLIGHT
TZOFFSETFROM:+0100
TZOFFSETTO:+0200
TZNAME:CEST
DTSTART:20250330T010000
END:DAYLIGHT
BEGIN:STANDARD
TZOFFSETFROM:+0200
TZOFFSETTO:+0100
TZNAME:CET
DTSTART:20251026T010000
END:STANDARD
BEGIN:DAYLIGHT
TZOFFSETFROM:+0100
TZOFFSETTO:+0200
TZNAME:CEST
DTSTART:20260329T010000
END:DAYLIGHT
BEGIN:STANDARD
TZOFFSETFROM:+0200
TZOFFSETTO:+0100
TZNAME:CET
DTSTART:20261025T010000
END:STANDARD
BEGIN:DAYLIGHT
TZOFFSETFROM:+0100
TZOFFSETTO:+0200
TZNAME:CEST
DTSTART:20270328T010000
END:DAYLIGHT
BEGIN:STANDARD
TZOFFSETFROM:+0200
TZOFFSETTO:+0100
TZNAME:CET
DTSTART:20271031T010000
END:STANDARD
END:VTIMEZONE
BEGIN:VEVENT
DTSTART;VALUE=DATE:20260425
DTEND;VALUE=DATE:20260426
DTSTAMP:20260421T015558
CREATED:20260126T095050Z
LAST-MODIFIED:20260126T105804Z
UID:239692-1777075200-1777161599@etaples-sur-mer.fr
SUMMARY:« Tir du Roy\, du Roitelet\, du Dauphin »
DESCRIPTION:Par l’association « La Flèche Etaploise » \nSamedi 25 avril – toute la journée – salle du Tir à l’Arc – Complexe sportif Jean Bigot \nJeux d’arc\, l’abat de l’oiseau : celui sui abat l’oiseau dans le temps imparti\, devient pour l’année le Roy\, le Roitelet\, le Dauphin… \nInfos : H.-J. Caron – 06 47 58 23 73
URL:https://etaples-sur-mer.fr/evenement/tir-du-roy-du-roitelet-du-dauphin/
LOCATION:salle de tir a l’arc\, 62630\, France
CATEGORIES:Animations,Associations,Sport
ATTACH;FMTTYPE=image/jpeg:https://etaples-sur-mer.fr/wp-content/uploads/2026/01/tir-a-larc-scaled.jpg
END:VEVENT
END:VCALENDAR