BEGIN:VCALENDAR
VERSION:2.0
PRODID:-//Ville d&#039;Etaples sur mer - ECPv6.15.13.1//NONSGML v1.0//EN
CALSCALE:GREGORIAN
METHOD:PUBLISH
X-ORIGINAL-URL:https://etaples-sur-mer.fr
X-WR-CALDESC:Évènements pour Ville d&#039;Etaples sur mer
REFRESH-INTERVAL;VALUE=DURATION:PT1H
X-Robots-Tag:noindex
X-PUBLISHED-TTL:PT1H
BEGIN:VTIMEZONE
TZID:Europe/Paris
BEGIN:DAYLIGHT
TZOFFSETFROM:+0100
TZOFFSETTO:+0200
TZNAME:CEST
DTSTART:20250330T010000
END:DAYLIGHT
BEGIN:STANDARD
TZOFFSETFROM:+0200
TZOFFSETTO:+0100
TZNAME:CET
DTSTART:20251026T010000
END:STANDARD
BEGIN:DAYLIGHT
TZOFFSETFROM:+0100
TZOFFSETTO:+0200
TZNAME:CEST
DTSTART:20260329T010000
END:DAYLIGHT
BEGIN:STANDARD
TZOFFSETFROM:+0200
TZOFFSETTO:+0100
TZNAME:CET
DTSTART:20261025T010000
END:STANDARD
BEGIN:DAYLIGHT
TZOFFSETFROM:+0100
TZOFFSETTO:+0200
TZNAME:CEST
DTSTART:20270328T010000
END:DAYLIGHT
BEGIN:STANDARD
TZOFFSETFROM:+0200
TZOFFSETTO:+0100
TZNAME:CET
DTSTART:20271031T010000
END:STANDARD
END:VTIMEZONE
BEGIN:VEVENT
DTSTART;TZID=Europe/Paris:20260307T190000
DTEND;TZID=Europe/Paris:20260307T190000
DTSTAMP:20260421T015037
CREATED:20251230T151306Z
LAST-MODIFIED:20251230T151346Z
UID:238728-1772910000-1772910000@etaples-sur-mer.fr
SUMMARY:LOTO
DESCRIPTION:LotoPar « l’AS Etaples Football »Samedi 7 mars – Club House Stade F GuilluyOuverture des portes à 19h. Début du jeu à 20h. Bons d’achats à gagner.Restauration et buvette sur place.Tarifs : 20 € les 6 grilles\, 12 € les 3 grilles et 5 € la grilleInfos : 03 61 49 49 89
URL:https://etaples-sur-mer.fr/evenement/loto-14/
LOCATION:club house Stade François Guilluy\, rue de Camiers\, etaples\, 62630\, France
CATEGORIES:Associations,Loto,Sport
ATTACH;FMTTYPE=image/jpeg:https://etaples-sur-mer.fr/wp-content/uploads/2025/07/Loto-1.jpg
END:VEVENT
END:VCALENDAR