BEGIN:VCALENDAR
VERSION:2.0
PRODID:-//Ville d&#039;Etaples sur mer - ECPv6.15.13.1//NONSGML v1.0//EN
CALSCALE:GREGORIAN
METHOD:PUBLISH
X-ORIGINAL-URL:https://etaples-sur-mer.fr
X-WR-CALDESC:Évènements pour Ville d&#039;Etaples sur mer
REFRESH-INTERVAL;VALUE=DURATION:PT1H
X-Robots-Tag:noindex
X-PUBLISHED-TTL:PT1H
BEGIN:VTIMEZONE
TZID:Europe/Paris
BEGIN:DAYLIGHT
TZOFFSETFROM:+0100
TZOFFSETTO:+0200
TZNAME:CEST
DTSTART:20250330T010000
END:DAYLIGHT
BEGIN:STANDARD
TZOFFSETFROM:+0200
TZOFFSETTO:+0100
TZNAME:CET
DTSTART:20251026T010000
END:STANDARD
BEGIN:DAYLIGHT
TZOFFSETFROM:+0100
TZOFFSETTO:+0200
TZNAME:CEST
DTSTART:20260329T010000
END:DAYLIGHT
BEGIN:STANDARD
TZOFFSETFROM:+0200
TZOFFSETTO:+0100
TZNAME:CET
DTSTART:20261025T010000
END:STANDARD
BEGIN:DAYLIGHT
TZOFFSETFROM:+0100
TZOFFSETTO:+0200
TZNAME:CEST
DTSTART:20270328T010000
END:DAYLIGHT
BEGIN:STANDARD
TZOFFSETFROM:+0200
TZOFFSETTO:+0100
TZNAME:CET
DTSTART:20271031T010000
END:STANDARD
END:VTIMEZONE
BEGIN:VEVENT
DTSTART;TZID=Europe/Paris:20260207T190000
DTEND;TZID=Europe/Paris:20260207T223000
DTSTAMP:20260421T033457
CREATED:20260202T133707Z
LAST-MODIFIED:20260202T133707Z
UID:239931-1770490800-1770503400@etaples-sur-mer.fr
SUMMARY:15ème MARATHON DE FITNESS
DESCRIPTION:Par l’association « Culture Danse »\nAccueil des participants à 19h\nTarifs : 5 € pour les adhérents / 10 € personnes extérieures\nRenseignements : M. VAMBRE – 06 10 32 93 73
URL:https://etaples-sur-mer.fr/evenement/15eme-marathon-de-fitness/
LOCATION:Salle Laura Flessel\, boulevard Lefèvre\, Etaples\, 62630\, France
CATEGORIES:Animations,danse,Sport
ATTACH;FMTTYPE=image/jpeg:https://etaples-sur-mer.fr/wp-content/uploads/2026/02/2026-affiche.jpg
END:VEVENT
END:VCALENDAR