BEGIN:VCALENDAR
VERSION:2.0
PRODID:-//Ville d&#039;Etaples sur mer - ECPv6.15.13.1//NONSGML v1.0//EN
CALSCALE:GREGORIAN
METHOD:PUBLISH
X-ORIGINAL-URL:https://etaples-sur-mer.fr
X-WR-CALDESC:Évènements pour Ville d&#039;Etaples sur mer
REFRESH-INTERVAL;VALUE=DURATION:PT1H
X-Robots-Tag:noindex
X-PUBLISHED-TTL:PT1H
BEGIN:VTIMEZONE
TZID:Europe/Paris
BEGIN:DAYLIGHT
TZOFFSETFROM:+0100
TZOFFSETTO:+0200
TZNAME:CEST
DTSTART:20250330T010000
END:DAYLIGHT
BEGIN:STANDARD
TZOFFSETFROM:+0200
TZOFFSETTO:+0100
TZNAME:CET
DTSTART:20251026T010000
END:STANDARD
BEGIN:DAYLIGHT
TZOFFSETFROM:+0100
TZOFFSETTO:+0200
TZNAME:CEST
DTSTART:20260329T010000
END:DAYLIGHT
BEGIN:STANDARD
TZOFFSETFROM:+0200
TZOFFSETTO:+0100
TZNAME:CET
DTSTART:20261025T010000
END:STANDARD
BEGIN:DAYLIGHT
TZOFFSETFROM:+0100
TZOFFSETTO:+0200
TZNAME:CEST
DTSTART:20270328T010000
END:DAYLIGHT
BEGIN:STANDARD
TZOFFSETFROM:+0200
TZOFFSETTO:+0100
TZNAME:CET
DTSTART:20271031T010000
END:STANDARD
END:VTIMEZONE
BEGIN:VEVENT
DTSTART;TZID=Europe/Paris:20260117T083000
DTEND;TZID=Europe/Paris:20260117T170000
DTSTAMP:20260421T051150
CREATED:20251217T140159Z
LAST-MODIFIED:20251217T140237Z
UID:238476-1768638600-1768669200@etaples-sur-mer.fr
SUMMARY:CONCOURS CANIN IGP
DESCRIPTION:Par le Club d’éducation canineTerrain des BergeriesL’IGP est un sport canin qui teste les capacités de pistage\, d’obéissance et de protection d’un chien\, et évalue si un chien possède les traits et caractéristiques appropriés d’un bon chien de travail (pistage\, obéissance et protection).Renseignements :Rohan DUHAMEL – 06 66 46 59 19 \n 
URL:https://etaples-sur-mer.fr/evenement/concours-canin-igp-3/
LOCATION:Terrain des Bergeries
CATEGORIES:Associations,Sport
ATTACH;FMTTYPE=image/jpeg:https://etaples-sur-mer.fr/wp-content/uploads/2025/12/affiche-concours-igp-du-17-et-18-01-26-copie.jpg
END:VEVENT
BEGIN:VEVENT
DTSTART;TZID=Europe/Paris:20260117T100000
DTEND;TZID=Europe/Paris:20260117T160000
DTSTAMP:20260421T051150
CREATED:20251217T140606Z
LAST-MODIFIED:20251217T141347Z
UID:238479-1768644000-1768665600@etaples-sur-mer.fr
SUMMARY:TOURNOI DES P'TITS MOUSSES
DESCRIPTION:Par l’A.S.E. JudoSamedi 17 janvier – Dojo Matthieu BatailleCompétition de judo amicale pour les jeunes (6-12 ans) visant à leur faire découvrir l’esprit de la compétition dans une ambiance conviviale et sécurisée.Renseignements : 06 63 54 26 07 \n 
URL:https://etaples-sur-mer.fr/evenement/tournoi-des-ptits-mousses/
LOCATION:Dojo Mathieu Bataille\, Boulevard Bigot Descelers\, Etaples\, France
CATEGORIES:Associations,Sport
ATTACH;FMTTYPE=image/jpeg:https://etaples-sur-mer.fr/wp-content/uploads/2025/12/599507304_892506273151833_2504617747988293773_n.jpg
END:VEVENT
END:VCALENDAR