BEGIN:VCALENDAR
VERSION:2.0
PRODID:-//Ville d&#039;Etaples sur mer - ECPv6.15.13.1//NONSGML v1.0//EN
CALSCALE:GREGORIAN
METHOD:PUBLISH
X-ORIGINAL-URL:https://etaples-sur-mer.fr
X-WR-CALDESC:Évènements pour Ville d&#039;Etaples sur mer
REFRESH-INTERVAL;VALUE=DURATION:PT1H
X-Robots-Tag:noindex
X-PUBLISHED-TTL:PT1H
BEGIN:VTIMEZONE
TZID:Europe/Paris
BEGIN:DAYLIGHT
TZOFFSETFROM:+0100
TZOFFSETTO:+0200
TZNAME:CEST
DTSTART:20240331T010000
END:DAYLIGHT
BEGIN:STANDARD
TZOFFSETFROM:+0200
TZOFFSETTO:+0100
TZNAME:CET
DTSTART:20241027T010000
END:STANDARD
BEGIN:DAYLIGHT
TZOFFSETFROM:+0100
TZOFFSETTO:+0200
TZNAME:CEST
DTSTART:20250330T010000
END:DAYLIGHT
BEGIN:STANDARD
TZOFFSETFROM:+0200
TZOFFSETTO:+0100
TZNAME:CET
DTSTART:20251026T010000
END:STANDARD
BEGIN:DAYLIGHT
TZOFFSETFROM:+0100
TZOFFSETTO:+0200
TZNAME:CEST
DTSTART:20260329T010000
END:DAYLIGHT
BEGIN:STANDARD
TZOFFSETFROM:+0200
TZOFFSETTO:+0100
TZNAME:CET
DTSTART:20261025T010000
END:STANDARD
END:VTIMEZONE
BEGIN:VEVENT
DTSTART;TZID=Europe/Paris:20251206T080000
DTEND;TZID=Europe/Paris:20251207T170000
DTSTAMP:20260421T065949
CREATED:20250728T115443Z
LAST-MODIFIED:20250728T115443Z
UID:229526-1765008000-1765126800@etaples-sur-mer.fr
SUMMARY:Concours sélectif aux championnats de France.
DESCRIPTION:Par l’association « la flèche étaploise »\nSamedi 6 et dimanche 7 décembre – salle du Tir à l’arc\nToutes les catégories ; 6 € les jeunes et 9 € les adultes\nConcours en 2 x18m sélectif aux championnats de France pour tous archers de toutes catégories\nInfos : H.J. Caron – 06 47 58 23 73
URL:https://etaples-sur-mer.fr/evenement/concours-selectif-aux-championnats-de-france/
LOCATION:Salle du tir à l’arc
CATEGORIES:Sport
ATTACH;FMTTYPE=image/jpeg:https://etaples-sur-mer.fr/wp-content/uploads/2021/12/tir-a-larc-etaples.jpg
END:VEVENT
BEGIN:VEVENT
DTSTART;TZID=Europe/Paris:20251207T100000
DTEND;TZID=Europe/Paris:20251207T120000
DTSTAMP:20260421T065949
CREATED:20250728T125925Z
LAST-MODIFIED:20251121T081204Z
UID:229679-1765101600-1765108800@etaples-sur-mer.fr
SUMMARY:Gym téléthon
DESCRIPTION:Dimanche 7 décembre de 10h à 12h – salle Laura Flessel\nTarif : 5€ l’heure\nDeux heures de gym fitness au profit du Téléthon.\nRENSEIGNEMENTS : M Vambre – 06 10 32 93 73
URL:https://etaples-sur-mer.fr/evenement/gym-telethon/
LOCATION:Salle Laura Flessel\, boulevard Lefèvre\, Etaples\, 62630\, France
CATEGORIES:Sport,Téléthon
ATTACH;FMTTYPE=image/jpeg:https://etaples-sur-mer.fr/wp-content/uploads/2024/11/atelier-eveil-gymnique-enfant.jpg
ORGANIZER;CN="Culture Danse":MAILTO:culturedanse@hotmail.fr
END:VEVENT
END:VCALENDAR