BEGIN:VCALENDAR
VERSION:2.0
PRODID:-//Ville d&#039;Etaples sur mer - ECPv6.15.13.1//NONSGML v1.0//EN
CALSCALE:GREGORIAN
METHOD:PUBLISH
X-WR-CALNAME:Ville d&#039;Etaples sur mer
X-ORIGINAL-URL:https://etaples-sur-mer.fr
X-WR-CALDESC:Évènements pour Ville d&#039;Etaples sur mer
REFRESH-INTERVAL;VALUE=DURATION:PT1H
X-Robots-Tag:noindex
X-PUBLISHED-TTL:PT1H
BEGIN:VTIMEZONE
TZID:Europe/Paris
BEGIN:DAYLIGHT
TZOFFSETFROM:+0100
TZOFFSETTO:+0200
TZNAME:CEST
DTSTART:20240331T010000
END:DAYLIGHT
BEGIN:STANDARD
TZOFFSETFROM:+0200
TZOFFSETTO:+0100
TZNAME:CET
DTSTART:20241027T010000
END:STANDARD
BEGIN:DAYLIGHT
TZOFFSETFROM:+0100
TZOFFSETTO:+0200
TZNAME:CEST
DTSTART:20250330T010000
END:DAYLIGHT
BEGIN:STANDARD
TZOFFSETFROM:+0200
TZOFFSETTO:+0100
TZNAME:CET
DTSTART:20251026T010000
END:STANDARD
BEGIN:DAYLIGHT
TZOFFSETFROM:+0100
TZOFFSETTO:+0200
TZNAME:CEST
DTSTART:20260329T010000
END:DAYLIGHT
BEGIN:STANDARD
TZOFFSETFROM:+0200
TZOFFSETTO:+0100
TZNAME:CET
DTSTART:20261025T010000
END:STANDARD
END:VTIMEZONE
BEGIN:VEVENT
DTSTART;TZID=Europe/Paris:20251205T200000
DTEND;TZID=Europe/Paris:20251206T170000
DTSTAMP:20260421T065743
CREATED:20251120T155728Z
LAST-MODIFIED:20251120T155728Z
UID:236350-1764964800-1765040400@etaples-sur-mer.fr
SUMMARY:LES 24H SPORTIVES
DESCRIPTION:Par l’amicale des sapeurs-pompiersPiscine intercommunaleEncadrés par les bénévoles et 2 maîtres-nageurs\, participez à l’aquathlon proposé par les sapeurs-pompiers d’Étaples-sur-mer. Si vous n’êtes pas à l’aise dans l’eau\, profitez d’un vélo d’appartement\, d’un vélo elliptique ou d’un rameur et contribuez\, selon votre niveau\, à cette belle initiative.Animation musicale et barbecue sur place.RENSEIGNEMENTS : Rémy POUCHENAUD – 06 59 12 84 68
URL:https://etaples-sur-mer.fr/evenement/les-24h-sportives/
LOCATION:Piscine intercommunale\, Avenue des Oyats\, etaples\, 62630\, France
CATEGORIES:Associations,Sport,Téléthon
ATTACH;FMTTYPE=image/jpeg:https://etaples-sur-mer.fr/wp-content/uploads/2025/11/affiche-24h-pompiers-etaples-copie-scaled.jpg
END:VEVENT
BEGIN:VEVENT
DTSTART;TZID=Europe/Paris:20251206T080000
DTEND;TZID=Europe/Paris:20251207T170000
DTSTAMP:20260421T065743
CREATED:20250728T115443Z
LAST-MODIFIED:20250728T115443Z
UID:229526-1765008000-1765126800@etaples-sur-mer.fr
SUMMARY:Concours sélectif aux championnats de France.
DESCRIPTION:Par l’association « la flèche étaploise »\nSamedi 6 et dimanche 7 décembre – salle du Tir à l’arc\nToutes les catégories ; 6 € les jeunes et 9 € les adultes\nConcours en 2 x18m sélectif aux championnats de France pour tous archers de toutes catégories\nInfos : H.J. Caron – 06 47 58 23 73
URL:https://etaples-sur-mer.fr/evenement/concours-selectif-aux-championnats-de-france/
LOCATION:Salle du tir à l’arc
CATEGORIES:Sport
ATTACH;FMTTYPE=image/jpeg:https://etaples-sur-mer.fr/wp-content/uploads/2021/12/tir-a-larc-etaples.jpg
END:VEVENT
BEGIN:VEVENT
DTSTART;TZID=Europe/Paris:20251206T090000
DTEND;TZID=Europe/Paris:20251206T120000
DTSTAMP:20260421T065743
CREATED:20251121T075845Z
LAST-MODIFIED:20251121T075845Z
UID:236359-1765011600-1765022400@etaples-sur-mer.fr
SUMMARY:IRON THON
DESCRIPTION:Par l’AS Étaples triathlonComplexe sportif Jean BigotL’association\, vous propose d’aller au bout de vous-même et de découvrir le parcours du triathlon d’Étaples-sur-mer. Prêt à relever le défi ?!Toutes les personnes sont les bienvenues et peuvent faire une partie ou la totalité de l’épreuve.RENSEIGNEMENTS : Julien COMMON – 06 40 16 67 33
URL:https://etaples-sur-mer.fr/evenement/iron-thon/
LOCATION:Complexe Sportif Jean Bigot\, Avenue Oyats\, Etaples sur Mer\, 62630\, France
CATEGORIES:Sport,Téléthon
ATTACH;FMTTYPE=image/jpeg:https://etaples-sur-mer.fr/wp-content/uploads/2025/11/logo-telethon-jpg.jpg
END:VEVENT
BEGIN:VEVENT
DTSTART;TZID=Europe/Paris:20251206T170000
DTEND;TZID=Europe/Paris:20251206T220000
DTSTAMP:20260421T065743
CREATED:20251121T080612Z
LAST-MODIFIED:20251121T080659Z
UID:236361-1765040400-1765058400@etaples-sur-mer.fr
SUMMARY:MATCH SÉNIORS HV VS VETERANS ( ANCIENS HV )
DESCRIPTION:Par l’AF Haute villeSamedi 6 décembre de 17h à 22h – Stade Daniel MartinL’association vous propose un choc au sommet entre les séniors et les vétérans du club.RENSEIGNEMENTS: Steve CAFFIER – 06 11 70 98 43
URL:https://etaples-sur-mer.fr/evenement/match-seniors-hv-vs-veterans-anviens-hv/
LOCATION:stade Daniel Martin
CATEGORIES:Sport,Téléthon
ATTACH;FMTTYPE=image/jpeg:https://etaples-sur-mer.fr/wp-content/uploads/2025/11/logo-telethon-jpg.jpg
END:VEVENT
END:VCALENDAR