BEGIN:VCALENDAR
VERSION:2.0
PRODID:-//Ville d&#039;Etaples sur mer - ECPv6.15.13.1//NONSGML v1.0//EN
CALSCALE:GREGORIAN
METHOD:PUBLISH
X-ORIGINAL-URL:https://etaples-sur-mer.fr
X-WR-CALDESC:Évènements pour Ville d&#039;Etaples sur mer
REFRESH-INTERVAL;VALUE=DURATION:PT1H
X-Robots-Tag:noindex
X-PUBLISHED-TTL:PT1H
BEGIN:VTIMEZONE
TZID:Europe/Paris
BEGIN:DAYLIGHT
TZOFFSETFROM:+0100
TZOFFSETTO:+0200
TZNAME:CEST
DTSTART:20240331T010000
END:DAYLIGHT
BEGIN:STANDARD
TZOFFSETFROM:+0200
TZOFFSETTO:+0100
TZNAME:CET
DTSTART:20241027T010000
END:STANDARD
BEGIN:DAYLIGHT
TZOFFSETFROM:+0100
TZOFFSETTO:+0200
TZNAME:CEST
DTSTART:20250330T010000
END:DAYLIGHT
BEGIN:STANDARD
TZOFFSETFROM:+0200
TZOFFSETTO:+0100
TZNAME:CET
DTSTART:20251026T010000
END:STANDARD
BEGIN:DAYLIGHT
TZOFFSETFROM:+0100
TZOFFSETTO:+0200
TZNAME:CEST
DTSTART:20260329T010000
END:DAYLIGHT
BEGIN:STANDARD
TZOFFSETFROM:+0200
TZOFFSETTO:+0100
TZNAME:CET
DTSTART:20261025T010000
END:STANDARD
END:VTIMEZONE
BEGIN:VEVENT
DTSTART;TZID=Europe/Paris:20251029T150000
DTEND;TZID=Europe/Paris:20251029T170000
DTSTAMP:20260421T084256
CREATED:20251016T120205Z
LAST-MODIFIED:20251016T121005Z
UID:234604-1761750000-1761757200@etaples-sur-mer.fr
SUMMARY:MERCREDI FUN À LA PISCINE INTERCOMMUNALE D'ETAPLES-SUR-MER
DESCRIPTION:MERCREDI FUN \nViens t’éclater pour HALLOWEEN avec bouées\, ballons \net tapis flottants \n  \nle Mercredi 29 OCTOBRE de 15h à 17h \nà la Piscine intercommunale d’Etaples-sur-mer \n  \nENTRÉES : \nEnfant : 2.5 € \nAdulte : 3.5€ \nPass famille : 10€ \nRenseignement au 03.21.94.75.02 \nou piscineetaples@ca2bm.fr \nLes enfants de moins de 10 ans doivent être accompagnés \nRetrouvez nous sur ca2bm.fr
URL:https://etaples-sur-mer.fr/evenement/mercredi-fun-a-la-piscine-intercommunale-detaples-sur-mer/
LOCATION:Piscine intercommunale\, Avenue des Oyats\, etaples\, 62630\, France
CATEGORIES:Animations,Culture,Sport
ATTACH;FMTTYPE=image/jpeg:https://etaples-sur-mer.fr/wp-content/uploads/2025/10/halloween-2025-1-scaled.jpg
END:VEVENT
END:VCALENDAR