BEGIN:VCALENDAR
VERSION:2.0
PRODID:-//Ville d&#039;Etaples sur mer - ECPv6.15.13.1//NONSGML v1.0//EN
CALSCALE:GREGORIAN
METHOD:PUBLISH
X-WR-CALNAME:Ville d&#039;Etaples sur mer
X-ORIGINAL-URL:https://etaples-sur-mer.fr
X-WR-CALDESC:Évènements pour Ville d&#039;Etaples sur mer
REFRESH-INTERVAL;VALUE=DURATION:PT1H
X-Robots-Tag:noindex
X-PUBLISHED-TTL:PT1H
BEGIN:VTIMEZONE
TZID:Europe/Paris
BEGIN:DAYLIGHT
TZOFFSETFROM:+0100
TZOFFSETTO:+0200
TZNAME:CEST
DTSTART:20240331T010000
END:DAYLIGHT
BEGIN:STANDARD
TZOFFSETFROM:+0200
TZOFFSETTO:+0100
TZNAME:CET
DTSTART:20241027T010000
END:STANDARD
BEGIN:DAYLIGHT
TZOFFSETFROM:+0100
TZOFFSETTO:+0200
TZNAME:CEST
DTSTART:20250330T010000
END:DAYLIGHT
BEGIN:STANDARD
TZOFFSETFROM:+0200
TZOFFSETTO:+0100
TZNAME:CET
DTSTART:20251026T010000
END:STANDARD
BEGIN:DAYLIGHT
TZOFFSETFROM:+0100
TZOFFSETTO:+0200
TZNAME:CEST
DTSTART:20260329T010000
END:DAYLIGHT
BEGIN:STANDARD
TZOFFSETFROM:+0200
TZOFFSETTO:+0100
TZNAME:CET
DTSTART:20261025T010000
END:STANDARD
END:VTIMEZONE
BEGIN:VEVENT
DTSTART;TZID=Europe/Paris:20250621T080000
DTEND;TZID=Europe/Paris:20250622T170000
DTSTAMP:20260421T161023
CREATED:20241126T092308Z
LAST-MODIFIED:20241126T092308Z
UID:212987-1750492800-1750611600@etaples-sur-mer.fr
SUMMARY:Challenge André Codron
DESCRIPTION:Tournoi U12 – U13. Buvette et restauration sur place. \nInfos : F. Mathias – 03 61 49 49 89
URL:https://etaples-sur-mer.fr/evenement/challenge-andre-codron/
LOCATION:stade Francois Guilluy\, 62630\, France
CATEGORIES:Associations,Sport
ATTACH;FMTTYPE=image/jpeg:https://etaples-sur-mer.fr/wp-content/uploads/2024/11/IMG_6353-Copier-Copier.jpg
END:VEVENT
BEGIN:VEVENT
DTSTART;TZID=Europe/Paris:20250622T070000
DTEND;TZID=Europe/Paris:20250622T133000
DTSTAMP:20260421T161023
CREATED:20241126T093850Z
LAST-MODIFIED:20241126T093904Z
UID:213013-1750575600-1750599000@etaples-sur-mer.fr
SUMMARY:40ème balade étaploise
DESCRIPTION:– Capitainerie du port \nRandonnée cyclotouriste dans le montreuillois sur 3 parcours fléchés de 30\, 60 et 90 km. \nTarifs : 3€/ licencié FFCT – 5 €/ non licenciés – gratuit /moins de 18 ans. \nInfos : C. Sauvage – 06 76 44 10 67
URL:https://etaples-sur-mer.fr/evenement/40eme-balade-etaploise/
LOCATION:Capitainerie du port
CATEGORIES:Sport
ATTACH;FMTTYPE=image/jpeg:https://etaples-sur-mer.fr/wp-content/uploads/2024/11/etaples_cyclotourisme-527x300-1.jpg
END:VEVENT
BEGIN:VEVENT
DTSTART;TZID=Europe/Paris:20250622T080000
DTEND;TZID=Europe/Paris:20250622T170000
DTSTAMP:20260421T161023
CREATED:20241126T110222Z
LAST-MODIFIED:20250620T084936Z
UID:213110-1750579200-1750611600@etaples-sur-mer.fr
SUMMARY:Tournoi des Défunts
DESCRIPTION:Tarif : 80 € par équipes \nTournoi de sixte : 8 joueurs et 3 remplaçants \nInfos : G. Sailly – 06 58 56 06 71
URL:https://etaples-sur-mer.fr/evenement/tournoi-titeuf-3/
LOCATION:Stade « Daniel Martin »\, Avenue de rocquigny\, Etaples\, 62630\, France
CATEGORIES:Associations,Sport
ATTACH;FMTTYPE=image/jpeg:https://etaples-sur-mer.fr/wp-content/uploads/2024/11/IMG_6353-Copier-Copier-1.jpg
END:VEVENT
END:VCALENDAR