BEGIN:VCALENDAR
VERSION:2.0
PRODID:-//Ville d&#039;Etaples sur mer - ECPv6.15.13.1//NONSGML v1.0//EN
CALSCALE:GREGORIAN
METHOD:PUBLISH
X-WR-CALNAME:Ville d&#039;Etaples sur mer
X-ORIGINAL-URL:https://etaples-sur-mer.fr
X-WR-CALDESC:Évènements pour Ville d&#039;Etaples sur mer
REFRESH-INTERVAL;VALUE=DURATION:PT1H
X-Robots-Tag:noindex
X-PUBLISHED-TTL:PT1H
BEGIN:VTIMEZONE
TZID:Europe/Paris
BEGIN:DAYLIGHT
TZOFFSETFROM:+0100
TZOFFSETTO:+0200
TZNAME:CEST
DTSTART:20240331T010000
END:DAYLIGHT
BEGIN:STANDARD
TZOFFSETFROM:+0200
TZOFFSETTO:+0100
TZNAME:CET
DTSTART:20241027T010000
END:STANDARD
BEGIN:DAYLIGHT
TZOFFSETFROM:+0100
TZOFFSETTO:+0200
TZNAME:CEST
DTSTART:20250330T010000
END:DAYLIGHT
BEGIN:STANDARD
TZOFFSETFROM:+0200
TZOFFSETTO:+0100
TZNAME:CET
DTSTART:20251026T010000
END:STANDARD
BEGIN:DAYLIGHT
TZOFFSETFROM:+0100
TZOFFSETTO:+0200
TZNAME:CEST
DTSTART:20260329T010000
END:DAYLIGHT
BEGIN:STANDARD
TZOFFSETFROM:+0200
TZOFFSETTO:+0100
TZNAME:CET
DTSTART:20261025T010000
END:STANDARD
END:VTIMEZONE
BEGIN:VEVENT
DTSTART;VALUE=DATE:20250614
DTEND;VALUE=DATE:20250616
DTSTAMP:20260421T160931
CREATED:20250425T070609Z
LAST-MODIFIED:20250425T070645Z
UID:221433-1749859200-1750031999@etaples-sur-mer.fr
SUMMARY:2ème édition RANDONNEZ !
DESCRIPTION:2ème édition RANDONNEZ !Le festival des randonnées en CA2BM14 et 15 juin 2025 à l’Hippodrome de Berck-sur-merGRATUIT – OUVERT À TOUS !Village animé & restaurationBoucles pédestres\, équestres\, cyclo/VTT\, marche nordique … \n 
URL:https://etaples-sur-mer.fr/evenement/2eme-edition-randonnez/
CATEGORIES:Animations,Culture,Sport
ATTACH;FMTTYPE=image/jpeg:https://etaples-sur-mer.fr/wp-content/uploads/2025/04/Affiche.jpg
END:VEVENT
BEGIN:VEVENT
DTSTART;TZID=Europe/Paris:20250614T143000
DTEND;TZID=Europe/Paris:20250614T183000
DTSTAMP:20260421T160931
CREATED:20250318T094431Z
LAST-MODIFIED:20250318T094431Z
UID:218729-1749911400-1749925800@etaples-sur-mer.fr
SUMMARY:CONCOURS DE PÉTANQUE
DESCRIPTION:Par l’ASE PétanqueTerrain de l’école bleueConcours fédéral en doublette forméeRenseignements : M. Gosselin – 06 42 00 34 91 ou asepetanque62630@gmail.com
URL:https://etaples-sur-mer.fr/evenement/concours-de-petanque-9/
LOCATION:Terrain de l’école bleue\, route de Boulogne\, etaples\, 62630\, France
CATEGORIES:Sport
ATTACH;FMTTYPE=image/jpeg:https://etaples-sur-mer.fr/wp-content/uploads/2025/03/elderly-friends-playing-petanque-scaled.jpg
END:VEVENT
END:VCALENDAR