BEGIN:VCALENDAR
VERSION:2.0
PRODID:-//Ville d&#039;Etaples sur mer - ECPv6.15.13.1//NONSGML v1.0//EN
CALSCALE:GREGORIAN
METHOD:PUBLISH
X-WR-CALNAME:Ville d&#039;Etaples sur mer
X-ORIGINAL-URL:https://etaples-sur-mer.fr
X-WR-CALDESC:Évènements pour Ville d&#039;Etaples sur mer
REFRESH-INTERVAL;VALUE=DURATION:PT1H
X-Robots-Tag:noindex
X-PUBLISHED-TTL:PT1H
BEGIN:VTIMEZONE
TZID:Europe/Paris
BEGIN:DAYLIGHT
TZOFFSETFROM:+0100
TZOFFSETTO:+0200
TZNAME:CEST
DTSTART:20240331T010000
END:DAYLIGHT
BEGIN:STANDARD
TZOFFSETFROM:+0200
TZOFFSETTO:+0100
TZNAME:CET
DTSTART:20241027T010000
END:STANDARD
BEGIN:DAYLIGHT
TZOFFSETFROM:+0100
TZOFFSETTO:+0200
TZNAME:CEST
DTSTART:20250330T010000
END:DAYLIGHT
BEGIN:STANDARD
TZOFFSETFROM:+0200
TZOFFSETTO:+0100
TZNAME:CET
DTSTART:20251026T010000
END:STANDARD
BEGIN:DAYLIGHT
TZOFFSETFROM:+0100
TZOFFSETTO:+0200
TZNAME:CEST
DTSTART:20260329T010000
END:DAYLIGHT
BEGIN:STANDARD
TZOFFSETFROM:+0200
TZOFFSETTO:+0100
TZNAME:CET
DTSTART:20261025T010000
END:STANDARD
END:VTIMEZONE
BEGIN:VEVENT
DTSTART;TZID=Europe/Paris:20250426T100000
DTEND;TZID=Europe/Paris:20250426T180000
DTSTAMP:20260421T190716
CREATED:20241126T105137Z
LAST-MODIFIED:20241126T105137Z
UID:213090-1745661600-1745690400@etaples-sur-mer.fr
SUMMARY:Tir du Roy\, du Roitelet\, du Dauphin
DESCRIPTION:Par l’association « La Flèche Etaploise » \nSamedi 26 avril à 10 heures – terrain extérieur du Tir à l’arc \nJeu d’arc\, jeu ancestral dans la tradition \nInfos : H.J. Caron – 06 47 58 23 73
URL:https://etaples-sur-mer.fr/evenement/tir-du-roy-du-roitelet-du-dauphin-2/
LOCATION:Complexe Sportif Jean Bigot\, Avenue Oyats\, Etaples sur Mer\, 62630\, France
CATEGORIES:Animations,Sport
ATTACH;FMTTYPE=image/jpeg:https://etaples-sur-mer.fr/wp-content/uploads/2024/11/young-female-archer-holding-his-bow-aiming-target-sport-recreation-concept-scaled.jpg
END:VEVENT
END:VCALENDAR