BEGIN:VCALENDAR
VERSION:2.0
PRODID:-//Ville d&#039;Etaples sur mer - ECPv6.15.13.1//NONSGML v1.0//EN
CALSCALE:GREGORIAN
METHOD:PUBLISH
X-WR-CALNAME:Ville d&#039;Etaples sur mer
X-ORIGINAL-URL:https://etaples-sur-mer.fr
X-WR-CALDESC:Évènements pour Ville d&#039;Etaples sur mer
REFRESH-INTERVAL;VALUE=DURATION:PT1H
X-Robots-Tag:noindex
X-PUBLISHED-TTL:PT1H
BEGIN:VTIMEZONE
TZID:Europe/Paris
BEGIN:DAYLIGHT
TZOFFSETFROM:+0100
TZOFFSETTO:+0200
TZNAME:CEST
DTSTART:20250330T010000
END:DAYLIGHT
BEGIN:STANDARD
TZOFFSETFROM:+0200
TZOFFSETTO:+0100
TZNAME:CET
DTSTART:20251026T010000
END:STANDARD
BEGIN:DAYLIGHT
TZOFFSETFROM:+0100
TZOFFSETTO:+0200
TZNAME:CEST
DTSTART:20260329T010000
END:DAYLIGHT
BEGIN:STANDARD
TZOFFSETFROM:+0200
TZOFFSETTO:+0100
TZNAME:CET
DTSTART:20261025T010000
END:STANDARD
BEGIN:DAYLIGHT
TZOFFSETFROM:+0100
TZOFFSETTO:+0200
TZNAME:CEST
DTSTART:20270328T010000
END:DAYLIGHT
BEGIN:STANDARD
TZOFFSETFROM:+0200
TZOFFSETTO:+0100
TZNAME:CET
DTSTART:20271031T010000
END:STANDARD
END:VTIMEZONE
BEGIN:VEVENT
DTSTART;VALUE=DATE:20260601
DTEND;VALUE=DATE:20260603
DTSTAMP:20260421T014524
CREATED:20260127T102617Z
LAST-MODIFIED:20260127T102617Z
UID:239770-1780272000-1780444799@etaples-sur-mer.fr
SUMMARY:Jeux sportifs
DESCRIPTION:Par le service des sports \nLundi 1er et mardi 2 juin  \nDe la moyenne section à la grande section – écoles publiques \nInfos : 03 21 89 62 64 \n 
URL:https://etaples-sur-mer.fr/evenement/jeux-sportifs-3/
CATEGORIES:Jeunesse,Sport,Sur plusieurs jours
ATTACH;FMTTYPE=image/jpeg:https://etaples-sur-mer.fr/wp-content/uploads/2026/01/615932930_914551410947319_6226240937447054745_n.jpg
END:VEVENT
BEGIN:VEVENT
DTSTART;VALUE=DATE:20260613
DTEND;VALUE=DATE:20260614
DTSTAMP:20260421T014524
CREATED:20260126T100014Z
LAST-MODIFIED:20260126T100014Z
UID:239701-1781308800-1781395199@etaples-sur-mer.fr
SUMMARY:Tournoi de Gala
DESCRIPTION:Par l’A.F. Haute villee Etaples \nSamedi 13 juin – stade Daniel Martin \nInfo : S. Caffier : 06 11 70 98 43
URL:https://etaples-sur-mer.fr/evenement/tournoi-de-gala/
LOCATION:Stade « Daniel Martin »\, Avenue de rocquigny\, Etaples\, 62630\, France
CATEGORIES:Jeunesse,Sport
ATTACH;FMTTYPE=image/jpeg:https://etaples-sur-mer.fr/wp-content/uploads/2025/12/Af-haute-ville-telethon-6122025-10-scaled.jpg
END:VEVENT
BEGIN:VEVENT
DTSTART;VALUE=DATE:20260614
DTEND;VALUE=DATE:20260615
DTSTAMP:20260421T014524
CREATED:20260126T102331Z
LAST-MODIFIED:20260126T102331Z
UID:239717-1781395200-1781481599@etaples-sur-mer.fr
SUMMARY:Tournoi Haute Ville
DESCRIPTION:Par « L’A. F. Haute ville Etaples » \nDimanche 14 juin – Stade Daniel Martin \nTournoi de sixte : 8 joueurs \nInfos Y. Caloin :  06 68 69 38 85
URL:https://etaples-sur-mer.fr/evenement/tournoi-haute-ville/
LOCATION:stade Daniel Martin
CATEGORIES:Associations,Jeunesse,Sport
ATTACH;FMTTYPE=image/jpeg:https://etaples-sur-mer.fr/wp-content/uploads/2026/01/hv.jpg
END:VEVENT
BEGIN:VEVENT
DTSTART;VALUE=DATE:20260616
DTEND;VALUE=DATE:20260617
DTSTAMP:20260421T014524
CREATED:20260126T102728Z
LAST-MODIFIED:20260126T102728Z
UID:239723-1781568000-1781654399@etaples-sur-mer.fr
SUMMARY:Aquathlon étaplois
DESCRIPTION:Par le service des sports \nMardi 16 juin à la piscine et au stade Jean Bigot \nDu CE2 au CM2 \nInfos : 03 21 89 62 64
URL:https://etaples-sur-mer.fr/evenement/aquathlon-etaplois/
LOCATION:Stade Jean Bigot\, rue des Oyats\, etaples\, 62630\, France
CATEGORIES:Jeunesse,Sport
ATTACH;FMTTYPE=image/jpeg:https://etaples-sur-mer.fr/wp-content/uploads/2024/11/aquathlon.jpg
END:VEVENT
BEGIN:VEVENT
DTSTART;VALUE=DATE:20260620
DTEND;VALUE=DATE:20260622
DTSTAMP:20260421T014524
CREATED:20260126T103038Z
LAST-MODIFIED:20260126T103038Z
UID:239726-1781913600-1782086399@etaples-sur-mer.fr
SUMMARY:Challenge André Codron
DESCRIPTION:Par « l’AS Etaples Football » \nSamedi 20 et dimanche 21 juin – stade F Guilluy et stade M Guerville \nInfos : 06 26 45 56 12
URL:https://etaples-sur-mer.fr/evenement/challenge-andre-codron-2/
LOCATION:stade Francois Guilluy\, 62630\, France
CATEGORIES:Sport
ATTACH;FMTTYPE=image/jpeg:https://etaples-sur-mer.fr/wp-content/uploads/2021/11/football.jpg
END:VEVENT
BEGIN:VEVENT
DTSTART;VALUE=DATE:20260623
DTEND;VALUE=DATE:20260624
DTSTAMP:20260421T014524
CREATED:20260126T104242Z
LAST-MODIFIED:20260126T104242Z
UID:239740-1782172800-1782259199@etaples-sur-mer.fr
SUMMARY:Décathlon étaplois
DESCRIPTION:Par le service des sports \nMardi 23 juin – stade Jean Bigot pour les CP et CE1 \nInfos : 03 21 89 62 64
URL:https://etaples-sur-mer.fr/evenement/decathlon-etaplois/
LOCATION:Stade Jean Bigot\, rue des Oyats\, etaples\, 62630\, France
CATEGORIES:Animations,Associations,Sport
ATTACH;FMTTYPE=image/jpeg:https://etaples-sur-mer.fr/wp-content/uploads/2021/11/football.jpg
END:VEVENT
BEGIN:VEVENT
DTSTART;TZID=Europe/Paris:20260628T070000
DTEND;TZID=Europe/Paris:20260628T130000
DTSTAMP:20260421T014524
CREATED:20260126T105420Z
LAST-MODIFIED:20260217T135051Z
UID:239747-1782630000-1782651600@etaples-sur-mer.fr
SUMMARY:Balade Etaploise
DESCRIPTION:Par l’ASE Cyclo \nDimanche 28 juin – de 7h à 13h – Capitainerie du Port \nRandonnée cyclotouriste dans le Montreuillois sur 4 parcours fléchés : 30\, 60\, 90 kms et 115 kms. \nPour la première fois\, une marche de 10 km sera proposée. \nTarifs : 3 €/personne \nInfos : B. Pillier – 06 48 95 02 54
URL:https://etaples-sur-mer.fr/evenement/balade-etaploise/
LOCATION:capitainerie du port de plaisance
CATEGORIES:Animations,balade,Sport
ATTACH;FMTTYPE=image/jpeg:https://etaples-sur-mer.fr/wp-content/uploads/2026/01/IMG_2378-scaled.jpg
END:VEVENT
BEGIN:VEVENT
DTSTART;TZID=Europe/Paris:20260628T103000
DTEND;TZID=Europe/Paris:20260628T133000
DTSTAMP:20260421T014524
CREATED:20260203T092120Z
LAST-MODIFIED:20260306T140735Z
UID:239984-1782642600-1782653400@etaples-sur-mer.fr
SUMMARY:ANNULÉ - RALLYE DECOUVERTE KAYAK EN BAIE DE CANCHE
DESCRIPTION:ANNULÉ – Dimanche 28 Juin 2026\nDe 10h30 à 13h30\nDépart Sainte-Cécile\, vers Etaples\, Arrivée Le Touquet \npar l’association Baie de CancheRenseignements : 06 47 21 54 97 \n  \n 
URL:https://etaples-sur-mer.fr/evenement/rallye-decouverte-kayak-en-baie-de-canche/
LOCATION:plage de sainte cécile\, plage de sainte cécile\, sainte cécile\, 62176\, France
CATEGORIES:Associations,Sport
ATTACH;FMTTYPE=image/jpeg:https://etaples-sur-mer.fr/wp-content/uploads/2026/02/kayak-abcanche.jpg
END:VEVENT
END:VCALENDAR