BEGIN:VCALENDAR
VERSION:2.0
PRODID:-//Ville d&#039;Etaples sur mer - ECPv6.15.13.1//NONSGML v1.0//EN
CALSCALE:GREGORIAN
METHOD:PUBLISH
X-ORIGINAL-URL:https://etaples-sur-mer.fr
X-WR-CALDESC:Évènements pour Ville d&#039;Etaples sur mer
REFRESH-INTERVAL;VALUE=DURATION:PT1H
X-Robots-Tag:noindex
X-PUBLISHED-TTL:PT1H
BEGIN:VTIMEZONE
TZID:Europe/Paris
BEGIN:DAYLIGHT
TZOFFSETFROM:+0100
TZOFFSETTO:+0200
TZNAME:CEST
DTSTART:20240331T010000
END:DAYLIGHT
BEGIN:STANDARD
TZOFFSETFROM:+0200
TZOFFSETTO:+0100
TZNAME:CET
DTSTART:20241027T010000
END:STANDARD
BEGIN:DAYLIGHT
TZOFFSETFROM:+0100
TZOFFSETTO:+0200
TZNAME:CEST
DTSTART:20250330T010000
END:DAYLIGHT
BEGIN:STANDARD
TZOFFSETFROM:+0200
TZOFFSETTO:+0100
TZNAME:CET
DTSTART:20251026T010000
END:STANDARD
BEGIN:DAYLIGHT
TZOFFSETFROM:+0100
TZOFFSETTO:+0200
TZNAME:CEST
DTSTART:20260329T010000
END:DAYLIGHT
BEGIN:STANDARD
TZOFFSETFROM:+0200
TZOFFSETTO:+0100
TZNAME:CET
DTSTART:20261025T010000
END:STANDARD
END:VTIMEZONE
BEGIN:VEVENT
DTSTART;TZID=Europe/Paris:20251101T100000
DTEND;TZID=Europe/Paris:20251101T180000
DTSTAMP:20260421T065551
CREATED:20251002T132429Z
LAST-MODIFIED:20251002T132429Z
UID:233518-1761991200-1762020000@etaples-sur-mer.fr
SUMMARY:Cyclo Cross VTT 2025
DESCRIPTION:Le vendredi 1 er novembre\, l’association « Touquet Athlétic Club – Cyclisme » organise une course cyclo-cross qui empruntera un parcours d’une vingtaine de kilomètres à travers la ville d’Étaples-sur-mer. \n\n\nLes participants traverseront les bois du Bosquet et de Rombly sur un tracé à la fois technique et exigeant. \nAu programme de cette journée dédiée aux passionnés du vélo\, 3 épreuves distinctes (Prix école de vélo\, cyclocross et vtt) s’enchaineront de 11h à 16h avec des départs différés.\nHoraires :\n10h – Émargement des participants et retrait des dossards\n11h – Départ prix « École de vélo »\n13h – Remise des prix\n13h30 – Départ course cyclocross\n15h – Départ course VTT\n16h – Fin des épreuves\n17h – Remise des prix \n\n\nRenseignements : M. FOURNIER – 06 23 43 45 11
URL:https://etaples-sur-mer.fr/evenement/cyclo-cross-vtt-2025/
LOCATION:bois de rombly\, etaples\, 62630\, France
CATEGORIES:Sport
ATTACH;FMTTYPE=image/jpeg:https://etaples-sur-mer.fr/wp-content/uploads/2025/10/548202185_811525874742300_3612537160166751608_n.jpg
END:VEVENT
BEGIN:VEVENT
DTSTART;TZID=Europe/Paris:20251115T140000
DTEND;TZID=Europe/Paris:20251115T170000
DTSTAMP:20260421T065551
CREATED:20250708T092033Z
LAST-MODIFIED:20250708T092033Z
UID:227097-1763215200-1763226000@etaples-sur-mer.fr
SUMMARY:Concours jeunes débutants
DESCRIPTION:Par l’association « La Flèche Etaploise » \nSamedi 15 novembre à 14h – salle du Tir à l’arc \nTarif : 6€ \nConcours pour jeunes archers\, pour débutants 1ère année et pour archers en sélectif aux championnats de France \nInfos : H.J. Caron – 06 47 58 23 73
URL:https://etaples-sur-mer.fr/evenement/concours-jeunes-debutants-2/
LOCATION:Salle du tir à l’arc
CATEGORIES:Associations,Sport
ATTACH;FMTTYPE=image/jpeg:https://etaples-sur-mer.fr/wp-content/uploads/2025/07/young-female-archer-holding-his-bow-aiming-target-sport-recreation-concept-scaled-2048x1367-1.jpg
END:VEVENT
BEGIN:VEVENT
DTSTART;TZID=Europe/Paris:20251130T080000
DTEND;TZID=Europe/Paris:20251130T150000
DTSTAMP:20260421T065551
CREATED:20250710T072650Z
LAST-MODIFIED:20250924T141355Z
UID:227238-1764489600-1764514800@etaples-sur-mer.fr
SUMMARY:Canicross
DESCRIPTION:Par l’association « Opale Canisports » \nDimanche 30 novembre de 8 à 15h00 – complexe sportif Jean Bigot/Bois de Rombly \nInscription et remise des dossards\, le samedi 29 novembre à partir de 14h00 \nInfos : M. Rambur – 06 15 71 12 83
URL:https://etaples-sur-mer.fr/evenement/canicross/
LOCATION:bois de rombly\, etaples\, 62630\, France
CATEGORIES:Associations,Sport
ATTACH;FMTTYPE=image/jpeg:https://etaples-sur-mer.fr/wp-content/uploads/2025/07/FB_IMG_1758690533564.jpg
ORGANIZER;CN="Opale Canisports":MAILTO:opalecanisport@gmail.com
END:VEVENT
END:VCALENDAR