BEGIN:VCALENDAR
VERSION:2.0
PRODID:-//Ville d&#039;Etaples sur mer - ECPv6.15.13.1//NONSGML v1.0//EN
CALSCALE:GREGORIAN
METHOD:PUBLISH
X-WR-CALNAME:Ville d&#039;Etaples sur mer
X-ORIGINAL-URL:https://etaples-sur-mer.fr
X-WR-CALDESC:Évènements pour Ville d&#039;Etaples sur mer
REFRESH-INTERVAL;VALUE=DURATION:PT1H
X-Robots-Tag:noindex
X-PUBLISHED-TTL:PT1H
BEGIN:VTIMEZONE
TZID:Europe/Paris
BEGIN:DAYLIGHT
TZOFFSETFROM:+0100
TZOFFSETTO:+0200
TZNAME:CEST
DTSTART:20250330T010000
END:DAYLIGHT
BEGIN:STANDARD
TZOFFSETFROM:+0200
TZOFFSETTO:+0100
TZNAME:CET
DTSTART:20251026T010000
END:STANDARD
BEGIN:DAYLIGHT
TZOFFSETFROM:+0100
TZOFFSETTO:+0200
TZNAME:CEST
DTSTART:20260329T010000
END:DAYLIGHT
BEGIN:STANDARD
TZOFFSETFROM:+0200
TZOFFSETTO:+0100
TZNAME:CET
DTSTART:20261025T010000
END:STANDARD
BEGIN:DAYLIGHT
TZOFFSETFROM:+0100
TZOFFSETTO:+0200
TZNAME:CEST
DTSTART:20270328T010000
END:DAYLIGHT
BEGIN:STANDARD
TZOFFSETFROM:+0200
TZOFFSETTO:+0100
TZNAME:CET
DTSTART:20271031T010000
END:STANDARD
END:VTIMEZONE
BEGIN:VEVENT
DTSTART;VALUE=DATE:20260602
DTEND;VALUE=DATE:20260603
DTSTAMP:20260425T022040
CREATED:20260116T160052Z
LAST-MODIFIED:20260116T160052Z
UID:239014-1780358400-1780444799@etaples-sur-mer.fr
SUMMARY:Comédie musicale
DESCRIPTION:Par le collège Saint Joseph et l’APEL \nMardi 2 juin – Salle de la Corderie \nComédie musicale jouée par les élèves des différents ateliers (théâtre\, musique\, chorale) \nInfos : M. Dubois – 03 21 94 63 63 \n \n  \n 
URL:https://etaples-sur-mer.fr/evenement/comedie-musicale-2/
LOCATION:Salle de la Corderie
CATEGORIES:Animations,musique,Spectacle
ATTACH;FMTTYPE=image/jpeg:https://etaples-sur-mer.fr/wp-content/uploads/2026/01/IMG_2500-scaled.jpg
END:VEVENT
BEGIN:VEVENT
DTSTART;VALUE=DATE:20260613
DTEND;VALUE=DATE:20260614
DTSTAMP:20260425T022040
CREATED:20260126T095144Z
LAST-MODIFIED:20260126T095144Z
UID:239688-1781308800-1781395199@etaples-sur-mer.fr
SUMMARY:Fête de l’école Jean Macé
DESCRIPTION:Samedi 13 juin – Cour de l’école \nInfos :  03 21 94 67 16
URL:https://etaples-sur-mer.fr/evenement/fete-de-lecole-jean-mace/
LOCATION:école Jean Macé\, 26 rue Gressier de Lagrave\, Etaples\, 62630\, France
CATEGORIES:Animations,Jeunesse,Spectacle
ATTACH;FMTTYPE=image/jpeg:https://etaples-sur-mer.fr/wp-content/uploads/2024/11/fete-de-lecole-jean-mace.jpg
END:VEVENT
BEGIN:VEVENT
DTSTART;VALUE=DATE:20260613
DTEND;VALUE=DATE:20260614
DTSTAMP:20260425T022040
CREATED:20260126T101111Z
LAST-MODIFIED:20260126T101111Z
UID:239707-1781308800-1781395199@etaples-sur-mer.fr
SUMMARY:Miss Mamie – Miss Fleurie
DESCRIPTION:Par « Renouveau pour tous » \nSamedi 13 juin – Salle de la Corderie \nMiss Mamie doit avoir 60 ans minimum et avoir un petit enfant le jour même \nMiss Fleurie doit créer ses propres vêtements fleuris. La plus belle robe fait main remporte le titre \nInfos : Lolita Caffier – 06 34 25 05 73
URL:https://etaples-sur-mer.fr/evenement/miss-mamie-miss-fleurie/
LOCATION:Salle de la Corderie
CATEGORIES:Associations,Spectacle
ATTACH;FMTTYPE=image/jpeg:https://etaples-sur-mer.fr/wp-content/uploads/2026/01/logo-etaples.jpg
END:VEVENT
BEGIN:VEVENT
DTSTART;TZID=Europe/Paris:20260613T090000
DTEND;TZID=Europe/Paris:20260613T180000
DTSTAMP:20260425T022040
CREATED:20260126T095555Z
LAST-MODIFIED:20260126T095555Z
UID:239697-1781341200-1781373600@etaples-sur-mer.fr
SUMMARY:Fête du groupe scolaire Jean Moulin
DESCRIPTION:Samedi 13 juin de 9h à 18h – Cour de l’école\nDanse des enfants et kermesse \nTarif : gratuit \nInfos : 03 21 94 72 37
URL:https://etaples-sur-mer.fr/evenement/fete-du-groupe-scolaire-jean-moulin/
LOCATION:école Jean Moulin\, avenue François Mitterrand\, etaples\, 62630\, France
CATEGORIES:Animations,Jeunesse,musique,Spectacle
ATTACH;FMTTYPE=image/jpeg:https://etaples-sur-mer.fr/wp-content/uploads/2024/11/fete-de-lecole-jean-moulin.jpg
END:VEVENT
BEGIN:VEVENT
DTSTART;TZID=Europe/Paris:20260618T180000
DTEND;TZID=Europe/Paris:20260618T220000
DTSTAMP:20260425T022040
CREATED:20260126T103056Z
LAST-MODIFIED:20260126T103131Z
UID:239727-1781805600-1781820000@etaples-sur-mer.fr
SUMMARY:Fête de fin d’année du collège Jean Jaurès
DESCRIPTION:Jeudi 18 juin de 18h à 22h – Salle de la Corderie \nSpectacle de fin d’année des élèves \nTarif : gratuit \nInfos :  03 21 89 09 73
URL:https://etaples-sur-mer.fr/evenement/fete-de-fin-dannee-du-college-jean-jaures/
LOCATION:Salle de la Corderie
CATEGORIES:Jeunesse,Spectacle
ATTACH;FMTTYPE=image/jpeg:https://etaples-sur-mer.fr/wp-content/uploads/2024/02/jean-jaures.jpg
END:VEVENT
BEGIN:VEVENT
DTSTART;TZID=Europe/Paris:20260619T200000
DTEND;TZID=Europe/Paris:20260619T233000
DTSTAMP:20260425T022040
CREATED:20260126T104001Z
LAST-MODIFIED:20260126T104001Z
UID:239736-1781899200-1781911800@etaples-sur-mer.fr
SUMMARY:Fête de la Musique
DESCRIPTION:Par la « Musique Communale » \nVendredi 19 juin à 20h – Capitainerie du Port de Plaisance \nLa Musique Communale vous réveille pour célébrer la nouvelle année. \nInfos : L. Sauvage – 06 63 79 47 58
URL:https://etaples-sur-mer.fr/evenement/fete-de-la-musique/
LOCATION:capitainerie du port de plaisance
CATEGORIES:Festival,musique,Spectacle
ATTACH;FMTTYPE=image/jpeg:https://etaples-sur-mer.fr/wp-content/uploads/2019/04/Juillet-musiques-estivales.jpg
END:VEVENT
BEGIN:VEVENT
DTSTART;TZID=Europe/Paris:20260627T203000
DTEND;TZID=Europe/Paris:20260627T230000
DTSTAMP:20260425T022040
CREATED:20260126T105451Z
LAST-MODIFIED:20260126T105451Z
UID:239746-1782592200-1782601200@etaples-sur-mer.fr
SUMMARY:Gala de danse « la nuit au musée »
DESCRIPTION:Par l’association « Bellydance company » \nSamedi 27 juin à 20h30 – Salle de la Corderie \nLes œuvres du musée Quentovic réapparaissent au cours d’une nuit fantastique où les tableaux prennent vie\, sous la houlette de Bellydance company. \nGratuit
URL:https://etaples-sur-mer.fr/evenement/gala-de-danse-la-nuit-au-musee/
LOCATION:Salle de la Corderie\, 155 rue de camiers\, etaples\, 62630\, France
CATEGORIES:danse,Spectacle
ATTACH;FMTTYPE=image/jpeg:https://etaples-sur-mer.fr/wp-content/uploads/2026/01/spectable-bellydance-scaled.jpg
END:VEVENT
END:VCALENDAR