BEGIN:VCALENDAR
VERSION:2.0
PRODID:-//Ville d&#039;Etaples sur mer - ECPv6.15.13.1//NONSGML v1.0//EN
CALSCALE:GREGORIAN
METHOD:PUBLISH
X-ORIGINAL-URL:https://etaples-sur-mer.fr
X-WR-CALDESC:Évènements pour Ville d&#039;Etaples sur mer
REFRESH-INTERVAL;VALUE=DURATION:PT1H
X-Robots-Tag:noindex
X-PUBLISHED-TTL:PT1H
BEGIN:VTIMEZONE
TZID:Europe/Paris
BEGIN:DAYLIGHT
TZOFFSETFROM:+0100
TZOFFSETTO:+0200
TZNAME:CEST
DTSTART:20240331T010000
END:DAYLIGHT
BEGIN:STANDARD
TZOFFSETFROM:+0200
TZOFFSETTO:+0100
TZNAME:CET
DTSTART:20241027T010000
END:STANDARD
BEGIN:DAYLIGHT
TZOFFSETFROM:+0100
TZOFFSETTO:+0200
TZNAME:CEST
DTSTART:20250330T010000
END:DAYLIGHT
BEGIN:STANDARD
TZOFFSETFROM:+0200
TZOFFSETTO:+0100
TZNAME:CET
DTSTART:20251026T010000
END:STANDARD
BEGIN:DAYLIGHT
TZOFFSETFROM:+0100
TZOFFSETTO:+0200
TZNAME:CEST
DTSTART:20260329T010000
END:DAYLIGHT
BEGIN:STANDARD
TZOFFSETFROM:+0200
TZOFFSETTO:+0100
TZNAME:CET
DTSTART:20261025T010000
END:STANDARD
END:VTIMEZONE
BEGIN:VEVENT
DTSTART;VALUE=DATE:20251209
DTEND;VALUE=DATE:20251215
DTSTAMP:20260424T022837
CREATED:20251202T140835Z
LAST-MODIFIED:20251202T140835Z
UID:236942-1765238400-1765756799@etaples-sur-mer.fr
SUMMARY:CONCOURS DE GUÉNELS
DESCRIPTION:Par le service événementiel  \nLes 12\,13 et 14 décembre \nLa ville d’Étaples-sur-mer\, respectant la tradition\, organise son 34ème concours de Guénels. \nDe l’assimilation des mots « Gai » et « Noël »\, une guénel est une betterave sucrière sculptée et décorée\, avec une bougie à l’intérieur. \nCette année\, l’exposition du concours de guénels se déroulera les 13 et 14 décembre en mairie dans la salle des mariages. \nLes résultats et la distribution des récompenses auront lieu le dimanche 14 décembre\, à 16H30. Un goûter et un cadeau seront offerts à chaque participant. \nLes personnes qui désirent participer au concours sont invitées à venir s’inscrire et récupérer une betterave au service événementiel de la mairie à partir du mardi 9 décembre. \nRenseignements : Service événementiel – 03.21.89.62.73 \n 
URL:https://etaples-sur-mer.fr/evenement/concours-de-guenels/
LOCATION:Mairie d’Etaples\, 1\, place du général de gaulle\, etaples\, 62630\, France
CATEGORIES:Animations,Noël
ATTACH;FMTTYPE=image/jpeg:https://etaples-sur-mer.fr/wp-content/uploads/2025/12/affiche_guenels_2025-scaled.jpg
ORGANIZER;CN="Service %C3%A9v%C3%A9nementiel":MAILTO:communication@etaples-sur-mer.net
END:VEVENT
BEGIN:VEVENT
DTSTART;TZID=Europe/Paris:20251213T100000
DTEND;TZID=Europe/Paris:20251214T180000
DTSTAMP:20260424T022837
CREATED:20250729T080628Z
LAST-MODIFIED:20250905T134939Z
UID:229943-1765620000-1765735200@etaples-sur-mer.fr
SUMMARY:17ème Marché de Noël
DESCRIPTION:Par le service Événementiel \nSamedi 13 & dimanche 14 décembre de 10h à 18h – Place du Général de Gaulle. \nVenez préparer les fêtes de fin d’année lors de notre marché festif. Producteurs et artisans vous y attendent avec de nombreux stands pour garnir votre table et trouver vos cadeaux. Vous trouverez du champagne\, des vins\, des bières\, des spécialités salées et sucrées\, mais aussi des décorations\, des bijoux\, des coffrets cadeaux. L’ambiance sera féérique grâce à l’animation musicales assurée par différents orchestres. Pour les plus petits\, le Père Noël sera présent pour des séances photos inoubliables. Ne manquez pas l’exposition de Guénels qui aura lieu les samedis et dimanche. \nRenseignements : service événementiel – 03 21 89 62 70
URL:https://etaples-sur-mer.fr/evenement/17eme-marche-de-noel/
LOCATION:1 Place du général de Gaulle\, 62630 Étaples
CATEGORIES:marché,Noël
ATTACH;FMTTYPE=image/jpeg:https://etaples-sur-mer.fr/wp-content/uploads/2025/07/Affiche-marche-de-noel-2025-web-scaled.jpg
ORGANIZER;CN="Service %C3%A9v%C3%A9nementiel":MAILTO:communication@etaples-sur-mer.net
END:VEVENT
BEGIN:VEVENT
DTSTART;TZID=Europe/Paris:20251214T080000
DTEND;TZID=Europe/Paris:20251214T170000
DTSTAMP:20260424T022837
CREATED:20250729T122449Z
LAST-MODIFIED:20250729T122449Z
UID:229945-1765699200-1765731600@etaples-sur-mer.fr
SUMMARY:Repas de noël
DESCRIPTION:Par l’association « les Tamalous »\nDimanche 14 décembre – salle de la Corderie\nRepas avec animation\nInfos : A. Léone – 06 27 56 38 52
URL:https://etaples-sur-mer.fr/evenement/repas-de-noel-2/
LOCATION:Salle de la Corderie
CATEGORIES:Noël,Repas
ATTACH;FMTTYPE=image/jpeg:https://etaples-sur-mer.fr/wp-content/uploads/2024/06/REPAS-DE-NOEL--scaled.jpg
END:VEVENT
END:VCALENDAR