BEGIN:VCALENDAR
VERSION:2.0
PRODID:-//Ville d&#039;Etaples sur mer - ECPv6.15.13.1//NONSGML v1.0//EN
CALSCALE:GREGORIAN
METHOD:PUBLISH
X-WR-CALNAME:Ville d&#039;Etaples sur mer
X-ORIGINAL-URL:https://etaples-sur-mer.fr
X-WR-CALDESC:Évènements pour Ville d&#039;Etaples sur mer
REFRESH-INTERVAL;VALUE=DURATION:PT1H
X-Robots-Tag:noindex
X-PUBLISHED-TTL:PT1H
BEGIN:VTIMEZONE
TZID:Europe/Paris
BEGIN:DAYLIGHT
TZOFFSETFROM:+0100
TZOFFSETTO:+0200
TZNAME:CEST
DTSTART:20250330T010000
END:DAYLIGHT
BEGIN:STANDARD
TZOFFSETFROM:+0200
TZOFFSETTO:+0100
TZNAME:CET
DTSTART:20251026T010000
END:STANDARD
BEGIN:DAYLIGHT
TZOFFSETFROM:+0100
TZOFFSETTO:+0200
TZNAME:CEST
DTSTART:20260329T010000
END:DAYLIGHT
BEGIN:STANDARD
TZOFFSETFROM:+0200
TZOFFSETTO:+0100
TZNAME:CET
DTSTART:20261025T010000
END:STANDARD
BEGIN:DAYLIGHT
TZOFFSETFROM:+0100
TZOFFSETTO:+0200
TZNAME:CEST
DTSTART:20270328T010000
END:DAYLIGHT
BEGIN:STANDARD
TZOFFSETFROM:+0200
TZOFFSETTO:+0100
TZNAME:CET
DTSTART:20271031T010000
END:STANDARD
END:VTIMEZONE
BEGIN:VEVENT
DTSTART;VALUE=DATE:20260418
DTEND;VALUE=DATE:20260427
DTSTAMP:20260423T235400
CREATED:20260123T083603Z
LAST-MODIFIED:20260123T083708Z
UID:239410-1776470400-1777247999@etaples-sur-mer.fr
SUMMARY:35ème édition du Festival de l’Oiseau et de la Nature
DESCRIPTION:Du samedi 18 au dimanche 26 avril  \nL’association Baie de Canche est partenaire de ce festival pour la troisième année consécutive. Les services nature d’Etaples et du Touquet organisent des visites en Baie de Canche. \nInfos : wwwabcanche.fr
URL:https://etaples-sur-mer.fr/evenement/35eme-edition-du-festival-de-loiseau-et-de-la-nature/
LOCATION:Maison de la Faune  et de la Flore
CATEGORIES:Animations,balade,Nature
ATTACH;FMTTYPE=image/jpeg:https://etaples-sur-mer.fr/wp-content/uploads/2026/01/FO-2026-A4-horizontal-2048x1467-1.jpg
ORGANIZER;CN="Service nature de la ville d'Etaples sur mer":MAILTO:nature.etaples@gmail.com
END:VEVENT
BEGIN:VEVENT
DTSTART;TZID=Europe/Paris:20260423T093000
DTEND;TZID=Europe/Paris:20260423T113000
DTSTAMP:20260423T235400
CREATED:20260126T092943Z
LAST-MODIFIED:20260306T124655Z
UID:239671-1776936600-1776943800@etaples-sur-mer.fr
SUMMARY:Découverte de l’estran
DESCRIPTION:Par le service nature \nJeudi 23 avril – 9h30 – parking à bateaux – Ste Cécile \nLe retrait de la marée laisse sur la plage et dans les retenues d’eau de nombreux trésors naturels. Equipés de filets\, tentez de capturer ces mystérieux habitants. L’occasion également de faire un petit ramassage de déchets ! \nTarif : 5€ / personne \nDurée 2h \nInscription obligatoire sur le site du festival de l’oiseau et de la nature https://www.festival-oiseau-nature.com/ \nInfos : Service Nature / 03 21 84 13 93 ou 06 66 25 03 72
URL:https://etaples-sur-mer.fr/evenement/a-la-decouverte-du-petit-peuple-de-lestran/
LOCATION:plage de sainte cécile\, plage de sainte cécile\, sainte cécile\, 62176\, France
CATEGORIES:Animations,Associations,Nature,Sensibilisation
ATTACH;FMTTYPE=image/jpeg:https://etaples-sur-mer.fr/wp-content/uploads/2026/01/Estran-scaled.jpg
END:VEVENT
BEGIN:VEVENT
DTSTART;TZID=Europe/Paris:20260424T200000
DTEND;TZID=Europe/Paris:20260424T220000
DTSTAMP:20260423T235400
CREATED:20260126T093652Z
LAST-MODIFIED:20260306T124829Z
UID:239677-1777060800-1777068000@etaples-sur-mer.fr
SUMMARY:Faune crépusculaire
DESCRIPTION:Par le service nature \nVendredi 24 avril à 20h00 – Rendez-vous au Clos Saint-Victor \nNous rejoindrons la campagne étaploise pour une balade entre chien et loup. Equipés d’un détecteur ultrasons\, nous écouterons les vocalises des chiroptères et peut-être aurons-nous également la chance d’entendre l’aboiement du Chevreuil européen ou le hululement de la Chouette hulotte. \nTarif : 5€ / personne \nDurée 2h \nInscription obligatoire sur le site du festival de l’oiseau et de la nature https://www.festival-oiseau-nature.com/ \nInfos : Service Nature / 03 21 84 13 93 ou 06 66 25 03 72
URL:https://etaples-sur-mer.fr/evenement/faune-crepusculaire-6/
LOCATION:Clos St Victor
CATEGORIES:Animations,Associations,Nature
ATTACH;FMTTYPE=image/jpeg:https://etaples-sur-mer.fr/wp-content/uploads/2023/06/chevreuil.jpg
END:VEVENT
BEGIN:VEVENT
DTSTART;TZID=Europe/Paris:20260425T090000
DTEND;TZID=Europe/Paris:20260425T120000
DTSTAMP:20260423T235400
CREATED:20260126T094534Z
LAST-MODIFIED:20260306T125131Z
UID:239686-1777107600-1777118400@etaples-sur-mer.fr
SUMMARY:Les phoques de la Baie de Canche
DESCRIPTION:Par le service nature \nSamedi 25 avril à 9h– Rendez-vous au Clos Saint-Victor \nA la marée descendante\, observez les phoques rejoindre les reposoirs et apprenez-en davantage sur leur mode de vie et les bons gestes à adopter pour les observer sans les déranger. \nTarif : 5€ / personne \nDurée 3h \nInscription obligatoire sur le site du festival de l’oiseau et de la nature https://www.festival-oiseau-nature.com/ \nInfos : Service Nature / 03 21 84 13 93 ou 06 66 25 03 72
URL:https://etaples-sur-mer.fr/evenement/les-phoques-de-la-baie-de-canche-9/
LOCATION:Clos St Victor
CATEGORIES:Associations,balade,Nature
ATTACH;FMTTYPE=image/jpeg:https://etaples-sur-mer.fr/wp-content/uploads/2021/12/les-phoques-baie-de-canche-1.jpg
END:VEVENT
BEGIN:VEVENT
DTSTART;TZID=Europe/Paris:20260426T100000
DTEND;TZID=Europe/Paris:20260426T120000
DTSTAMP:20260423T235400
CREATED:20260128T144043Z
LAST-MODIFIED:20260128T144043Z
UID:239793-1777197600-1777204800@etaples-sur-mer.fr
SUMMARY:DANS LES COULISSES DE LA RESERVE 
DESCRIPTION:DIMANCHE 26 AVRIL – 10H – DANS LES COULISSES DE LA RESERVE  \n Envie de vivre une expérience unique au cœur de la réserve de la baie de Canche ?   \nCette sortie vous invite à explorer des zones habituellement inaccessibles au public\, pour une immersion privilégiée dans la richesse de la faune et de la flore locales.  \nGuidés par une animatrice nature\, vous découvrirez les plantes\, les traces d’animaux\, les paysages cachés et les équilibres fragiles de cet espace préservé. Une occasion rare de voir la nature autrement\, en toute tranquillité.  \nRendez-vous sur le parking du cimetière britannique d’Etaples\,   \nLa sortie se fait sur inscription obligatoire par mail à hedwige.letienne@eden62.fr ou par téléphone au 06.11.15.40.89.  \n 
URL:https://etaples-sur-mer.fr/evenement/dans-les-coulisses-de-la-reserve/
LOCATION:cimetière militaire d’Etaples\, D940\, Etaples-sur-mer\, 62630\, France
CATEGORIES:balade,Nature
ATTACH;FMTTYPE=image/jpeg:https://etaples-sur-mer.fr/wp-content/uploads/2026/01/17-09-etaples-sortie-nature-470x260-1.jpg
END:VEVENT
END:VCALENDAR