BEGIN:VCALENDAR
VERSION:2.0
PRODID:-//Ville d&#039;Etaples sur mer - ECPv6.15.13.1//NONSGML v1.0//EN
CALSCALE:GREGORIAN
METHOD:PUBLISH
X-ORIGINAL-URL:https://etaples-sur-mer.fr
X-WR-CALDESC:Évènements pour Ville d&#039;Etaples sur mer
REFRESH-INTERVAL;VALUE=DURATION:PT1H
X-Robots-Tag:noindex
X-PUBLISHED-TTL:PT1H
BEGIN:VTIMEZONE
TZID:Europe/Paris
BEGIN:DAYLIGHT
TZOFFSETFROM:+0100
TZOFFSETTO:+0200
TZNAME:CEST
DTSTART:20250330T010000
END:DAYLIGHT
BEGIN:STANDARD
TZOFFSETFROM:+0200
TZOFFSETTO:+0100
TZNAME:CET
DTSTART:20251026T010000
END:STANDARD
BEGIN:DAYLIGHT
TZOFFSETFROM:+0100
TZOFFSETTO:+0200
TZNAME:CEST
DTSTART:20260329T010000
END:DAYLIGHT
BEGIN:STANDARD
TZOFFSETFROM:+0200
TZOFFSETTO:+0100
TZNAME:CET
DTSTART:20261025T010000
END:STANDARD
BEGIN:DAYLIGHT
TZOFFSETFROM:+0100
TZOFFSETTO:+0200
TZNAME:CEST
DTSTART:20270328T010000
END:DAYLIGHT
BEGIN:STANDARD
TZOFFSETFROM:+0200
TZOFFSETTO:+0100
TZNAME:CET
DTSTART:20271031T010000
END:STANDARD
END:VTIMEZONE
BEGIN:VEVENT
DTSTART;VALUE=DATE:20260523
DTEND;VALUE=DATE:20260524
DTSTAMP:20260424T030320
CREATED:20260116T102340Z
LAST-MODIFIED:20260116T102340Z
UID:238985-1779494400-1779580799@etaples-sur-mer.fr
SUMMARY:Rencontre avec la nature
DESCRIPTION:Par le service nature et l’association ABC \nSamedi 23 mai – Parking du Rohard\, rue de Ste Cécile\, Camiers \nOrganisé par l’Association Baie de Canche (Camiers\, Etaples-sur-mer et Le Touquet)\, participez à un jeu de piste et découvrez le site naturel du Domaine du Rohard et des dunes de Ste Cécile. \nGratuit. Pour tout public \nInfos : 03 21 84 13 93 ou 06 66 25 03 72
URL:https://etaples-sur-mer.fr/evenement/rencontre-avec-la-nature-2/
LOCATION:Baie de Canche
CATEGORIES:Animations,Nature
ATTACH;FMTTYPE=image/jpeg:https://etaples-sur-mer.fr/wp-content/uploads/2019/04/17-09-etaples-sortie-nature-470x260.jpg
END:VEVENT
END:VCALENDAR