BEGIN:VCALENDAR
VERSION:2.0
PRODID:-//Ville d&#039;Etaples sur mer - ECPv6.15.13.1//NONSGML v1.0//EN
CALSCALE:GREGORIAN
METHOD:PUBLISH
X-ORIGINAL-URL:https://etaples-sur-mer.fr
X-WR-CALDESC:Évènements pour Ville d&#039;Etaples sur mer
REFRESH-INTERVAL;VALUE=DURATION:PT1H
X-Robots-Tag:noindex
X-PUBLISHED-TTL:PT1H
BEGIN:VTIMEZONE
TZID:Europe/Paris
BEGIN:DAYLIGHT
TZOFFSETFROM:+0100
TZOFFSETTO:+0200
TZNAME:CEST
DTSTART:20250330T010000
END:DAYLIGHT
BEGIN:STANDARD
TZOFFSETFROM:+0200
TZOFFSETTO:+0100
TZNAME:CET
DTSTART:20251026T010000
END:STANDARD
BEGIN:DAYLIGHT
TZOFFSETFROM:+0100
TZOFFSETTO:+0200
TZNAME:CEST
DTSTART:20260329T010000
END:DAYLIGHT
BEGIN:STANDARD
TZOFFSETFROM:+0200
TZOFFSETTO:+0100
TZNAME:CET
DTSTART:20261025T010000
END:STANDARD
BEGIN:DAYLIGHT
TZOFFSETFROM:+0100
TZOFFSETTO:+0200
TZNAME:CEST
DTSTART:20270328T010000
END:DAYLIGHT
BEGIN:STANDARD
TZOFFSETFROM:+0200
TZOFFSETTO:+0100
TZNAME:CET
DTSTART:20271031T010000
END:STANDARD
END:VTIMEZONE
BEGIN:VEVENT
DTSTART;TZID=Europe/Paris:20260228T100000
DTEND;TZID=Europe/Paris:20260228T120000
DTSTAMP:20260424T030224
CREATED:20251230T105537Z
LAST-MODIFIED:20260217T102658Z
UID:238687-1772272800-1772280000@etaples-sur-mer.fr
SUMMARY:Fruitiers : comment les choisir et les entretenir
DESCRIPTION:Fruitiers : comment les choisir et les entretenir \nPar le service nature \nSamedi 28 février à 10h – Clos Saint-Victor\nRendez-vous dans le parc du Clos Saint-Victor où vous découvrirez les différentes espèces locales d’arbres et d’arbustes fruitiers locales que vous pouvez planter dans votre jardin.  Vous apprendrez à les tailler et à les entretenir afin d’obtenir de bonnes récoltes.\nTarif : 5 € / personne – Durée : 2h. Inscriptions obligatoires \nInfos : 03 21 84 13 93 ou 06 66 25 03 72
URL:https://etaples-sur-mer.fr/evenement/fruitiers-comment-les-choisir-et-les-entretenir/
LOCATION:– Maison de la Faune et de la Flore Clos St-Victor
CATEGORIES:Nature
ATTACH;FMTTYPE=image/jpeg:https://etaples-sur-mer.fr/wp-content/uploads/2025/12/Fruitiers.jpg
ORGANIZER;CN="Service nature de la ville d'Etaples sur mer":MAILTO:nature.etaples@gmail.com
END:VEVENT
END:VCALENDAR