BEGIN:VCALENDAR
VERSION:2.0
PRODID:-//Ville d&#039;Etaples sur mer - ECPv6.15.13.1//NONSGML v1.0//EN
CALSCALE:GREGORIAN
METHOD:PUBLISH
X-WR-CALNAME:Ville d&#039;Etaples sur mer
X-ORIGINAL-URL:https://etaples-sur-mer.fr
X-WR-CALDESC:Évènements pour Ville d&#039;Etaples sur mer
REFRESH-INTERVAL;VALUE=DURATION:PT1H
X-Robots-Tag:noindex
X-PUBLISHED-TTL:PT1H
BEGIN:VTIMEZONE
TZID:Europe/Paris
BEGIN:DAYLIGHT
TZOFFSETFROM:+0100
TZOFFSETTO:+0200
TZNAME:CEST
DTSTART:20250330T010000
END:DAYLIGHT
BEGIN:STANDARD
TZOFFSETFROM:+0200
TZOFFSETTO:+0100
TZNAME:CET
DTSTART:20251026T010000
END:STANDARD
BEGIN:DAYLIGHT
TZOFFSETFROM:+0100
TZOFFSETTO:+0200
TZNAME:CEST
DTSTART:20260329T010000
END:DAYLIGHT
BEGIN:STANDARD
TZOFFSETFROM:+0200
TZOFFSETTO:+0100
TZNAME:CET
DTSTART:20261025T010000
END:STANDARD
BEGIN:DAYLIGHT
TZOFFSETFROM:+0100
TZOFFSETTO:+0200
TZNAME:CEST
DTSTART:20270328T010000
END:DAYLIGHT
BEGIN:STANDARD
TZOFFSETFROM:+0200
TZOFFSETTO:+0100
TZNAME:CET
DTSTART:20271031T010000
END:STANDARD
END:VTIMEZONE
BEGIN:VEVENT
DTSTART;TZID=Europe/Paris:20260227T143000
DTEND;TZID=Europe/Paris:20260227T163000
DTSTAMP:20260424T043124
CREATED:20260128T135923Z
LAST-MODIFIED:20260128T135923Z
UID:239789-1772202600-1772209800@etaples-sur-mer.fr
SUMMARY:Dans les coulisses de la réserve : A la rencontre des chèvres
DESCRIPTION:VENDREDI 27 Février – 14h30 – rendez-vous sur le parking de la réserve\, route d’Etaples à Camiers.\nDans les coulisses de la réserve : A la rencontre des chèvres\nLe pâturage est un mode de gestion écologique et bénéfique pour préserver les richesses naturelles. Accompagnés d’un garde et d’une animatrice\, découvrez sous toutes les coutures ces bêtes à 4 pattes et l’environnement dans lequel elles se trouvent.\nInscription obligatoire auprès de l’office de tourisme de Camiers Sainte-Cécile 03 21 84 72 18\nRDV à 14h30 sur le parking de la réserve route d’Etaples à Camiers (petit déplacement voiture ensuite) – Durée 2h – 3 km environ
URL:https://etaples-sur-mer.fr/evenement/dans-les-coulisses-de-la-reserve-a-la-rencontre-des-chevres/
LOCATION:réserve naturelle de la Baie de Canche\, rd 940\, etaples\, France
CATEGORIES:balade,Nature
ATTACH;FMTTYPE=image/jpeg:https://etaples-sur-mer.fr/wp-content/uploads/2026/01/17-09-etaples-sortie-nature-470x260-1.jpg
END:VEVENT
BEGIN:VEVENT
DTSTART;TZID=Europe/Paris:20260227T183000
DTEND;TZID=Europe/Paris:20260227T203000
DTSTAMP:20260424T043124
CREATED:20251230T104722Z
LAST-MODIFIED:20260210T090418Z
UID:238683-1772217000-1772224200@etaples-sur-mer.fr
SUMMARY:COMPLET - Nuit de la chouette
DESCRIPTION:Par le service nature en partenariat avec Eden 62 \nVendredi 27 février à 18h30 – Parking de la maison dans la dune à Camiers \nPartez à la découverte du monde fascinant des rapaces nocturnes et peut-être aurez-vous la chance d’entendre hululer la Chouette hulotte ou boubouler le grand rapace nocturne d’Europe\, le Hibou grand-duc. \nGratuit – Durée : 2h – Inscriptions obligatoires \nInfos : 03 21 84 13 93 ou 06 66 25 03 72
URL:https://etaples-sur-mer.fr/evenement/nuit-de-la-chouette-3/
LOCATION:parking de la maison de la dune – Camiers\, parking de la maison dans la dune - D940 Camiers\, CAMIERS\, 62176\, France
CATEGORIES:balade,Nature
ATTACH;FMTTYPE=image/jpeg:https://etaples-sur-mer.fr/wp-content/uploads/2025/12/Sans-titre-1-scaled.jpg
ORGANIZER;CN="Service nature de la ville d'Etaples sur mer":MAILTO:nature.etaples@gmail.com
END:VEVENT
END:VCALENDAR