BEGIN:VCALENDAR
VERSION:2.0
PRODID:-//Ville d&#039;Etaples sur mer - ECPv6.15.13.1//NONSGML v1.0//EN
CALSCALE:GREGORIAN
METHOD:PUBLISH
X-WR-CALNAME:Ville d&#039;Etaples sur mer
X-ORIGINAL-URL:https://etaples-sur-mer.fr
X-WR-CALDESC:Évènements pour Ville d&#039;Etaples sur mer
REFRESH-INTERVAL;VALUE=DURATION:PT1H
X-Robots-Tag:noindex
X-PUBLISHED-TTL:PT1H
BEGIN:VTIMEZONE
TZID:Europe/Paris
BEGIN:DAYLIGHT
TZOFFSETFROM:+0100
TZOFFSETTO:+0200
TZNAME:CEST
DTSTART:20250330T010000
END:DAYLIGHT
BEGIN:STANDARD
TZOFFSETFROM:+0200
TZOFFSETTO:+0100
TZNAME:CET
DTSTART:20251026T010000
END:STANDARD
BEGIN:DAYLIGHT
TZOFFSETFROM:+0100
TZOFFSETTO:+0200
TZNAME:CEST
DTSTART:20260329T010000
END:DAYLIGHT
BEGIN:STANDARD
TZOFFSETFROM:+0200
TZOFFSETTO:+0100
TZNAME:CET
DTSTART:20261025T010000
END:STANDARD
BEGIN:DAYLIGHT
TZOFFSETFROM:+0100
TZOFFSETTO:+0200
TZNAME:CEST
DTSTART:20270328T010000
END:DAYLIGHT
BEGIN:STANDARD
TZOFFSETFROM:+0200
TZOFFSETTO:+0100
TZNAME:CET
DTSTART:20271031T010000
END:STANDARD
END:VTIMEZONE
BEGIN:VEVENT
DTSTART;TZID=Europe/Paris:20260226T093000
DTEND;TZID=Europe/Paris:20260226T170000
DTSTAMP:20260424T025956
CREATED:20251230T103400Z
LAST-MODIFIED:20251230T103400Z
UID:238681-1772098200-1772125200@etaples-sur-mer.fr
SUMMARY:Découverte de l’estran
DESCRIPTION:Par le service nature \nJeudi 26 février à 9h30 – parking à bateaux – Ste Cécile \nLe retrait de la marée laisse sur la plage et dans les retenues d’eau de nombreux trésors naturels. Equipés de filets\, tentez de capturer ces mystérieux habitants. L’occasion également de faire un petit ramassage de déchets ! \nMatériel spécifique requis.  Inscriptions obligatoires \nTarif :  5 € / personne. Durée : 2h30 \nInfos : 03 21 84 13 93 ou 06 66 25 03 72
URL:https://etaples-sur-mer.fr/evenement/decouverte-de-lestran/
CATEGORIES:balade,Nature
ATTACH;FMTTYPE=image/jpeg:https://etaples-sur-mer.fr/wp-content/uploads/2019/04/17-09-etaples-sortie-nature-470x260.jpg
ORGANIZER;CN="Service nature de la ville d'Etaples sur mer":MAILTO:nature.etaples@gmail.com
END:VEVENT
END:VCALENDAR