BEGIN:VCALENDAR
VERSION:2.0
PRODID:-//Ville d&#039;Etaples sur mer - ECPv6.15.13.1//NONSGML v1.0//EN
CALSCALE:GREGORIAN
METHOD:PUBLISH
X-WR-CALNAME:Ville d&#039;Etaples sur mer
X-ORIGINAL-URL:https://etaples-sur-mer.fr
X-WR-CALDESC:Évènements pour Ville d&#039;Etaples sur mer
REFRESH-INTERVAL;VALUE=DURATION:PT1H
X-Robots-Tag:noindex
X-PUBLISHED-TTL:PT1H
BEGIN:VTIMEZONE
TZID:Europe/Paris
BEGIN:DAYLIGHT
TZOFFSETFROM:+0100
TZOFFSETTO:+0200
TZNAME:CEST
DTSTART:20240331T010000
END:DAYLIGHT
BEGIN:STANDARD
TZOFFSETFROM:+0200
TZOFFSETTO:+0100
TZNAME:CET
DTSTART:20241027T010000
END:STANDARD
BEGIN:DAYLIGHT
TZOFFSETFROM:+0100
TZOFFSETTO:+0200
TZNAME:CEST
DTSTART:20250330T010000
END:DAYLIGHT
BEGIN:STANDARD
TZOFFSETFROM:+0200
TZOFFSETTO:+0100
TZNAME:CET
DTSTART:20251026T010000
END:STANDARD
BEGIN:DAYLIGHT
TZOFFSETFROM:+0100
TZOFFSETTO:+0200
TZNAME:CEST
DTSTART:20260329T010000
END:DAYLIGHT
BEGIN:STANDARD
TZOFFSETFROM:+0200
TZOFFSETTO:+0100
TZNAME:CET
DTSTART:20261025T010000
END:STANDARD
END:VTIMEZONE
BEGIN:VEVENT
DTSTART;TZID=Europe/Paris:20250814T100000
DTEND;TZID=Europe/Paris:20250814T120000
DTSTAMP:20260424T142237
CREATED:20250616T084623Z
LAST-MODIFIED:20250630T150706Z
UID:224822-1755165600-1755172800@etaples-sur-mer.fr
SUMMARY:VISITE : DE LA MER DE L'ASSIETTE
DESCRIPTION:Visite de Maréis puis balade commentée autour des lieux emblématiques du port. Dégustation de produits de la mer en fin de visite. \nTarifs : \nInfos : Mareis.fr ou 03 21 09 04 00 \n 
URL:https://etaples-sur-mer.fr/evenement/visite-de-la-mer-de-lassiette/
LOCATION:Mareis\, La corderie\, Boulevard Bigot Descelers\, etaples\, 62630\, France
CATEGORIES:balade,Nature
ATTACH;FMTTYPE=image/jpeg:https://etaples-sur-mer.fr/wp-content/uploads/2025/06/503263215_739054538497008_1090029227628699809_n-2.jpg
END:VEVENT
BEGIN:VEVENT
DTSTART;TZID=Europe/Paris:20250814T173000
DTEND;TZID=Europe/Paris:20250814T210000
DTSTAMP:20260424T142237
CREATED:20250616T084858Z
LAST-MODIFIED:20250616T091633Z
UID:224825-1755192600-1755205200@etaples-sur-mer.fr
SUMMARY:SORTIE : LES PHOQUES DE LA BAIE DE CANCHE
DESCRIPTION:Par le service « Nature » \n– Maison de la Faune et de la Flore – Clos Saint-Victor\, Bd Bigot Descelers Maison de la Faune et de la Flore – Clos St-Victor\, Bd Bigot Descelers \nA l’heure de la marée basse\, les Phoques veaux marins ont regagné leurs reposoirs et profitent des rayons du soleil pour se refaire une santé. Gardons nos distances et évitons de perturber la colonie ! Profitons des jumelles et de la longue-vue pour les observer et en apprendre davantage sur leur mode de vie \nTarif : 12 € (gratuit pour les – de 10 ans) \nInfos et inscriptions obligatoires Service « Nature » 03.21.84.13.93 (8h30 – 16h30) / 06.66.25.03.72 \n 
URL:https://etaples-sur-mer.fr/evenement/sortie-les-phoques-de-la-baie-de-canche-2/
LOCATION:– Maison de la Faune et de la Flore Clos St-Victor
CATEGORIES:balade,Historique,Nature
ATTACH;FMTTYPE=image/jpeg:https://etaples-sur-mer.fr/wp-content/uploads/2025/06/503747320_739036168498845_5983788566833698816_n-3.jpg
END:VEVENT
END:VCALENDAR