BEGIN:VCALENDAR
VERSION:2.0
PRODID:-//Ville d&#039;Etaples sur mer - ECPv6.15.13.1//NONSGML v1.0//EN
CALSCALE:GREGORIAN
METHOD:PUBLISH
X-WR-CALNAME:Ville d&#039;Etaples sur mer
X-ORIGINAL-URL:https://etaples-sur-mer.fr
X-WR-CALDESC:Évènements pour Ville d&#039;Etaples sur mer
REFRESH-INTERVAL;VALUE=DURATION:PT1H
X-Robots-Tag:noindex
X-PUBLISHED-TTL:PT1H
BEGIN:VTIMEZONE
TZID:Europe/Paris
BEGIN:DAYLIGHT
TZOFFSETFROM:+0100
TZOFFSETTO:+0200
TZNAME:CEST
DTSTART:20240331T010000
END:DAYLIGHT
BEGIN:STANDARD
TZOFFSETFROM:+0200
TZOFFSETTO:+0100
TZNAME:CET
DTSTART:20241027T010000
END:STANDARD
BEGIN:DAYLIGHT
TZOFFSETFROM:+0100
TZOFFSETTO:+0200
TZNAME:CEST
DTSTART:20250330T010000
END:DAYLIGHT
BEGIN:STANDARD
TZOFFSETFROM:+0200
TZOFFSETTO:+0100
TZNAME:CET
DTSTART:20251026T010000
END:STANDARD
BEGIN:DAYLIGHT
TZOFFSETFROM:+0100
TZOFFSETTO:+0200
TZNAME:CEST
DTSTART:20260329T010000
END:DAYLIGHT
BEGIN:STANDARD
TZOFFSETFROM:+0200
TZOFFSETTO:+0100
TZNAME:CET
DTSTART:20261025T010000
END:STANDARD
END:VTIMEZONE
BEGIN:VEVENT
DTSTART;TZID=Europe/Paris:20250807T180000
DTEND;TZID=Europe/Paris:20250807T200000
DTSTAMP:20260424T142231
CREATED:20250613T131358Z
LAST-MODIFIED:20250616T073004Z
UID:224706-1754589600-1754596800@etaples-sur-mer.fr
SUMMARY:BUNGY PUMP - MARCHE NORDIQUE
DESCRIPTION:Avec Johan Fourrier\, coach sport/santé \nRDV à 17h45 – Parking face à Maréis \nTarif : 10 € avec ou sans prêt de bâtons \nA partir de 14 ans (sous la responsabilité d’un parent présent) \nConseil et équipement : chaussures de marche tige basse ou style trail. Prévoir une bouteille d’eau pour s’hydrater durant l’activité\, dans un petit sac adapté. \nInfos : J Fourrier – 06 14 52 24 78
URL:https://etaples-sur-mer.fr/evenement/bungy-pump-marche-nordique-5/
LOCATION:Parking Maréis
CATEGORIES:balade,Nature,Sport
ATTACH;FMTTYPE=image/jpeg:https://etaples-sur-mer.fr/wp-content/uploads/2025/06/505431430_744896601246135_6296101734899728432_n.jpg
END:VEVENT
BEGIN:VEVENT
DTSTART;TZID=Europe/Paris:20250807T210000
DTEND;TZID=Europe/Paris:20250807T223000
DTSTAMP:20260424T142231
CREATED:20250630T143125Z
LAST-MODIFIED:20250630T143125Z
UID:226313-1754600400-1754605800@etaples-sur-mer.fr
SUMMARY:FAUNE CRÉPUSCULAIRE
DESCRIPTION:Par le service nature \nJeudi 7 août à 21h – Maison de la Faune et de la Flore – Clos Saint-Victor  \nNous rejoindrons la campagne étaploise pour une balade entre chien et loup. Equipés d’un détecteur ultrasons\, nous écouterons les vocalises des chiroptères et peut-être aurons-nous également la chance d’entendre l’aboiement du Chevreuil européen ou le hululement de la Chouette hulotte. \nVéhicule nécessaire (possibilité de covoiturage)\, vêtements chauds et chaussures de marches sont recommandés. Durée 3h \nTarif : 5€ (gratuit pour les – de 10 ans) \nRenseignements et inscriptions : Service nature 03 21 84 13 93 / 06 66 25 03 72
URL:https://etaples-sur-mer.fr/evenement/faune-crepusculaire-5/
LOCATION:Clos St Victor
CATEGORIES:Animations,Nature
ATTACH;FMTTYPE=image/jpeg:https://etaples-sur-mer.fr/wp-content/uploads/2025/06/faune.jpg
END:VEVENT
END:VCALENDAR