BEGIN:VCALENDAR
VERSION:2.0
PRODID:-//Ville d&#039;Etaples sur mer - ECPv6.15.13.1//NONSGML v1.0//EN
CALSCALE:GREGORIAN
METHOD:PUBLISH
X-WR-CALNAME:Ville d&#039;Etaples sur mer
X-ORIGINAL-URL:https://etaples-sur-mer.fr
X-WR-CALDESC:Évènements pour Ville d&#039;Etaples sur mer
REFRESH-INTERVAL;VALUE=DURATION:PT1H
X-Robots-Tag:noindex
X-PUBLISHED-TTL:PT1H
BEGIN:VTIMEZONE
TZID:Europe/Paris
BEGIN:DAYLIGHT
TZOFFSETFROM:+0100
TZOFFSETTO:+0200
TZNAME:CEST
DTSTART:20240331T010000
END:DAYLIGHT
BEGIN:STANDARD
TZOFFSETFROM:+0200
TZOFFSETTO:+0100
TZNAME:CET
DTSTART:20241027T010000
END:STANDARD
BEGIN:DAYLIGHT
TZOFFSETFROM:+0100
TZOFFSETTO:+0200
TZNAME:CEST
DTSTART:20250330T010000
END:DAYLIGHT
BEGIN:STANDARD
TZOFFSETFROM:+0200
TZOFFSETTO:+0100
TZNAME:CET
DTSTART:20251026T010000
END:STANDARD
BEGIN:DAYLIGHT
TZOFFSETFROM:+0100
TZOFFSETTO:+0200
TZNAME:CEST
DTSTART:20260329T010000
END:DAYLIGHT
BEGIN:STANDARD
TZOFFSETFROM:+0200
TZOFFSETTO:+0100
TZNAME:CET
DTSTART:20261025T010000
END:STANDARD
END:VTIMEZONE
BEGIN:VEVENT
DTSTART;TZID=Europe/Paris:20250801T090000
DTEND;TZID=Europe/Paris:20250801T120000
DTSTAMP:20260424T142231
CREATED:20250630T135122Z
LAST-MODIFIED:20250630T135122Z
UID:226291-1754038800-1754049600@etaples-sur-mer.fr
SUMMARY:GRANDE RANDONNÉE NATURE
DESCRIPTION:Par le service nature \nVendredi 1er août à 9h – Maison de la Faune et de la Flore Clos St-Victor\nEntre mer\, dunes et forêt\, cette randonnée nature vous fera voyager entre prés salés\, plage de sable blanc\, dunes arbustives et forêt littorale. Ce circuit comprend de nombreux passages de sable fin et quelques dénivelés. \nTarif : 5€ – Chaussures de marche recommandées\, prévoir eau\, pique-nique et encas \nRenseignements et inscriptions obligatoires :\n03 21 84 13 93 ou 06 66 25 03 72
URL:https://etaples-sur-mer.fr/evenement/grande-randonnee-nature/
LOCATION:Parc du Clos Saint Victor\, Boulevard Bigot Descelers\, Etaples\, 62630\, France
CATEGORIES:Animations,Nature
ATTACH;FMTTYPE=image/jpeg:https://etaples-sur-mer.fr/wp-content/uploads/2025/06/randonnee.jpg
END:VEVENT
END:VCALENDAR