BEGIN:VCALENDAR
VERSION:2.0
PRODID:-//Ville d&#039;Etaples sur mer - ECPv6.15.13.1//NONSGML v1.0//EN
CALSCALE:GREGORIAN
METHOD:PUBLISH
X-ORIGINAL-URL:https://etaples-sur-mer.fr
X-WR-CALDESC:Évènements pour Ville d&#039;Etaples sur mer
REFRESH-INTERVAL;VALUE=DURATION:PT1H
X-Robots-Tag:noindex
X-PUBLISHED-TTL:PT1H
BEGIN:VTIMEZONE
TZID:Europe/Paris
BEGIN:DAYLIGHT
TZOFFSETFROM:+0100
TZOFFSETTO:+0200
TZNAME:CEST
DTSTART:20240331T010000
END:DAYLIGHT
BEGIN:STANDARD
TZOFFSETFROM:+0200
TZOFFSETTO:+0100
TZNAME:CET
DTSTART:20241027T010000
END:STANDARD
BEGIN:DAYLIGHT
TZOFFSETFROM:+0100
TZOFFSETTO:+0200
TZNAME:CEST
DTSTART:20250330T010000
END:DAYLIGHT
BEGIN:STANDARD
TZOFFSETFROM:+0200
TZOFFSETTO:+0100
TZNAME:CET
DTSTART:20251026T010000
END:STANDARD
BEGIN:DAYLIGHT
TZOFFSETFROM:+0100
TZOFFSETTO:+0200
TZNAME:CEST
DTSTART:20260329T010000
END:DAYLIGHT
BEGIN:STANDARD
TZOFFSETFROM:+0200
TZOFFSETTO:+0100
TZNAME:CET
DTSTART:20261025T010000
END:STANDARD
END:VTIMEZONE
BEGIN:VEVENT
DTSTART;TZID=Europe/Paris:20250728T093000
DTEND;TZID=Europe/Paris:20250728T113000
DTSTAMP:20260424T142543
CREATED:20250613T093112Z
LAST-MODIFIED:20250616T072858Z
UID:224684-1753695000-1753702200@etaples-sur-mer.fr
SUMMARY:BUNGY PUMP - MARCHE NORDIQUE
DESCRIPTION:Avec Johan Fourrier\, coach sport/santé \n9h15 – Parking de la Capitainerie                                                                                                                                                              Tarif : 10 € avec ou sans prêt de bâtons \nA partir de 14 ans (sous la responsabilité d’un parent présent) \nConseil et équipement : chaussures de marche tige basse ou style trail. Prévoir une bouteille d’eau pour s’hydrater durant l’activité\, dans un petit sac adapté. \nInfos : J Fourrier – 06 14 52 24 78 \n 
URL:https://etaples-sur-mer.fr/evenement/bungy-pump-marche-nordique-4-2/
LOCATION:Parking de la Capitainerie
CATEGORIES:balade,Nature
ATTACH;FMTTYPE=image/jpeg:https://etaples-sur-mer.fr/wp-content/uploads/2025/06/505431430_744896601246135_6296101734899728432_n.jpg
END:VEVENT
END:VCALENDAR