BEGIN:VCALENDAR
VERSION:2.0
PRODID:-//Ville d&#039;Etaples sur mer - ECPv6.15.13.1//NONSGML v1.0//EN
CALSCALE:GREGORIAN
METHOD:PUBLISH
X-WR-CALNAME:Ville d&#039;Etaples sur mer
X-ORIGINAL-URL:https://etaples-sur-mer.fr
X-WR-CALDESC:Évènements pour Ville d&#039;Etaples sur mer
REFRESH-INTERVAL;VALUE=DURATION:PT1H
X-Robots-Tag:noindex
X-PUBLISHED-TTL:PT1H
BEGIN:VTIMEZONE
TZID:Europe/Paris
BEGIN:DAYLIGHT
TZOFFSETFROM:+0100
TZOFFSETTO:+0200
TZNAME:CEST
DTSTART:20240331T010000
END:DAYLIGHT
BEGIN:STANDARD
TZOFFSETFROM:+0200
TZOFFSETTO:+0100
TZNAME:CET
DTSTART:20241027T010000
END:STANDARD
BEGIN:DAYLIGHT
TZOFFSETFROM:+0100
TZOFFSETTO:+0200
TZNAME:CEST
DTSTART:20250330T010000
END:DAYLIGHT
BEGIN:STANDARD
TZOFFSETFROM:+0200
TZOFFSETTO:+0100
TZNAME:CET
DTSTART:20251026T010000
END:STANDARD
BEGIN:DAYLIGHT
TZOFFSETFROM:+0100
TZOFFSETTO:+0200
TZNAME:CEST
DTSTART:20260329T010000
END:DAYLIGHT
BEGIN:STANDARD
TZOFFSETFROM:+0200
TZOFFSETTO:+0100
TZNAME:CET
DTSTART:20261025T010000
END:STANDARD
END:VTIMEZONE
BEGIN:VEVENT
DTSTART;TZID=Europe/Paris:20250723T090000
DTEND;TZID=Europe/Paris:20250723T123000
DTSTAMP:20260424T154628
CREATED:20250611T151731Z
LAST-MODIFIED:20250613T083633Z
UID:224454-1753261200-1753273800@etaples-sur-mer.fr
SUMMARY:LES OISEAUX DE LA BAIE DE CANCHE
DESCRIPTION:Par le service « Nature » \nAvec sa multitude de milieux naturels\, la Baie de Canche est un véritable paradis pour les oiseaux. Équipés de jumelles et d’une longue-vue\, nous observerons les différentes espèces présentes sur le site (Tadorne de Belon\, Huitrier pie\, Spatule blanche\, Tarier patre…) \nTarif : 5€ (gratuit pour les – de 10 ans) \nInfos et inscriptions obligatoires : Service Nature 03.21.84.13.93 (8h30 – 16h30) / 06.66.25.03.72
URL:https://etaples-sur-mer.fr/evenement/les-oiseaux-de-la-baie-de-canche/
LOCATION:– Maison de la Faune et de la Flore Clos St-Victor
CATEGORIES:Culture,Nature,Tourisme,Tradition
ATTACH;FMTTYPE=image/jpeg:https://etaples-sur-mer.fr/wp-content/uploads/2025/06/504138906_739724425096686_1956251136054688312_n.jpg
END:VEVENT
BEGIN:VEVENT
DTSTART;TZID=Europe/Paris:20250723T210000
DTEND;TZID=Europe/Paris:20250723T233000
DTSTAMP:20260424T154628
CREATED:20250630T120050Z
LAST-MODIFIED:20250630T120258Z
UID:226258-1753304400-1753313400@etaples-sur-mer.fr
SUMMARY:Sortie : Faune crépusculaire
DESCRIPTION:Par le service « Nature » \nMercredi 23 juillet à 21h00 – Maison de la Faune et de la Flore – Clos St-Victor\, Bd Bigot Descelers \nNous rejoindrons la campagne étaploise pour une balade entre chien et loup. Equipés d’un détecteur ultrasons\, nous écouterons les vocalises des chiroptères et peut-être aurons-nous également la chance d’entendre l’aboiement du Chevreuil européen ou l’hululement de la Chouette hulotte. \nVéhicule nécessaire (possibilité de covoiturage)\, vêtements chauds et chaussures de marches sont recommandés \nTarif : 5€ (gratuit pour les – de 10 ans) \nInfos et inscriptions obligatoires : Service Nature 03.21.84.13.93 (8h30 – 16h30) / 06.66.25.03.72
URL:https://etaples-sur-mer.fr/evenement/sortie-faune-crepusculaire-2/
LOCATION:clos saint victor
CATEGORIES:Animations,Nature
ATTACH;FMTTYPE=image/jpeg:https://etaples-sur-mer.fr/wp-content/uploads/2025/06/IMG_5385-scaled.jpg
ORGANIZER;CN="Service nature de la ville d'Etaples sur mer":MAILTO:nature.etaples@gmail.com
END:VEVENT
END:VCALENDAR