BEGIN:VCALENDAR
VERSION:2.0
PRODID:-//Ville d&#039;Etaples sur mer - ECPv6.15.13.1//NONSGML v1.0//EN
CALSCALE:GREGORIAN
METHOD:PUBLISH
X-ORIGINAL-URL:https://etaples-sur-mer.fr
X-WR-CALDESC:Évènements pour Ville d&#039;Etaples sur mer
REFRESH-INTERVAL;VALUE=DURATION:PT1H
X-Robots-Tag:noindex
X-PUBLISHED-TTL:PT1H
BEGIN:VTIMEZONE
TZID:Europe/Paris
BEGIN:DAYLIGHT
TZOFFSETFROM:+0100
TZOFFSETTO:+0200
TZNAME:CEST
DTSTART:20240331T010000
END:DAYLIGHT
BEGIN:STANDARD
TZOFFSETFROM:+0200
TZOFFSETTO:+0100
TZNAME:CET
DTSTART:20241027T010000
END:STANDARD
BEGIN:DAYLIGHT
TZOFFSETFROM:+0100
TZOFFSETTO:+0200
TZNAME:CEST
DTSTART:20250330T010000
END:DAYLIGHT
BEGIN:STANDARD
TZOFFSETFROM:+0200
TZOFFSETTO:+0100
TZNAME:CET
DTSTART:20251026T010000
END:STANDARD
BEGIN:DAYLIGHT
TZOFFSETFROM:+0100
TZOFFSETTO:+0200
TZNAME:CEST
DTSTART:20260329T010000
END:DAYLIGHT
BEGIN:STANDARD
TZOFFSETFROM:+0200
TZOFFSETTO:+0100
TZNAME:CET
DTSTART:20261025T010000
END:STANDARD
END:VTIMEZONE
BEGIN:VEVENT
DTSTART;TZID=Europe/Paris:20250707T140000
DTEND;TZID=Europe/Paris:20250707T163000
DTSTAMP:20260424T154817
CREATED:20250612T120024Z
LAST-MODIFIED:20250630T094315Z
UID:224527-1751896800-1751905800@etaples-sur-mer.fr
SUMMARY:BUNGY PUMP-MARCHE NORDIQUE
DESCRIPTION:Avec Johan Fourrier\, coach sport/santé \nDe 14h15 à 16h15 – RDV à 14h – Parking de la Capitainerie \nTarif : 10 € avec ou sans prêt de bâtons \nA partir de 14 ans (sous la responsabilité d’un parent présent) \nConseil et équipement : chaussures de marche tige basse ou style trail. Prévoir une bouteille d’eau pour s’hydrater durant l’activité\, dans un petit sac adapté. \nInfos : J Fourrier – 06 14 52 24 78 \nQu’est ce que la marche nordique ? \nLa marche nordique est une pratique de marche dynamique en pleine nature. Elle allie de manière idéale un travail d’endurance accessible à tous\, la marche\, et un renforcement musculaire de l’ensemble du corps. \nLe principe est simple : il s’agit d’accentuer le mouvement naturel des bras pendant la marche et de propulser le corps vers l’avant à l’aide de deux bâtons qui permettent d’aller plus vite et de marcher plus longtemps. \nL’ensemble du corps entre en action\, renforçant ainsi 80% des chaînes musculaires. La dépense énergétique est équivalente à un petit footing. \nCette activité procure plaisir et bien être du fait de la simplicité de sa technique et s’adresse ainsi à tous les publics\, quels que soient votre âge et votre condition physique. \nQu’est-ce que le Bungy Pump ? \nMoins fatigant que le running\, plus tonique que la randonnée pédestre\, le Bungy Pump\, variante ludique de la marche nordique permet\, grâce à des bâtons munis de résistance\, de se muscler sans y penser. Grâce à cette activité\, 90% des muscles du corps sont sollicités. La pression exercée sur le bâton permet de renforcer musculairement la partie haute du corps. Le dos se place naturellement dans la bonne position\, les dorsaux travaillant alors simultanément avec les abdominaux. Cette posture favorise une ouverture de la cage thoracique\, donc une oxygénation accrue. \nDonc venez\, vous changer les idées et découvrir une toute nouvelle activité unique dans la région animée par votre coach Johan Fourrier Coach Sport/Santé
URL:https://etaples-sur-mer.fr/evenement/bungy-pump-marche-nordique/
LOCATION:Parking de la Capitainerie
CATEGORIES:balade,Nature
ATTACH;FMTTYPE=image/jpeg:https://etaples-sur-mer.fr/wp-content/uploads/2025/06/505431430_744896601246135_6296101734899728432_n.jpg
END:VEVENT
END:VCALENDAR