BEGIN:VCALENDAR
VERSION:2.0
PRODID:-//Ville d&#039;Etaples sur mer - ECPv6.15.13.1//NONSGML v1.0//EN
CALSCALE:GREGORIAN
METHOD:PUBLISH
X-ORIGINAL-URL:https://etaples-sur-mer.fr
X-WR-CALDESC:Évènements pour Ville d&#039;Etaples sur mer
REFRESH-INTERVAL;VALUE=DURATION:PT1H
X-Robots-Tag:noindex
X-PUBLISHED-TTL:PT1H
BEGIN:VTIMEZONE
TZID:Europe/Paris
BEGIN:DAYLIGHT
TZOFFSETFROM:+0100
TZOFFSETTO:+0200
TZNAME:CEST
DTSTART:20240331T010000
END:DAYLIGHT
BEGIN:STANDARD
TZOFFSETFROM:+0200
TZOFFSETTO:+0100
TZNAME:CET
DTSTART:20241027T010000
END:STANDARD
BEGIN:DAYLIGHT
TZOFFSETFROM:+0100
TZOFFSETTO:+0200
TZNAME:CEST
DTSTART:20250330T010000
END:DAYLIGHT
BEGIN:STANDARD
TZOFFSETFROM:+0200
TZOFFSETTO:+0100
TZNAME:CET
DTSTART:20251026T010000
END:STANDARD
BEGIN:DAYLIGHT
TZOFFSETFROM:+0100
TZOFFSETTO:+0200
TZNAME:CEST
DTSTART:20260329T010000
END:DAYLIGHT
BEGIN:STANDARD
TZOFFSETFROM:+0200
TZOFFSETTO:+0100
TZNAME:CET
DTSTART:20261025T010000
END:STANDARD
END:VTIMEZONE
BEGIN:VEVENT
DTSTART;TZID=Europe/Paris:20250503T080000
DTEND;TZID=Europe/Paris:20250504T183000
DTSTAMP:20260424T191538
CREATED:20250314T083601Z
LAST-MODIFIED:20250314T084904Z
UID:218194-1746259200-1746383400@etaples-sur-mer.fr
SUMMARY:Concours photo - quand la nature se révèle
DESCRIPTION:Par le service événementiel et le service nature \nConcours photo « Quand la nature se révèle » – Exposition les 3 et 4 mai 2025 – Au parc du Clos Saint-Victor \nDans le cadre du 10ème Week-end Nature et Jardin\, le service Événementiel et le service Nature de la municipalité organisent un concours photo intitulé « Quand la nature se révèle ». \nL’objectif est de mettre en valeur la faune\, la flore et les paysages d’Étaples-sur-mer et de ses environs\, notamment les dunes\, la forêt\, la baie de Canche\, l’estuaire… \nLes photographies présentées devront être des œuvres originales et ne devront pas faire l’objet de montages à l’aide d’un logiciel de photos. \nQui peut participer ? \nLe concours est ouvert à tous : amateurs\, professionnels… \nComment participer ? \nChaque participant peut soumettre jusqu’à trois photographies. \nLes candidatures doivent être envoyées avec le bulletin d’inscription complété\, au plus tard le 15 avril 2025 à minuit à l’adresse suivante : communication@etaples-sur-mer.net. \nBulletin d’inscription disponible ici : https://etaples-sur-mer.fr/…/bulletin-inscription… \nRetrouvez le règlement complet sur le site de la ville : https://etaples-sur-mer.fr/…/Reglement-concours-photo… \n\nÀ l’issue du concours\, une présélection des clichés sera effectuée et les photos retenues seront exposées lors du Week-end Nature et Jardin\, les samedi 3 et dimanche 4 mai 2025. \nLa remise des prix aura lieu le dimanche 4 mai à 17h \nLes photos primées seront ensuite exposées durant l’été au Parc du Clos Saint-Victor. \nRenseignements : Service Événementiel 03 21 89 62 70
URL:https://etaples-sur-mer.fr/evenement/concours-photo-quand-la-nature-se-revele/
LOCATION:Parc du Clos Saint Victor\, Boulevard Bigot Descelers\, Etaples\, 62630\, France
CATEGORIES:Animations,Exposition,Nature
ATTACH;FMTTYPE=image/jpeg:https://etaples-sur-mer.fr/wp-content/uploads/2025/03/affiche-concours-photo-web.jpg
ORGANIZER;CN="Service %C3%A9v%C3%A9nementiel":MAILTO:communication@etaples-sur-mer.net
END:VEVENT
BEGIN:VEVENT
DTSTART;TZID=Europe/Paris:20250503T100000
DTEND;TZID=Europe/Paris:20250504T180000
DTSTAMP:20260424T191539
CREATED:20241127T141510Z
LAST-MODIFIED:20250429T115840Z
UID:213257-1746266400-1746381600@etaples-sur-mer.fr
SUMMARY:« 10ème week-end nature et jardin »
DESCRIPTION:Par le service événementiel \nSamedi 3 et dimanche 4 mai de 10h à 18h – parc du Clos Saint-Victor \nLe site exceptionnel du parc du Clos-Saint-Victor servira de décor à cette manifestation. Marché des producteurs mais également animations\, ateliers\, rencontres\, balades\, démonstrations\, vous attendront pour passer un week-end gourmand et pédagogique. De nombreux stands seront proposés : fleuristes paysagistes\, pépiniéristes… mais aussi des producteurs locaux. Une ferme pédagogique\, de nombreuses animations permettront de découvrir ou redécouvrir notre patrimoine naturel. Chaque passionné trouvera son bonheur parmi les nombreux stands et chapiteaux. Le tout étant bien entendu animé d’une belle ambiance musicale. \nDécouvrez la programmation : https://etaples-sur-mer.fr/wp-content/uploads/2025/04/Flyer-we-nature-et-jardin-2025.pdf \nInfos : 03 21 89 62 70
URL:https://etaples-sur-mer.fr/evenement/10eme-week-end-nature-et-jardin/
LOCATION:Clos St Victor
CATEGORIES:Animations,Culture,Exposition,Nature
ATTACH;FMTTYPE=image/jpeg:https://etaples-sur-mer.fr/wp-content/uploads/2024/11/Affiche-week-end-nature-et-jardin-2025-web-scaled.jpg
ORGANIZER;CN="Service %C3%A9v%C3%A9nementiel":MAILTO:communication@etaples-sur-mer.net
END:VEVENT
BEGIN:VEVENT
DTSTART;TZID=Europe/Paris:20250504T090000
DTEND;TZID=Europe/Paris:20250504T120000
DTSTAMP:20260424T191539
CREATED:20241127T145932Z
LAST-MODIFIED:20241127T145932Z
UID:213276-1746349200-1746360000@etaples-sur-mer.fr
SUMMARY:Découverte des oiseaux
DESCRIPTION:Par le service nature \nDimanche 4 mai à 9h00 – Clos Saint-Victor \nDans le cadre du week-end nature et jardin. Equipez de jumelles\, partez à la découverte des différentes espèces qui peuplent les abords de la Baie de Canche. \nGratuit – Durée 3h. Inscription obligatoire \nInfos : service nature – 03 21 84 13 93
URL:https://etaples-sur-mer.fr/evenement/decouverte-des-oiseaux/
LOCATION:Clos St Victor
CATEGORIES:Animations,balade,Nature
ATTACH;FMTTYPE=image/jpeg:https://etaples-sur-mer.fr/wp-content/uploads/2024/11/Decouverte-des-oiseaux.jpg
ORGANIZER;CN="Service nature de la ville d'Etaples sur mer":MAILTO:nature.etaples@gmail.com
END:VEVENT
END:VCALENDAR