BEGIN:VCALENDAR
VERSION:2.0
PRODID:-//Ville d&#039;Etaples sur mer - ECPv6.15.13.1//NONSGML v1.0//EN
CALSCALE:GREGORIAN
METHOD:PUBLISH
X-WR-CALNAME:Ville d&#039;Etaples sur mer
X-ORIGINAL-URL:https://etaples-sur-mer.fr
X-WR-CALDESC:Évènements pour Ville d&#039;Etaples sur mer
REFRESH-INTERVAL;VALUE=DURATION:PT1H
X-Robots-Tag:noindex
X-PUBLISHED-TTL:PT1H
BEGIN:VTIMEZONE
TZID:Europe/Paris
BEGIN:DAYLIGHT
TZOFFSETFROM:+0100
TZOFFSETTO:+0200
TZNAME:CEST
DTSTART:20240331T010000
END:DAYLIGHT
BEGIN:STANDARD
TZOFFSETFROM:+0200
TZOFFSETTO:+0100
TZNAME:CET
DTSTART:20241027T010000
END:STANDARD
BEGIN:DAYLIGHT
TZOFFSETFROM:+0100
TZOFFSETTO:+0200
TZNAME:CEST
DTSTART:20250330T010000
END:DAYLIGHT
BEGIN:STANDARD
TZOFFSETFROM:+0200
TZOFFSETTO:+0100
TZNAME:CET
DTSTART:20251026T010000
END:STANDARD
BEGIN:DAYLIGHT
TZOFFSETFROM:+0100
TZOFFSETTO:+0200
TZNAME:CEST
DTSTART:20260329T010000
END:DAYLIGHT
BEGIN:STANDARD
TZOFFSETFROM:+0200
TZOFFSETTO:+0100
TZNAME:CET
DTSTART:20261025T010000
END:STANDARD
END:VTIMEZONE
BEGIN:VEVENT
DTSTART;TZID=Europe/Paris:20250414T093000
DTEND;TZID=Europe/Paris:20250414T113000
DTSTAMP:20260424T202825
CREATED:20241126T094250Z
LAST-MODIFIED:20241126T094250Z
UID:213030-1744623000-1744630200@etaples-sur-mer.fr
SUMMARY:Balade nature : "Pêche à pieds\, coquillages et laisse de mer"
DESCRIPTION:Par le service nature \nLundi 14 avril à 9h30 – parking à bateau de Sainte Cécile \nLe retrait de la marée laisse sur la plage et dans les retenues d’eau de nombreux trésors naturels. Equipés de filets\, tentez de capturer ces mystérieux habitants. L’occasion également de faire un petit ramassage de déchets ! \nTarif : 5 € / personne. Durée : 2h. \n 
URL:https://etaples-sur-mer.fr/evenement/balade-nature-peche-a-pieds-coquillages-et-laisse-de-mer/
LOCATION:Baie de Canche
CATEGORIES:Animations,Nature
ATTACH;FMTTYPE=image/jpeg:https://etaples-sur-mer.fr/wp-content/uploads/2024/11/b-alade.jpg
END:VEVENT
END:VCALENDAR