BEGIN:VCALENDAR
VERSION:2.0
PRODID:-//Ville d&#039;Etaples sur mer - ECPv6.15.13.1//NONSGML v1.0//EN
CALSCALE:GREGORIAN
METHOD:PUBLISH
X-WR-CALNAME:Ville d&#039;Etaples sur mer
X-ORIGINAL-URL:https://etaples-sur-mer.fr
X-WR-CALDESC:Évènements pour Ville d&#039;Etaples sur mer
REFRESH-INTERVAL;VALUE=DURATION:PT1H
X-Robots-Tag:noindex
X-PUBLISHED-TTL:PT1H
BEGIN:VTIMEZONE
TZID:Europe/Paris
BEGIN:DAYLIGHT
TZOFFSETFROM:+0100
TZOFFSETTO:+0200
TZNAME:CEST
DTSTART:20240331T010000
END:DAYLIGHT
BEGIN:STANDARD
TZOFFSETFROM:+0200
TZOFFSETTO:+0100
TZNAME:CET
DTSTART:20241027T010000
END:STANDARD
BEGIN:DAYLIGHT
TZOFFSETFROM:+0100
TZOFFSETTO:+0200
TZNAME:CEST
DTSTART:20250330T010000
END:DAYLIGHT
BEGIN:STANDARD
TZOFFSETFROM:+0200
TZOFFSETTO:+0100
TZNAME:CET
DTSTART:20251026T010000
END:STANDARD
BEGIN:DAYLIGHT
TZOFFSETFROM:+0100
TZOFFSETTO:+0200
TZNAME:CEST
DTSTART:20260329T010000
END:DAYLIGHT
BEGIN:STANDARD
TZOFFSETFROM:+0200
TZOFFSETTO:+0100
TZNAME:CET
DTSTART:20261025T010000
END:STANDARD
END:VTIMEZONE
BEGIN:VEVENT
DTSTART;TZID=Europe/Paris:20250412T100000
DTEND;TZID=Europe/Paris:20250412T130000
DTSTAMP:20260424T203220
CREATED:20241126T093311Z
LAST-MODIFIED:20241126T093311Z
UID:213000-1744452000-1744462800@etaples-sur-mer.fr
SUMMARY:Balade nature : « Les oiseaux de l’estuaire »
DESCRIPTION:Par le service nature \nSamedi 12 avril à 10h – Clos Saint-Victor \nDans le cadre du festival de l’oiseau\, en partenariat avec l’association ABC. \nAu printemps\, la baie de Canche devient une zone de halte nécessaire pour tous les migrateurs en route vers leurs quartiers d’été. Passereaux\, canards mais également limicoles. Venez découvrir cette magnifique diversité. \nTarif : 5€ / personne.  Durée : 3h \nInscription obligatoire : https://www.festival-oiseau-nature.com \nInfos : 03 21 84 13 93
URL:https://etaples-sur-mer.fr/evenement/balade-nature-les-oiseaux-de-lestuaire/
LOCATION:clos saint victor
CATEGORIES:Animations,Nature
ATTACH;FMTTYPE=image/jpeg:https://etaples-sur-mer.fr/wp-content/uploads/2024/11/oiseaux.jpg
END:VEVENT
BEGIN:VEVENT
DTSTART;TZID=Europe/Paris:20250412T200000
DTEND;TZID=Europe/Paris:20250412T233000
DTSTAMP:20260424T203220
CREATED:20241126T093738Z
LAST-MODIFIED:20250324T152003Z
UID:213016-1744488000-1744500600@etaples-sur-mer.fr
SUMMARY:Défilé « Mets ta morphose »
DESCRIPTION:Par l’association « l’Upcycling artistique » \nSamedi 12 avril à 20h30 – salle de la Corderie \nL’objectif de l’association « Upcycling Artistique » vise à valoriser l’économie circulaire grâce au surcyclage de matériaux divers : textile\, plastiques\, cuir et bien d’autres…Vous en aurez plein les yeux avec un défilé de mode haut en couleur !!!  Des matières récupérées\, transformées\, détournées grâce à un travail artistique\, créatif et ludique !De l’inutile naît la beauté ! \nEntrée gratuite \nInfos : M. Coupez – 07 70 09 98 04
URL:https://etaples-sur-mer.fr/evenement/mets-ta-morphose/
LOCATION:Salle de la Corderie
CATEGORIES:Animations,Culture,Nature
ATTACH;FMTTYPE=image/jpeg:https://etaples-sur-mer.fr/wp-content/uploads/2024/11/Affiche-defile-upcycling-2025-web-scaled.jpg
END:VEVENT
END:VCALENDAR