BEGIN:VCALENDAR
VERSION:2.0
PRODID:-//Ville d&#039;Etaples sur mer - ECPv6.15.13.1//NONSGML v1.0//EN
CALSCALE:GREGORIAN
METHOD:PUBLISH
X-ORIGINAL-URL:https://etaples-sur-mer.fr
X-WR-CALDESC:Évènements pour Ville d&#039;Etaples sur mer
REFRESH-INTERVAL;VALUE=DURATION:PT1H
X-Robots-Tag:noindex
X-PUBLISHED-TTL:PT1H
BEGIN:VTIMEZONE
TZID:Europe/Paris
BEGIN:DAYLIGHT
TZOFFSETFROM:+0100
TZOFFSETTO:+0200
TZNAME:CEST
DTSTART:20230326T010000
END:DAYLIGHT
BEGIN:STANDARD
TZOFFSETFROM:+0200
TZOFFSETTO:+0100
TZNAME:CET
DTSTART:20231029T010000
END:STANDARD
BEGIN:DAYLIGHT
TZOFFSETFROM:+0100
TZOFFSETTO:+0200
TZNAME:CEST
DTSTART:20240331T010000
END:DAYLIGHT
BEGIN:STANDARD
TZOFFSETFROM:+0200
TZOFFSETTO:+0100
TZNAME:CET
DTSTART:20241027T010000
END:STANDARD
BEGIN:DAYLIGHT
TZOFFSETFROM:+0100
TZOFFSETTO:+0200
TZNAME:CEST
DTSTART:20250330T010000
END:DAYLIGHT
BEGIN:STANDARD
TZOFFSETFROM:+0200
TZOFFSETTO:+0100
TZNAME:CET
DTSTART:20251026T010000
END:STANDARD
END:VTIMEZONE
BEGIN:VEVENT
DTSTART;TZID=Europe/Paris:20241020T100000
DTEND;TZID=Europe/Paris:20241020T120000
DTSTAMP:20260425T053006
CREATED:20240909T115118Z
LAST-MODIFIED:20240909T115118Z
UID:207031-1729418400-1729425600@etaples-sur-mer.fr
SUMMARY:SORTIE NATURE EN RÉSERVE NATURELLE DE LA BAIE DE CANCHE
DESCRIPTION:DANS LES COULISSES DE LA RÉSERVE\nDimanche 20 Octobre 2024\nà la Réserve naturelle de la Baie de Canche\npar Eden 62 \n« Le pâturage est un mode de gestion écologique et bénéfique pour préserver les richesses naturelles. Accompagnés d’un garde et d’une animatrice\, découvrons sous toutes les coutures ces bêtes à 4 pattes et l’environnement dans lequel elles se trouvent. » \nInscription obligatoire au 06 11 15 40 89 ou à hedwige.letienne@eden62.fr (15 participants max.) \nRendez-vous à 10 heures sur le parking de la Réserve\, route d’Étaples-sur-mer à Camiers. \n 
URL:https://etaples-sur-mer.fr/evenement/sortie-nature-en-reserve-naturelle-de-la-baie-de-canche-3/
LOCATION:réserve naturelle de la Baie de Canche\, rd 940\, etaples\, France
CATEGORIES:Animations,Associations,balade,Nature
ATTACH;FMTTYPE=image/jpeg:https://etaples-sur-mer.fr/wp-content/uploads/2024/09/Affiche-20-octobre1-scaled.jpg
END:VEVENT
END:VCALENDAR