BEGIN:VCALENDAR
VERSION:2.0
PRODID:-//Ville d&#039;Etaples sur mer - ECPv6.15.13.1//NONSGML v1.0//EN
CALSCALE:GREGORIAN
METHOD:PUBLISH
X-ORIGINAL-URL:https://etaples-sur-mer.fr
X-WR-CALDESC:Évènements pour Ville d&#039;Etaples sur mer
REFRESH-INTERVAL;VALUE=DURATION:PT1H
X-Robots-Tag:noindex
X-PUBLISHED-TTL:PT1H
BEGIN:VTIMEZONE
TZID:Europe/Paris
BEGIN:DAYLIGHT
TZOFFSETFROM:+0100
TZOFFSETTO:+0200
TZNAME:CEST
DTSTART:20230326T010000
END:DAYLIGHT
BEGIN:STANDARD
TZOFFSETFROM:+0200
TZOFFSETTO:+0100
TZNAME:CET
DTSTART:20231029T010000
END:STANDARD
BEGIN:DAYLIGHT
TZOFFSETFROM:+0100
TZOFFSETTO:+0200
TZNAME:CEST
DTSTART:20240331T010000
END:DAYLIGHT
BEGIN:STANDARD
TZOFFSETFROM:+0200
TZOFFSETTO:+0100
TZNAME:CET
DTSTART:20241027T010000
END:STANDARD
BEGIN:DAYLIGHT
TZOFFSETFROM:+0100
TZOFFSETTO:+0200
TZNAME:CEST
DTSTART:20250330T010000
END:DAYLIGHT
BEGIN:STANDARD
TZOFFSETFROM:+0200
TZOFFSETTO:+0100
TZNAME:CET
DTSTART:20251026T010000
END:STANDARD
END:VTIMEZONE
BEGIN:VEVENT
DTSTART;TZID=Europe/Paris:20241010T080000
DTEND;TZID=Europe/Paris:20241013T170000
DTSTAMP:20260425T053023
CREATED:20240910T074401Z
LAST-MODIFIED:20241010T093916Z
UID:207058-1728547200-1728838800@etaples-sur-mer.fr
SUMMARY:LES RENDEZ-VOUS D’AUTOMNE DU FESTIVAL DE L’OISEAU ET DE LA NATURE
DESCRIPTION:Profitez de projections et d’activités en plein air pour découvrir la beauté des oiseaux et de la nature à l’occasion du Festival de l’Oiseau en partenariat avec l’Association Baie de Canche.\n\n\nVendredi 11 octobre : Projection du film « Quand passent les oiseaux »\nà 18h au Cinéma Les 3 AS\, Le Touquet\nEntrée gratuite pour tous les passionnés de nature et de cinéma !\n\n\n+ Deux sorties nature à ne pas manquer :\nCOMPLET – 1. Samedi 12 octobre : Rendez-vous à 9h au Chemin des Bateaux à Camiers\nDurée : 2h30 d’observation et de découverte.\n\n\nCOMPLET – 2. Dimanche 13 octobre : Rendez-vous à 10h au Centre Nautique de la Baie de Canche\, Le Touquet\nUne occasion idéale pour explorer la faune et la flore locales.
URL:https://etaples-sur-mer.fr/evenement/les-rendez-vous-dautomne-du-festival-de-loiseau-et-de-la-nature/
CATEGORIES:Associations,Culture,Festival,Nature
ATTACH;FMTTYPE=image/jpeg:https://etaples-sur-mer.fr/wp-content/uploads/2024/09/Festival-de-loiseau-VF-scaled.jpg
END:VEVENT
BEGIN:VEVENT
DTSTART;TZID=Europe/Paris:20241013T100000
DTEND;TZID=Europe/Paris:20241013T120000
DTSTAMP:20260425T053023
CREATED:20240909T100448Z
LAST-MODIFIED:20240909T100448Z
UID:207028-1728813600-1728820800@etaples-sur-mer.fr
SUMMARY:SORTIE NATURE EN RÉSERVE NATURELLE DE LA BAIE DE CANCHE
DESCRIPTION:DÉCOUVRIR LES BAIES COMESTIBLES ET TOXIQUES\nDimanche 13 Octobre 2024\nà la Réserve Naturelle de la Baie de Canche\npar Eden 62 \n« L’automne est bien là ! Les arbustes de la réserve se couvrent de fruits. Certains sont comestibles et d’autres sont toxiques. Découvrons les bienfaits de ces baies comestibles et apprenons à éviter toute toxicité. » \nInscription obligatoire au 06 11 15 40 89 ou à hedwige.letienne@eden62.fr \nRendez-vous à 10 heures sur le parking du Cimetière Britannique d’Étaples-sur-mer \n 
URL:https://etaples-sur-mer.fr/evenement/sortie-nature-en-reserve-naturelle-de-la-baie-de-canche-2/
LOCATION:cimetière militaire d’Etaples\, D940\, Etaples-sur-mer\, 62630\, France
CATEGORIES:Associations,balade,Nature
ATTACH;FMTTYPE=image/jpeg:https://etaples-sur-mer.fr/wp-content/uploads/2024/09/Affiche-13-octobre-scaled.jpg
END:VEVENT
END:VCALENDAR