BEGIN:VCALENDAR
VERSION:2.0
PRODID:-//Ville d&#039;Etaples sur mer - ECPv6.15.13.1//NONSGML v1.0//EN
CALSCALE:GREGORIAN
METHOD:PUBLISH
X-ORIGINAL-URL:https://etaples-sur-mer.fr
X-WR-CALDESC:Évènements pour Ville d&#039;Etaples sur mer
REFRESH-INTERVAL;VALUE=DURATION:PT1H
X-Robots-Tag:noindex
X-PUBLISHED-TTL:PT1H
BEGIN:VTIMEZONE
TZID:Europe/Paris
BEGIN:DAYLIGHT
TZOFFSETFROM:+0100
TZOFFSETTO:+0200
TZNAME:CEST
DTSTART:20230326T010000
END:DAYLIGHT
BEGIN:STANDARD
TZOFFSETFROM:+0200
TZOFFSETTO:+0100
TZNAME:CET
DTSTART:20231029T010000
END:STANDARD
BEGIN:DAYLIGHT
TZOFFSETFROM:+0100
TZOFFSETTO:+0200
TZNAME:CEST
DTSTART:20240331T010000
END:DAYLIGHT
BEGIN:STANDARD
TZOFFSETFROM:+0200
TZOFFSETTO:+0100
TZNAME:CET
DTSTART:20241027T010000
END:STANDARD
BEGIN:DAYLIGHT
TZOFFSETFROM:+0100
TZOFFSETTO:+0200
TZNAME:CEST
DTSTART:20250330T010000
END:DAYLIGHT
BEGIN:STANDARD
TZOFFSETFROM:+0200
TZOFFSETTO:+0100
TZNAME:CET
DTSTART:20251026T010000
END:STANDARD
END:VTIMEZONE
BEGIN:VEVENT
DTSTART;TZID=Europe/Paris:20241005T093000
DTEND;TZID=Europe/Paris:20241005T123000
DTSTAMP:20260425T053006
CREATED:20240620T131927Z
LAST-MODIFIED:20240910T152706Z
UID:199723-1728120600-1728131400@etaples-sur-mer.fr
SUMMARY:MARCHE NATURE DANS LE CADRE D'OCTOBRE ROSE
DESCRIPTION:Par le Service Action Sociale du CCAS d’Etaples-sur-mer et le Centre Social CAF \nLe samedi 5 octobre  Rendez-vous à 9h30 au Clos St Victor (Maison de la Faune et de la Flore) \nPartenariat avec le Service Prévention de la CPAM Côte d’Opale et le Service Développement Durable et Education de l’Environnement de la Ville d’Etaples-sur-mer. Marche Nature encadrée par des guides nature qui feront découvrir la faune et la flore étaploise ! Se munir d’un accessoire rose. À la fin de la marche\, le pot de l’amitié sera offert. \nSensibilisation du public (idéalement les femmes de 50 à 74 ans) sur l’importance du dépistage organisé du cancer du sein. \n>> Marche nature gratuite \nRenseignements : CCAS – 03 21 89 60 60 / Centre social CAF – 03 21 94 62 00 \n 
URL:https://etaples-sur-mer.fr/evenement/marche-nature-dans-le-cadre-doctobre-rose-3/
LOCATION:Clos St Victor
CATEGORIES:Animations,Nature
ATTACH;FMTTYPE=image/jpeg:https://etaples-sur-mer.fr/wp-content/uploads/2024/06/Affiche-marche-rose-2024_web-scaled.jpg
END:VEVENT
END:VCALENDAR