BEGIN:VCALENDAR
VERSION:2.0
PRODID:-//Ville d&#039;Etaples sur mer - ECPv6.15.13.1//NONSGML v1.0//EN
CALSCALE:GREGORIAN
METHOD:PUBLISH
X-ORIGINAL-URL:https://etaples-sur-mer.fr
X-WR-CALDESC:Évènements pour Ville d&#039;Etaples sur mer
REFRESH-INTERVAL;VALUE=DURATION:PT1H
X-Robots-Tag:noindex
X-PUBLISHED-TTL:PT1H
BEGIN:VTIMEZONE
TZID:Europe/Paris
BEGIN:DAYLIGHT
TZOFFSETFROM:+0100
TZOFFSETTO:+0200
TZNAME:CEST
DTSTART:20250330T010000
END:DAYLIGHT
BEGIN:STANDARD
TZOFFSETFROM:+0200
TZOFFSETTO:+0100
TZNAME:CET
DTSTART:20251026T010000
END:STANDARD
BEGIN:DAYLIGHT
TZOFFSETFROM:+0100
TZOFFSETTO:+0200
TZNAME:CEST
DTSTART:20260329T010000
END:DAYLIGHT
BEGIN:STANDARD
TZOFFSETFROM:+0200
TZOFFSETTO:+0100
TZNAME:CET
DTSTART:20261025T010000
END:STANDARD
BEGIN:DAYLIGHT
TZOFFSETFROM:+0100
TZOFFSETTO:+0200
TZNAME:CEST
DTSTART:20270328T010000
END:DAYLIGHT
BEGIN:STANDARD
TZOFFSETFROM:+0200
TZOFFSETTO:+0100
TZNAME:CET
DTSTART:20271031T010000
END:STANDARD
END:VTIMEZONE
BEGIN:VEVENT
DTSTART;TZID=Europe/Paris:20260501T083000
DTEND;TZID=Europe/Paris:20260501T130000
DTSTAMP:20260424T011958
CREATED:20260114T154905Z
LAST-MODIFIED:20260114T160304Z
UID:238862-1777624200-1777640400@etaples-sur-mer.fr
SUMMARY:1er Trail de la cité des pêcheurs
DESCRIPTION:Vendredi 1er mai – complexe sportif Jean Bigot \nPREMIÈRE ÉDITION DU TRAIL DE LA CITÉ DES PÊCHEURSL’AS Étaples Triathlon est heureuse d’annoncer la création du « Trail de la Cité des Pêcheurs »\, dont la première édition se tiendra le vendredi 1er mai 2026. Cet événement sportif invite trailers et randonneurs à découvrir la diversité des paysages étaplois\, à travers un tracé varié entre nature préservée et passages urbains.La compétition débutera dès 8h30 avec l’épreuve reine du 32 km. Les plus jeunes ne seront pas en reste\, puisque des courses dédiées aux catégories « Baby » à « Minimes » seront organisées tout au long de la matinée. Les départs des 16 km et 8 km suivront respectivement à 10h et 10h30\, offrant des parcours adaptés à tous les niveaux de pratique.Sur place\, une équipe de bénévoles dévoués assurera la logistique\, les ravitaillements et une buvette conviviale. Un service de massage sera également proposé aux participants à l’arrivée. Entre performance et plaisir\, l’AS Étaples Triathlon vous promet une expérience sportive unique !Renseignements : contact.etaplestriathlon@gmail.com
URL:https://etaples-sur-mer.fr/evenement/1er-trail-de-la-cite-des-pecheurs/
CATEGORIES:Animations,balade,Nature,Sport
ATTACH;FMTTYPE=image/jpeg:https://etaples-sur-mer.fr/wp-content/uploads/2026/01/615562361_912262471176213_7452509101500235305_n.jpg
END:VEVENT
BEGIN:VEVENT
DTSTART;VALUE=DATE:20260509
DTEND;VALUE=DATE:20260511
DTSTAMP:20260424T011958
CREATED:20260227T092022Z
LAST-MODIFIED:20260227T092022Z
UID:240659-1778284800-1778457599@etaples-sur-mer.fr
SUMMARY:WEEK-END NATURE & JARDIN
DESCRIPTION:Par le service événementiel \nSamedi 9 et dimanche 10 mai de 10h à 18h – À proximité du parc du Clos Saint-Victor \nMarché des producteurs mais également animations\, ateliers\, rencontres\, balades\, démonstrations\, vous attendront pour passer un week-end gourmand et pédagogique. De nombreux stands seront proposés : fleuristes paysagistes\, pépiniéristes… mais aussi des producteurs locaux. Une ferme pédagogique\, de nombreuses animations permettront de découvrir ou de redécouvrir notre patrimoine naturel. Chaque passionné trouvera son bonheur parmi les nombreux stands et chapiteaux. Le tout étant bien entendu animé d’une belle ambiance musicale. \nInfos : Service Événementiel – 03 21 89 62 70
URL:https://etaples-sur-mer.fr/evenement/week-end-nature-jardin/
LOCATION:Parc du Clos Saint Victor\, Boulevard Bigot Descelers\, Etaples\, 62630\, France
CATEGORIES:Animations,marché,Nature
ATTACH;FMTTYPE=image/jpeg:https://etaples-sur-mer.fr/wp-content/uploads/2026/02/Affiche-week-end-nature-et-jardin-2026-web-scaled.jpg
ORGANIZER;CN="Service %C3%A9v%C3%A9nementiel":MAILTO:communication@etaples-sur-mer.net
END:VEVENT
BEGIN:VEVENT
DTSTART;TZID=Europe/Paris:20260509T150000
DTEND;TZID=Europe/Paris:20260509T170000
DTSTAMP:20260424T011958
CREATED:20260115T133610Z
LAST-MODIFIED:20260115T133610Z
UID:238938-1778338800-1778346000@etaples-sur-mer.fr
SUMMARY:Haie champêtre et arbres fruitiers
DESCRIPTION:Par le service nature. \nSamedi 9 mai à 15h – Clos Saint-Victor \nDans le cadre du week-end « Nature & Jardin » . Envie de planter une haie champêtre ou des arbres fruitiers chez vous ? Venez profiter des conseils du service Nature pour vous aiguiller dans le choix et l’entretien des espèces. \nGratuit – Durée 1h– Inscriptions obligatoires. \nInfos : 03 21 84 13 93 ou 06 66 25 03 72
URL:https://etaples-sur-mer.fr/evenement/haie-champetre-et-arbres-fruitiers/
LOCATION:Parc du Clos Saint Victor\, Boulevard Bigot Descelers\, Etaples\, 62630\, France
CATEGORIES:Animations,Nature
ATTACH;FMTTYPE=image/jpeg:https://etaples-sur-mer.fr/wp-content/uploads/2023/01/club-nature-180123-FP-5-scaled.jpg
END:VEVENT
BEGIN:VEVENT
DTSTART;TZID=Europe/Paris:20260510T090000
DTEND;TZID=Europe/Paris:20260510T120000
DTSTAMP:20260424T011958
CREATED:20260115T143936Z
LAST-MODIFIED:20260115T143936Z
UID:238945-1778403600-1778414400@etaples-sur-mer.fr
SUMMARY:Découverte de la Baie de Canche
DESCRIPTION:Par le service nature. \nDimanche 10 mai à 9h – Clos Saint-Victor \nDans le cadre du week-end « Nature et Jardin ». Equipez de jumelles\, partez à la découverte de la baie et des différentes espèces qui peuplent les différents milieux naturels de la Baie de Canche. \nGratuit – Durée 3h – Inscriptions obligatoires. \nInfos : 03 21 84 13 93 ou 06 66 25 03 72
URL:https://etaples-sur-mer.fr/evenement/decouverte-de-la-baie-de-canche/
CATEGORIES:balade,Nature
ATTACH;FMTTYPE=image/jpeg:https://etaples-sur-mer.fr/wp-content/uploads/2025/04/baie_de_canche_10.jpg
END:VEVENT
BEGIN:VEVENT
DTSTART;VALUE=DATE:20260523
DTEND;VALUE=DATE:20260524
DTSTAMP:20260424T011958
CREATED:20260116T102340Z
LAST-MODIFIED:20260116T102340Z
UID:238985-1779494400-1779580799@etaples-sur-mer.fr
SUMMARY:Rencontre avec la nature
DESCRIPTION:Par le service nature et l’association ABC \nSamedi 23 mai – Parking du Rohard\, rue de Ste Cécile\, Camiers \nOrganisé par l’Association Baie de Canche (Camiers\, Etaples-sur-mer et Le Touquet)\, participez à un jeu de piste et découvrez le site naturel du Domaine du Rohard et des dunes de Ste Cécile. \nGratuit. Pour tout public \nInfos : 03 21 84 13 93 ou 06 66 25 03 72
URL:https://etaples-sur-mer.fr/evenement/rencontre-avec-la-nature-2/
LOCATION:Baie de Canche
CATEGORIES:Animations,Nature
ATTACH;FMTTYPE=image/jpeg:https://etaples-sur-mer.fr/wp-content/uploads/2019/04/17-09-etaples-sortie-nature-470x260.jpg
END:VEVENT
END:VCALENDAR