BEGIN:VCALENDAR
VERSION:2.0
PRODID:-//Ville d&#039;Etaples sur mer - ECPv6.15.13.1//NONSGML v1.0//EN
CALSCALE:GREGORIAN
METHOD:PUBLISH
X-WR-CALNAME:Ville d&#039;Etaples sur mer
X-ORIGINAL-URL:https://etaples-sur-mer.fr
X-WR-CALDESC:Évènements pour Ville d&#039;Etaples sur mer
REFRESH-INTERVAL;VALUE=DURATION:PT1H
X-Robots-Tag:noindex
X-PUBLISHED-TTL:PT1H
BEGIN:VTIMEZONE
TZID:Europe/Paris
BEGIN:DAYLIGHT
TZOFFSETFROM:+0100
TZOFFSETTO:+0200
TZNAME:CEST
DTSTART:20240331T010000
END:DAYLIGHT
BEGIN:STANDARD
TZOFFSETFROM:+0200
TZOFFSETTO:+0100
TZNAME:CET
DTSTART:20241027T010000
END:STANDARD
BEGIN:DAYLIGHT
TZOFFSETFROM:+0100
TZOFFSETTO:+0200
TZNAME:CEST
DTSTART:20250330T010000
END:DAYLIGHT
BEGIN:STANDARD
TZOFFSETFROM:+0200
TZOFFSETTO:+0100
TZNAME:CET
DTSTART:20251026T010000
END:STANDARD
BEGIN:DAYLIGHT
TZOFFSETFROM:+0100
TZOFFSETTO:+0200
TZNAME:CEST
DTSTART:20260329T010000
END:DAYLIGHT
BEGIN:STANDARD
TZOFFSETFROM:+0200
TZOFFSETTO:+0100
TZNAME:CET
DTSTART:20261025T010000
END:STANDARD
END:VTIMEZONE
BEGIN:VEVENT
DTSTART;TZID=Europe/Paris:20251011T090000
DTEND;TZID=Europe/Paris:20251011T120000
DTSTAMP:20260424T093423
CREATED:20250701T115358Z
LAST-MODIFIED:20250701T115358Z
UID:226466-1760173200-1760184000@etaples-sur-mer.fr
SUMMARY:SORTIE NATURE : LES SECRETS DE LA MIGRATION
DESCRIPTION:Par le service « Nature »\nDescente des bateaux de Sainte-Cécile.\nDans le cadre du « Festival de l’Oiseau et de la Nature »\, accompagnez un ornithologue et venez découvrir le fantastique voyage des oiseaux migrateurs.\nTarif : 5 €/personne. Réservation sur le site du « Festival de l’Oiseau et de la Nature ».\nRenseignements : 03 21 84 13 93
URL:https://etaples-sur-mer.fr/evenement/sortie-nature-les-secrets-de-la-migration/
LOCATION:Descente à bateaux de Sainte-Cécile
CATEGORIES:Animations,Nature
ATTACH;FMTTYPE=image/jpeg:https://etaples-sur-mer.fr/wp-content/uploads/2024/11/oiseaux.jpg
END:VEVENT
BEGIN:VEVENT
DTSTART;TZID=Europe/Paris:20251021T093000
DTEND;TZID=Europe/Paris:20251021T123000
DTSTAMP:20260424T093423
CREATED:20250701T141808Z
LAST-MODIFIED:20250701T141808Z
UID:226534-1761039000-1761049800@etaples-sur-mer.fr
SUMMARY:LES OISEAUX DE LA BAIE DE CANCHE
DESCRIPTION:Par le service nature\nMardi 21 octobre à 9h30 – Clos Saint-Victor\nAvec sa multitude de milieux naturels\, la Baie de Canche est un véritable paradis pour les oiseaux. Équipés de jumelles et d’une longue-vue\, nous observerons les différentes espèces présentes sur le site (Tadorne de Belon\, Huitrier pie\, Spatule blanche\, Tarier patre…). Durée 3h30.\nTarif : 5€ (gratuit pour les – de 10 ans)\nRenseignements et inscriptions : Service nature – 03 21 84 13 93 / 06 66 25 03 72
URL:https://etaples-sur-mer.fr/evenement/les-oiseaux-de-la-baie-de-canche-4/
LOCATION:Clos St Victor
CATEGORIES:Animations,Nature
ATTACH;FMTTYPE=image/jpeg:https://etaples-sur-mer.fr/wp-content/uploads/2025/07/oiseau-1.jpg
END:VEVENT
BEGIN:VEVENT
DTSTART;TZID=Europe/Paris:20251023T140000
DTEND;TZID=Europe/Paris:20251023T160000
DTSTAMP:20260424T093423
CREATED:20250701T143831Z
LAST-MODIFIED:20250701T143831Z
UID:226540-1761228000-1761235200@etaples-sur-mer.fr
SUMMARY:ATELIER : « LAND’ART »
DESCRIPTION:Par le service nature\nClos Saint-Victor\nConfectionnez des personnages à partir de matériaux naturels trouvés dans la nature.\nTarif : 5 € / personne\nDurée : 1h30\nRenseignements et inscriptions :\nService nature – 03 21 84 13 93 / 06 66 25 03 72
URL:https://etaples-sur-mer.fr/evenement/atelier-landart/
LOCATION:clos saint victor
CATEGORIES:Animations,Nature
ATTACH;FMTTYPE=image/jpeg:https://etaples-sur-mer.fr/wp-content/uploads/2025/07/atelier-land-art.jpg
END:VEVENT
BEGIN:VEVENT
DTSTART;TZID=Europe/Paris:20251029T093000
DTEND;TZID=Europe/Paris:20251029T113000
DTSTAMP:20260424T093423
CREATED:20250701T145042Z
LAST-MODIFIED:20250701T145042Z
UID:226548-1761730200-1761737400@etaples-sur-mer.fr
SUMMARY:SORTIE NATURE : « À LA RECHERCHE DES FRUITS SAUVAGES »
DESCRIPTION:Par le service Nature\nClos Saint-Victor\nPromenez-vous dans le bois à la recherche des différents fruits sauvages présents sur le site. Certains sont comestibles\, d’autres non !\nTarif : 5 € / personne – Durée 2h\nRenseignements et inscriptions : Service nature – 03 21 84 13 93 / 06 66 25 03 72
URL:https://etaples-sur-mer.fr/evenement/sortie-nature-a-la-recherche-des-fruits-sauvages/
LOCATION:Clos St Victor
CATEGORIES:Animations,Nature
ATTACH;FMTTYPE=image/jpeg:https://etaples-sur-mer.fr/wp-content/uploads/2025/07/sortie-fruits-rouges.jpg
END:VEVENT
BEGIN:VEVENT
DTSTART;TZID=Europe/Paris:20251031T090000
DTEND;TZID=Europe/Paris:20251031T130000
DTSTAMP:20260424T093423
CREATED:20250701T150354Z
LAST-MODIFIED:20250701T150354Z
UID:226554-1761901200-1761915600@etaples-sur-mer.fr
SUMMARY:SORTIE : RANDONNÉE NATURE
DESCRIPTION:Par le service « Nature »\nVendredi 31 octobre à 9h – Clos St-Victor\nProfitez des magnifiques couleurs automnales qu’on revêtit les arbres pour partir à la découverte des massifs forestiers de l’estuaire de la Canche.\nTarif : 5€/personne – inscription obligatoire\nInfos : 03 21 84 13 93
URL:https://etaples-sur-mer.fr/evenement/sortie-randonnee-nature/
LOCATION:Clos St Victor
CATEGORIES:Animations,Nature
ATTACH;FMTTYPE=image/jpeg:https://etaples-sur-mer.fr/wp-content/uploads/2023/06/randonnee-nature.jpg
END:VEVENT
END:VCALENDAR