BEGIN:VCALENDAR
VERSION:2.0
PRODID:-//Ville d&#039;Etaples sur mer - ECPv6.15.13.1//NONSGML v1.0//EN
CALSCALE:GREGORIAN
METHOD:PUBLISH
X-WR-CALNAME:Ville d&#039;Etaples sur mer
X-ORIGINAL-URL:https://etaples-sur-mer.fr
X-WR-CALDESC:Évènements pour Ville d&#039;Etaples sur mer
REFRESH-INTERVAL;VALUE=DURATION:PT1H
X-Robots-Tag:noindex
X-PUBLISHED-TTL:PT1H
BEGIN:VTIMEZONE
TZID:Europe/Paris
BEGIN:DAYLIGHT
TZOFFSETFROM:+0100
TZOFFSETTO:+0200
TZNAME:CEST
DTSTART:20240331T010000
END:DAYLIGHT
BEGIN:STANDARD
TZOFFSETFROM:+0200
TZOFFSETTO:+0100
TZNAME:CET
DTSTART:20241027T010000
END:STANDARD
BEGIN:DAYLIGHT
TZOFFSETFROM:+0100
TZOFFSETTO:+0200
TZNAME:CEST
DTSTART:20250330T010000
END:DAYLIGHT
BEGIN:STANDARD
TZOFFSETFROM:+0200
TZOFFSETTO:+0100
TZNAME:CET
DTSTART:20251026T010000
END:STANDARD
BEGIN:DAYLIGHT
TZOFFSETFROM:+0100
TZOFFSETTO:+0200
TZNAME:CEST
DTSTART:20260329T010000
END:DAYLIGHT
BEGIN:STANDARD
TZOFFSETFROM:+0200
TZOFFSETTO:+0100
TZNAME:CET
DTSTART:20261025T010000
END:STANDARD
END:VTIMEZONE
BEGIN:VEVENT
DTSTART;TZID=Europe/Paris:20250408T133000
DTEND;TZID=Europe/Paris:20250408T163000
DTSTAMP:20260424T190224
CREATED:20241126T091431Z
LAST-MODIFIED:20241126T091431Z
UID:212968-1744119000-1744129800@etaples-sur-mer.fr
SUMMARY:Les phoques de la Baie de Canche
DESCRIPTION:Par le service nature \nMardi 8 avril à 13h30 – Clos Saint-Victor \nÀ la marée descendante\, observez les phoques rejoindre les reposoirs et apprenez-en davantage sur leur mode de vie et les bons gestes à adopter pour les observer sans les déranger. \nTarif : 5€ / personne. Inscription obligatoire. Durée 3h \nInfos : service nature – 03 21 84 13 93
URL:https://etaples-sur-mer.fr/evenement/les-phoques-de-la-baie-de-canche-3/
LOCATION:Clos St Victor
CATEGORIES:Animations,Nature
ATTACH;FMTTYPE=image/jpeg:https://etaples-sur-mer.fr/wp-content/uploads/2022/12/A-la-decouverte-des-phoques-1-scaled.jpg
END:VEVENT
BEGIN:VEVENT
DTSTART;TZID=Europe/Paris:20250409T090000
DTEND;TZID=Europe/Paris:20250409T130000
DTSTAMP:20260424T190224
CREATED:20241126T091650Z
LAST-MODIFIED:20241126T091650Z
UID:212972-1744189200-1744203600@etaples-sur-mer.fr
SUMMARY:Balade nature
DESCRIPTION:Par le service nature \nMercredi 9 avril à 9h00 – Clos Saint-Victor \nPartez à la découverte de la Réserve Naturelle Nationale de la Baie de Canche et de ses richesses naturelles. \nTarif : 5€ / personne.  Inscriptions obligatoires. Durée : 4h \nInfos : Service nature – 03 21 84 13 93
URL:https://etaples-sur-mer.fr/evenement/balade-nature-2/
LOCATION:Clos St Victor
CATEGORIES:Animations,Nature
ATTACH;FMTTYPE=image/jpeg:https://etaples-sur-mer.fr/wp-content/uploads/2024/11/b-alade.jpg
END:VEVENT
BEGIN:VEVENT
DTSTART;TZID=Europe/Paris:20250412T100000
DTEND;TZID=Europe/Paris:20250412T130000
DTSTAMP:20260424T190224
CREATED:20241126T093311Z
LAST-MODIFIED:20241126T093311Z
UID:213000-1744452000-1744462800@etaples-sur-mer.fr
SUMMARY:Balade nature : « Les oiseaux de l’estuaire »
DESCRIPTION:Par le service nature \nSamedi 12 avril à 10h – Clos Saint-Victor \nDans le cadre du festival de l’oiseau\, en partenariat avec l’association ABC. \nAu printemps\, la baie de Canche devient une zone de halte nécessaire pour tous les migrateurs en route vers leurs quartiers d’été. Passereaux\, canards mais également limicoles. Venez découvrir cette magnifique diversité. \nTarif : 5€ / personne.  Durée : 3h \nInscription obligatoire : https://www.festival-oiseau-nature.com \nInfos : 03 21 84 13 93
URL:https://etaples-sur-mer.fr/evenement/balade-nature-les-oiseaux-de-lestuaire/
LOCATION:clos saint victor
CATEGORIES:Animations,Nature
ATTACH;FMTTYPE=image/jpeg:https://etaples-sur-mer.fr/wp-content/uploads/2024/11/oiseaux.jpg
END:VEVENT
BEGIN:VEVENT
DTSTART;TZID=Europe/Paris:20250412T200000
DTEND;TZID=Europe/Paris:20250412T233000
DTSTAMP:20260424T190224
CREATED:20241126T093738Z
LAST-MODIFIED:20250324T152003Z
UID:213016-1744488000-1744500600@etaples-sur-mer.fr
SUMMARY:Défilé « Mets ta morphose »
DESCRIPTION:Par l’association « l’Upcycling artistique » \nSamedi 12 avril à 20h30 – salle de la Corderie \nL’objectif de l’association « Upcycling Artistique » vise à valoriser l’économie circulaire grâce au surcyclage de matériaux divers : textile\, plastiques\, cuir et bien d’autres…Vous en aurez plein les yeux avec un défilé de mode haut en couleur !!!  Des matières récupérées\, transformées\, détournées grâce à un travail artistique\, créatif et ludique !De l’inutile naît la beauté ! \nEntrée gratuite \nInfos : M. Coupez – 07 70 09 98 04
URL:https://etaples-sur-mer.fr/evenement/mets-ta-morphose/
LOCATION:Salle de la Corderie
CATEGORIES:Animations,Culture,Nature
ATTACH;FMTTYPE=image/jpeg:https://etaples-sur-mer.fr/wp-content/uploads/2024/11/Affiche-defile-upcycling-2025-web-scaled.jpg
END:VEVENT
BEGIN:VEVENT
DTSTART;TZID=Europe/Paris:20250414T093000
DTEND;TZID=Europe/Paris:20250414T113000
DTSTAMP:20260424T190224
CREATED:20241126T094250Z
LAST-MODIFIED:20241126T094250Z
UID:213030-1744623000-1744630200@etaples-sur-mer.fr
SUMMARY:Balade nature : "Pêche à pieds\, coquillages et laisse de mer"
DESCRIPTION:Par le service nature \nLundi 14 avril à 9h30 – parking à bateau de Sainte Cécile \nLe retrait de la marée laisse sur la plage et dans les retenues d’eau de nombreux trésors naturels. Equipés de filets\, tentez de capturer ces mystérieux habitants. L’occasion également de faire un petit ramassage de déchets ! \nTarif : 5 € / personne. Durée : 2h. \n 
URL:https://etaples-sur-mer.fr/evenement/balade-nature-peche-a-pieds-coquillages-et-laisse-de-mer/
LOCATION:Baie de Canche
CATEGORIES:Animations,Nature
ATTACH;FMTTYPE=image/jpeg:https://etaples-sur-mer.fr/wp-content/uploads/2024/11/b-alade.jpg
END:VEVENT
BEGIN:VEVENT
DTSTART;TZID=Europe/Paris:20250415T090000
DTEND;TZID=Europe/Paris:20250415T120000
DTSTAMP:20260424T190224
CREATED:20241126T094443Z
LAST-MODIFIED:20241126T094443Z
UID:213032-1744707600-1744718400@etaples-sur-mer.fr
SUMMARY:Balade nature : Les oiseaux chanteurs
DESCRIPTION:Par le service nature \nMardi 15 avril à 9h00 – Clos Saint-Victor  \nDans le cadre du festival de l’oiseau\, en partenariat avec l’association ABC. \nLe printemps est une période propice pour écouter les vocalises des différentes espèces d’oiseaux présentes sur les espaces naturels de la commune. \nTarif :  5€ / personne.  Durée 3h. \nInscription obligatoire : https://www.festival-oiseau-nature.com \nInfos : 03 21 84 13 93
URL:https://etaples-sur-mer.fr/evenement/balade-nature-les-oiseaux-chanteurs/
LOCATION:Clos St Victor
CATEGORIES:Animations,Nature
ATTACH;FMTTYPE=image/jpeg:https://etaples-sur-mer.fr/wp-content/uploads/2024/11/oiseaux.jpg
END:VEVENT
BEGIN:VEVENT
DTSTART;TZID=Europe/Paris:20250417T090000
DTEND;TZID=Europe/Paris:20250417T120000
DTSTAMP:20260424T190224
CREATED:20241126T095953Z
LAST-MODIFIED:20241126T095953Z
UID:213045-1744880400-1744891200@etaples-sur-mer.fr
SUMMARY:Les phoques de la Baie de Canche
DESCRIPTION:Par le service nature \nJeudi 17 avril à 9h –  Clos Saint-Victor \nÀ la marée descendante\, observez les phoques rejoindre les reposoirs et apprenez-en davantage sur leur mode de vie et les bons gestes à adopter pour les observer sans les déranger. \nTarif : 5€ / personne. Inscriptions obligatoires. Durée : 3h. \nInfos : 03 21 84 13 93
URL:https://etaples-sur-mer.fr/evenement/les-phoques-de-la-baie-de-canche-4/
LOCATION:Clos St Victor
CATEGORIES:Animations,Nature
ATTACH;FMTTYPE=image/jpeg:https://etaples-sur-mer.fr/wp-content/uploads/2022/12/A-la-decouverte-des-phoques-1-scaled.jpg
END:VEVENT
BEGIN:VEVENT
DTSTART;TZID=Europe/Paris:20250418T200000
DTEND;TZID=Europe/Paris:20250418T220000
DTSTAMP:20260424T190224
CREATED:20241126T101139Z
LAST-MODIFIED:20241126T101139Z
UID:213061-1745006400-1745013600@etaples-sur-mer.fr
SUMMARY:La faune crépusculaire
DESCRIPTION:Par le service nature \nVendredi 18 avril à 20h00 – Clos Saint-Victor \nEquipés d’un détecteur ultrasons\, vous écouterez les vocalises des chiroptères et peut-être aurez vous la chance d’entendre l’aboiement du Chevreuil européen ou le hululement de la Chouette hulotte. \nTarif : 5€ / personne. Durée 2h.   \nInfos : 03 21 84 13 93
URL:https://etaples-sur-mer.fr/evenement/la-faune-crepusculaire/
LOCATION:Clos St Victor
CATEGORIES:Animations,Nature
ATTACH;FMTTYPE=image/jpeg:https://etaples-sur-mer.fr/wp-content/uploads/2024/11/faune.jpg
END:VEVENT
END:VCALENDAR