BEGIN:VCALENDAR
VERSION:2.0
PRODID:-//Ville d&#039;Etaples sur mer - ECPv6.15.13.1//NONSGML v1.0//EN
CALSCALE:GREGORIAN
METHOD:PUBLISH
X-WR-CALNAME:Ville d&#039;Etaples sur mer
X-ORIGINAL-URL:https://etaples-sur-mer.fr
X-WR-CALDESC:Évènements pour Ville d&#039;Etaples sur mer
REFRESH-INTERVAL;VALUE=DURATION:PT1H
X-Robots-Tag:noindex
X-PUBLISHED-TTL:PT1H
BEGIN:VTIMEZONE
TZID:Europe/Paris
BEGIN:DAYLIGHT
TZOFFSETFROM:+0100
TZOFFSETTO:+0200
TZNAME:CEST
DTSTART:20240331T010000
END:DAYLIGHT
BEGIN:STANDARD
TZOFFSETFROM:+0200
TZOFFSETTO:+0100
TZNAME:CET
DTSTART:20241027T010000
END:STANDARD
BEGIN:DAYLIGHT
TZOFFSETFROM:+0100
TZOFFSETTO:+0200
TZNAME:CEST
DTSTART:20250330T010000
END:DAYLIGHT
BEGIN:STANDARD
TZOFFSETFROM:+0200
TZOFFSETTO:+0100
TZNAME:CET
DTSTART:20251026T010000
END:STANDARD
BEGIN:DAYLIGHT
TZOFFSETFROM:+0100
TZOFFSETTO:+0200
TZNAME:CEST
DTSTART:20260329T010000
END:DAYLIGHT
BEGIN:STANDARD
TZOFFSETFROM:+0200
TZOFFSETTO:+0100
TZNAME:CET
DTSTART:20261025T010000
END:STANDARD
END:VTIMEZONE
BEGIN:VEVENT
DTSTART;TZID=Europe/Paris:20250208T093000
DTEND;TZID=Europe/Paris:20250208T110000
DTSTAMP:20260424T215303
CREATED:20241122T083325Z
LAST-MODIFIED:20241122T083325Z
UID:212439-1739007000-1739012400@etaples-sur-mer.fr
SUMMARY:Atelier construction de nichoirs
DESCRIPTION:Par le service nature\nSamedi 8 février à 9h30 – Clos Saint-Victor\nÀ l’aube du printemps\, il est temps de construire et d’installer les nichoirs qui accueilleront les futures couvées.\nTarif : 12 € / nichoir. Inscriptions obligatoires. Nombre de places limité. Durée : 1h30\nInfos : service nature – 03 21 84 13 93
URL:https://etaples-sur-mer.fr/evenement/atelier-construction-de-nichoirs/
LOCATION:Clos St Victor
CATEGORIES:Animations,Art,Nature
ATTACH;FMTTYPE=image/jpeg:https://etaples-sur-mer.fr/wp-content/uploads/2024/11/Pose-de-nichoirs-a-cavernicoles_rond-scaled-1.jpg
END:VEVENT
BEGIN:VEVENT
DTSTART;TZID=Europe/Paris:20250211T133000
DTEND;TZID=Europe/Paris:20250211T163000
DTSTAMP:20260424T215303
CREATED:20241122T085431Z
LAST-MODIFIED:20241122T085431Z
UID:212457-1739280600-1739291400@etaples-sur-mer.fr
SUMMARY:Balade nature
DESCRIPTION:Par le service nature \nMardi 11 février à 13h30 au Clos Saint-Victor \nProfitez de l’air vivifiant de la fin d’hiver pour découvrir la partie nord de l’estuaire de la Canche\, entre Etaples-sur-mer et Camiers. \nTarif :  5 € / personne. Inscription obligatoire. Durée : 3h \nInfos : 03 21 84 13 93
URL:https://etaples-sur-mer.fr/evenement/balade-nature/
LOCATION:Clos St Victor
CATEGORIES:balade,Nature
ATTACH;FMTTYPE=image/jpeg:https://etaples-sur-mer.fr/wp-content/uploads/2024/11/randonnee-nature.jpg
END:VEVENT
BEGIN:VEVENT
DTSTART;TZID=Europe/Paris:20250213T140000
DTEND;TZID=Europe/Paris:20250213T160000
DTSTAMP:20260424T215303
CREATED:20241122T091444Z
LAST-MODIFIED:20250129T090645Z
UID:212473-1739455200-1739462400@etaples-sur-mer.fr
SUMMARY:ANNULÉE« Pêche à pieds\, coquillages et laisse de mer »
DESCRIPTION:*** ANNULÉE ***\n\nPar le service natureJeudi 13 février à 14h00 – parking à bateaux – Ste Cécile\nLe retrait de la marée laisse sur la plage et dans les retenues d’eau de nombreux trésors naturels. Equipés de filets\, tentez de capturer ces mystérieux habitants. L’occasion également de faire un petit ramassage de déchets !Tarif : 5 € / personne. Matériel spécifique requis. Inscriptions obligatoires. Durée : 2hInfos : 03 21 84 13 93
URL:https://etaples-sur-mer.fr/evenement/peche-a-pieds-coquillages-et-laisse-de-mer/
LOCATION:Parking descente à bateaux de Sainte Cécile\, sainte cécile\, France
CATEGORIES:Animations,balade,Nature
ATTACH;FMTTYPE=image/jpeg:https://etaples-sur-mer.fr/wp-content/uploads/2024/11/sortie-coquillage-annulee.jpg
END:VEVENT
BEGIN:VEVENT
DTSTART;TZID=Europe/Paris:20250218T090000
DTEND;TZID=Europe/Paris:20250218T110000
DTSTAMP:20260424T215303
CREATED:20241122T094241Z
LAST-MODIFIED:20241122T094241Z
UID:212501-1739869200-1739876400@etaples-sur-mer.fr
SUMMARY:Visite "Les oiseaux de l'estuaire"
DESCRIPTION:Par le service natureMardi 18 février à 9h00 – Clos Saint-VictorMunis de jumelles et d’une longue vue\, observez les différentes espèces qui peuplent l’estuaire de la Canche et les observatoires de la Réserve Naturelle.\nTarif : 5 € / personne. Inscription obligatoire. Durée : 3hInfos : 03 21 84 13 93
URL:https://etaples-sur-mer.fr/evenement/visite-les-oiseaux-de-lestuaire/
LOCATION:Clos St Victor
CATEGORIES:Animations,balade,Nature
ATTACH;FMTTYPE=image/jpeg:https://etaples-sur-mer.fr/wp-content/uploads/2024/11/IMG_9500-scaled-1.jpg
END:VEVENT
END:VCALENDAR