BEGIN:VCALENDAR
VERSION:2.0
PRODID:-//Ville d&#039;Etaples sur mer - ECPv6.15.13.1//NONSGML v1.0//EN
CALSCALE:GREGORIAN
METHOD:PUBLISH
X-WR-CALNAME:Ville d&#039;Etaples sur mer
X-ORIGINAL-URL:https://etaples-sur-mer.fr
X-WR-CALDESC:Évènements pour Ville d&#039;Etaples sur mer
REFRESH-INTERVAL;VALUE=DURATION:PT1H
X-Robots-Tag:noindex
X-PUBLISHED-TTL:PT1H
BEGIN:VTIMEZONE
TZID:Europe/Paris
BEGIN:DAYLIGHT
TZOFFSETFROM:+0100
TZOFFSETTO:+0200
TZNAME:CEST
DTSTART:20240331T010000
END:DAYLIGHT
BEGIN:STANDARD
TZOFFSETFROM:+0200
TZOFFSETTO:+0100
TZNAME:CET
DTSTART:20241027T010000
END:STANDARD
BEGIN:DAYLIGHT
TZOFFSETFROM:+0100
TZOFFSETTO:+0200
TZNAME:CEST
DTSTART:20250330T010000
END:DAYLIGHT
BEGIN:STANDARD
TZOFFSETFROM:+0200
TZOFFSETTO:+0100
TZNAME:CET
DTSTART:20251026T010000
END:STANDARD
BEGIN:DAYLIGHT
TZOFFSETFROM:+0100
TZOFFSETTO:+0200
TZNAME:CEST
DTSTART:20260329T010000
END:DAYLIGHT
BEGIN:STANDARD
TZOFFSETFROM:+0200
TZOFFSETTO:+0100
TZNAME:CET
DTSTART:20261025T010000
END:STANDARD
END:VTIMEZONE
BEGIN:VEVENT
DTSTART;TZID=Europe/Paris:20250614T080000
DTEND;TZID=Europe/Paris:20250614T170000
DTSTAMP:20260421T171738
CREATED:20241126T083750Z
LAST-MODIFIED:20250527T063258Z
UID:212928-1749888000-1749920400@etaples-sur-mer.fr
SUMMARY:Fête du groupe scolaire de Jean Moulin
DESCRIPTION:cour de récréation de l’école \nDanse des enfants et kermesse \nInfos : M. Dewez – 03 21 94 72 37
URL:https://etaples-sur-mer.fr/evenement/fete-du-groupe-scolaire-de-jean-moulin-2/
LOCATION:école Jean Moulin\, avenue François Mitterrand\, etaples\, 62630\, France
CATEGORIES:danse,Enseignement,musique,Spectacle
ATTACH;FMTTYPE=image/jpeg:https://etaples-sur-mer.fr/wp-content/uploads/2024/11/499864668_122163726446488643_544926837163266883_n.jpg
END:VEVENT
BEGIN:VEVENT
DTSTART;TZID=Europe/Paris:20250614T080000
DTEND;TZID=Europe/Paris:20250621T170000
DTSTAMP:20260421T171738
CREATED:20241125T160009Z
LAST-MODIFIED:20250602T073042Z
UID:212871-1749888000-1750525200@etaples-sur-mer.fr
SUMMARY:Semaine de la musique et de la danse
DESCRIPTION:Dans toute la ville \nEtaples-sur-mer est en fête. L’arrivée de l’été se fait tout en musique ! Célébrée partout en France le 21 juin\, la fête de la musique est étalée dans le calendrier étaplois\, elle n’en sera que plus festive. L’événement se veut populaire et rassembleur. Il s’adresse à tous en s’appuyant sur une programmation variée. Il y en aura pour tous les goûts. Les rencontres musicales sont gratuites et ouvertes à tous. \nInfos : 03 21 89 62 70
URL:https://etaples-sur-mer.fr/evenement/semaine-de-la-musique-et-de-la-danse/
LOCATION:dans toute la ville
CATEGORIES:Culture,danse,musique
ATTACH;FMTTYPE=image/jpeg:https://etaples-sur-mer.fr/wp-content/uploads/2024/11/f^te-de-la-musique-web-scaled.jpg
ORGANIZER;CN="Service %C3%A9v%C3%A9nementiel":MAILTO:communication@etaples-sur-mer.net
END:VEVENT
BEGIN:VEVENT
DTSTART;TZID=Europe/Paris:20250614T100000
DTEND;TZID=Europe/Paris:20250614T170000
DTSTAMP:20260421T171738
CREATED:20241125T154438Z
LAST-MODIFIED:20241125T154438Z
UID:212854-1749895200-1749920400@etaples-sur-mer.fr
SUMMARY:Fête de fin d’année de Jean Macé
DESCRIPTION:  \nChants et danses devant les parents d’élèves – jeux de kermesse à destination des enfants. \nInfos : C. Berrier – 03 21 94 67 16
URL:https://etaples-sur-mer.fr/evenement/fete-de-fin-dannee-de-jean-mace/
LOCATION:école Jean Macé\, 26 rue Gressier de Lagrave\, Etaples\, 62630\, France
CATEGORIES:Animations,danse,Enseignement,musique,Spectacle
ATTACH;FMTTYPE=image/jpeg:https://etaples-sur-mer.fr/wp-content/uploads/2024/11/fete-de-lecole-jean-mace.jpg
END:VEVENT
BEGIN:VEVENT
DTSTART;TZID=Europe/Paris:20250614T150000
DTEND;TZID=Europe/Paris:20250614T230000
DTSTAMP:20260421T171738
CREATED:20250611T073011Z
LAST-MODIFIED:20250611T073011Z
UID:224273-1749913200-1749942000@etaples-sur-mer.fr
SUMMARY:FESTIVAL DES ARTS DE RUE « QUARTIERS LIBRES » & FEU D’ARTIFICE
DESCRIPTION:Dans un espace public transformé pour l’occasion en gigantesque territoire dédié au spectacle et à la féérie\, les visiteurs viendront s’émerveiller et applaudir de nombreux artistes de rue qui les inviteront à un total dépaysement. Un rendez-vous festif étonnant et totalement gratuit. On pourra y découvrir un large éventail de comédiens\, musiciens\, sportifs et artistes qui nous dévoileront leurs plus beaux atouts. Il y aura également de quoi s’amuser avec des espaces de jeux anciens et de jeux de société modernes\, des stands de maquillage pour les plus petits\, des espaces dédiés aux graffeurs et artistes de rue et une rencontre gourmande avec des producteurs locaux.La programmation musicale fera également le plein pour délivrer une ambiance festive durant tout l’après-midi.Comme promis\, en fin de soirée\, le grand rassemblement des artistes et du public formera la « Para’dingue » (qui a pris la succession de la retraite aux flambeaux). Les musiciens arriveront en tête\, en centre-ville\, vers 22 heures. Le cortège\, suivi du public\, défilera dans les rues de la ville au son des percussions et des sifflets en empruntant les rues de Rosamel et de Camiers\, pour rejoindre le port à 23 h où sera tiré le grand feu d’artifice.Entrée libreRenseignements : 03 21 89 62 70
URL:https://etaples-sur-mer.fr/evenement/festival-des-arts-de-rue-quartiers-libres-feu-dartifice/
LOCATION:1 Place du général de Gaulle\, 62630 Étaples
CATEGORIES:Animations,Art,cuisine,Jeux,musique,Spectacle,Tourisme
ATTACH;FMTTYPE=image/jpeg:https://etaples-sur-mer.fr/wp-content/uploads/2025/06/503807728_739044871831308_2590606800018002122_n-1.jpg
END:VEVENT
BEGIN:VEVENT
DTSTART;TZID=Europe/Paris:20250614T203000
DTEND;TZID=Europe/Paris:20250614T230000
DTSTAMP:20260421T171738
CREATED:20241126T082748Z
LAST-MODIFIED:20241203T133725Z
UID:214127-1749933000-1749942000@etaples-sur-mer.fr
SUMMARY:Gala de danse
DESCRIPTION:Gala annuel de danse modern’jazz avec 130 danseuses. \nTarif : 8 € /adulte \nInfos : M. Vambre – 06 10 32 93 73
URL:https://etaples-sur-mer.fr/evenement/gala-de-danse-2-2/
LOCATION:Salle de la Corderie
CATEGORIES:Associations,danse,musique,Spectacle
ATTACH;FMTTYPE=image/jpeg:https://etaples-sur-mer.fr/wp-content/uploads/2024/11/gala-de-danse-culture-danse-Copier-Copier.jpg
ORGANIZER;CN="Culture Danse":MAILTO:culturedanse@hotmail.fr
END:VEVENT
END:VCALENDAR