BEGIN:VCALENDAR
VERSION:2.0
PRODID:-//Ville d&#039;Etaples sur mer - ECPv6.15.13.1//NONSGML v1.0//EN
CALSCALE:GREGORIAN
METHOD:PUBLISH
X-WR-CALNAME:Ville d&#039;Etaples sur mer
X-ORIGINAL-URL:https://etaples-sur-mer.fr
X-WR-CALDESC:Évènements pour Ville d&#039;Etaples sur mer
REFRESH-INTERVAL;VALUE=DURATION:PT1H
X-Robots-Tag:noindex
X-PUBLISHED-TTL:PT1H
BEGIN:VTIMEZONE
TZID:Europe/Paris
BEGIN:DAYLIGHT
TZOFFSETFROM:+0100
TZOFFSETTO:+0200
TZNAME:CEST
DTSTART:20230326T010000
END:DAYLIGHT
BEGIN:STANDARD
TZOFFSETFROM:+0200
TZOFFSETTO:+0100
TZNAME:CET
DTSTART:20231029T010000
END:STANDARD
BEGIN:DAYLIGHT
TZOFFSETFROM:+0100
TZOFFSETTO:+0200
TZNAME:CEST
DTSTART:20240331T010000
END:DAYLIGHT
BEGIN:STANDARD
TZOFFSETFROM:+0200
TZOFFSETTO:+0100
TZNAME:CET
DTSTART:20241027T010000
END:STANDARD
BEGIN:DAYLIGHT
TZOFFSETFROM:+0100
TZOFFSETTO:+0200
TZNAME:CEST
DTSTART:20250330T010000
END:DAYLIGHT
BEGIN:STANDARD
TZOFFSETFROM:+0200
TZOFFSETTO:+0100
TZNAME:CET
DTSTART:20251026T010000
END:STANDARD
END:VTIMEZONE
BEGIN:VEVENT
DTSTART;TZID=Europe/Paris:20240521T100000
DTEND;TZID=Europe/Paris:20240521T123000
DTSTAMP:20260422T150126
CREATED:20240205T095536Z
LAST-MODIFIED:20240415T133632Z
UID:188278-1716285600-1716294600@etaples-sur-mer.fr
SUMMARY:SPECTACLE « PIANO FOLIES »
DESCRIPTION:Mardi 21 mai  2024 à 10h –  Salle de la Corderie \nPlongez au cœur de la musique classique avec le Festival Off des Pianos Folies\, une expérience inoubliable qui allie éducation et passion pour la musique. De retour cette année\, cette rencontre emblématique s’ouvre de nouveau aux écoliers étaplois\, les invitant à découvrir les trésors de la musique classique. \nLe mardi 21 mai\, dès 10h\, la salle de la Corderie accueille les élèves du conservatoire de Lille et de l’école supérieure de musique et de danse. Ces jeunes artistes\, formés au plus haut niveau artistique\, dévoileront les secrets de leur art au public et aux écoliers. \nSous la direction experte de leurs professeurs\, Jean-Michel Dayez et Jean-François Boyer\, ces musiciens en herbe révéleront toute la richesse de leur formation\, faisant résonner les murs de la salle. \nOuvert à tous – Tarif 12 € \nRenseignements & Réservations : Office de Tourisme du Touquet-Paris-Plage – 03 21 06 72 00 \nBilletterie : https://lespianosfolies.com/billetterie/
URL:https://etaples-sur-mer.fr/evenement/spectacle-piano-folies/
LOCATION:Salle de la Corderie
CATEGORIES:musique
ATTACH;FMTTYPE=image/jpeg:https://etaples-sur-mer.fr/wp-content/uploads/2024/02/affiche-pianos-folies.jpg
END:VEVENT
END:VCALENDAR