BEGIN:VCALENDAR
VERSION:2.0
PRODID:-//Ville d&#039;Etaples sur mer - ECPv6.15.13.1//NONSGML v1.0//EN
CALSCALE:GREGORIAN
METHOD:PUBLISH
X-ORIGINAL-URL:https://etaples-sur-mer.fr
X-WR-CALDESC:Évènements pour Ville d&#039;Etaples sur mer
REFRESH-INTERVAL;VALUE=DURATION:PT1H
X-Robots-Tag:noindex
X-PUBLISHED-TTL:PT1H
BEGIN:VTIMEZONE
TZID:Europe/Paris
BEGIN:DAYLIGHT
TZOFFSETFROM:+0100
TZOFFSETTO:+0200
TZNAME:CEST
DTSTART:20240331T010000
END:DAYLIGHT
BEGIN:STANDARD
TZOFFSETFROM:+0200
TZOFFSETTO:+0100
TZNAME:CET
DTSTART:20241027T010000
END:STANDARD
BEGIN:DAYLIGHT
TZOFFSETFROM:+0100
TZOFFSETTO:+0200
TZNAME:CEST
DTSTART:20250330T010000
END:DAYLIGHT
BEGIN:STANDARD
TZOFFSETFROM:+0200
TZOFFSETTO:+0100
TZNAME:CET
DTSTART:20251026T010000
END:STANDARD
BEGIN:DAYLIGHT
TZOFFSETFROM:+0100
TZOFFSETTO:+0200
TZNAME:CEST
DTSTART:20260329T010000
END:DAYLIGHT
BEGIN:STANDARD
TZOFFSETFROM:+0200
TZOFFSETTO:+0100
TZNAME:CET
DTSTART:20261025T010000
END:STANDARD
END:VTIMEZONE
BEGIN:VEVENT
DTSTART;TZID=Europe/Paris:20251101T093000
DTEND;TZID=Europe/Paris:20251101T113000
DTSTAMP:20260421T073503
CREATED:20250702T144944Z
LAST-MODIFIED:20250702T144944Z
UID:226584-1761989400-1761996600@etaples-sur-mer.fr
SUMMARY:Chorale : messe de la Toussaint
DESCRIPTION:Par l’association « la Chorale mixte d’Etaples » \nSamedi 1 novembre à 9h30 – église Saint Michel \nInfo : M.E. Ramet – 06 74 65 07 99
URL:https://etaples-sur-mer.fr/evenement/chorale-messe-de-la-toussaint/
LOCATION:eglise Saint Michel\, rue du Bac\, etaples\, 62630\, France
CATEGORIES:Animations,Associations,Culture,musique
ATTACH;FMTTYPE=image/jpeg:https://etaples-sur-mer.fr/wp-content/uploads/2025/07/IMG_5010-scaled-2048x1366-1.jpg
END:VEVENT
BEGIN:VEVENT
DTSTART;TZID=Europe/Paris:20251109T150000
DTEND;TZID=Europe/Paris:20251109T170000
DTSTAMP:20260421T073503
CREATED:20250707T095328Z
LAST-MODIFIED:20251030T130028Z
UID:226667-1762700400-1762707600@etaples-sur-mer.fr
SUMMARY:Concert d’automne
DESCRIPTION:Par l’association « La musique communale » \nDimanche 9 novembre à 15h – salle de la Corderie \nInfos : Mme Sauvage – 06 63 79 47 58
URL:https://etaples-sur-mer.fr/evenement/concert-dautomne/
LOCATION:Salle de la Corderie
CATEGORIES:Associations,Culture,musique
ATTACH;FMTTYPE=image/jpeg:https://etaples-sur-mer.fr/wp-content/uploads/2025/07/Affiche-concert-automne-copie.jpg
END:VEVENT
BEGIN:VEVENT
DTSTART;TZID=Europe/Paris:20251123T093000
DTEND;TZID=Europe/Paris:20251123T120000
DTSTAMP:20260421T073503
CREATED:20250709T124815Z
LAST-MODIFIED:20251007T100044Z
UID:227178-1763890200-1763899200@etaples-sur-mer.fr
SUMMARY:MESSE DE LA SAINTE CÉCILE EN MUSIQUE
DESCRIPTION:Par l’association « la musique communale » \nDimanche 23 novembre à 9h30 – Église Saint Michel \nRenseignements : Mme Sauvage – 06 63 79 47 58
URL:https://etaples-sur-mer.fr/evenement/concert-de-la-sainte-cecile/
LOCATION:eglise Saint Michel\, rue du Bac\, etaples\, 62630\, France
CATEGORIES:Animations,musique
ATTACH;FMTTYPE=image/jpeg:https://etaples-sur-mer.fr/wp-content/uploads/2025/07/Affiche-concert-ste-cecile-2025-web-1-scaled.jpg
END:VEVENT
BEGIN:VEVENT
DTSTART;TZID=Europe/Paris:20251130T160000
DTEND;TZID=Europe/Paris:20251130T190000
DTSTAMP:20260421T073503
CREATED:20250710T073710Z
LAST-MODIFIED:20251120T104154Z
UID:227241-1764518400-1764529200@etaples-sur-mer.fr
SUMMARY:Concert d’hiver dans le cadre du Téléthon
DESCRIPTION:Par l’association « la Chorale Mixte d’Etaples » \nDimanche 30 novembre à 16h – église Saint Michel \nConcert de la chorale ; chants profanes et chants religieux. \nInfos : M.E. Ramet – 06 74 65 07 99
URL:https://etaples-sur-mer.fr/evenement/concert-dhiver-dans-le-cadre-du-telethon/
LOCATION:Eglise St Michel
CATEGORIES:Animations,Associations,Culture,musique
ATTACH;FMTTYPE=image/jpeg:https://etaples-sur-mer.fr/wp-content/uploads/2025/07/Dimanche-30-novembre-Concert-de-la-chorale-mixte-dEtaples-sur-mer-A-leglise-St-Michel-1.jpg
END:VEVENT
END:VCALENDAR