BEGIN:VCALENDAR
VERSION:2.0
PRODID:-//Ville d&#039;Etaples sur mer - ECPv6.15.13.1//NONSGML v1.0//EN
CALSCALE:GREGORIAN
METHOD:PUBLISH
X-ORIGINAL-URL:https://etaples-sur-mer.fr
X-WR-CALDESC:Évènements pour Ville d&#039;Etaples sur mer
REFRESH-INTERVAL;VALUE=DURATION:PT1H
X-Robots-Tag:noindex
X-PUBLISHED-TTL:PT1H
BEGIN:VTIMEZONE
TZID:Europe/Paris
BEGIN:DAYLIGHT
TZOFFSETFROM:+0100
TZOFFSETTO:+0200
TZNAME:CEST
DTSTART:20240331T010000
END:DAYLIGHT
BEGIN:STANDARD
TZOFFSETFROM:+0200
TZOFFSETTO:+0100
TZNAME:CET
DTSTART:20241027T010000
END:STANDARD
BEGIN:DAYLIGHT
TZOFFSETFROM:+0100
TZOFFSETTO:+0200
TZNAME:CEST
DTSTART:20250330T010000
END:DAYLIGHT
BEGIN:STANDARD
TZOFFSETFROM:+0200
TZOFFSETTO:+0100
TZNAME:CET
DTSTART:20251026T010000
END:STANDARD
BEGIN:DAYLIGHT
TZOFFSETFROM:+0100
TZOFFSETTO:+0200
TZNAME:CEST
DTSTART:20260329T010000
END:DAYLIGHT
BEGIN:STANDARD
TZOFFSETFROM:+0200
TZOFFSETTO:+0100
TZNAME:CET
DTSTART:20261025T010000
END:STANDARD
END:VTIMEZONE
BEGIN:VEVENT
DTSTART;TZID=Europe/Paris:20250607T110000
DTEND;TZID=Europe/Paris:20250608T230000
DTSTAMP:20260421T155414
CREATED:20241125T162447Z
LAST-MODIFIED:20250414T074207Z
UID:212898-1749294000-1749423600@etaples-sur-mer.fr
SUMMARY:Festival des arts africains
DESCRIPTION:Par l’association « Manifest’action » \nSamedi 7 juin à partir de 11h – Salle de la Corderie \nLes musiques traditionnelles d’Afrique possèdent un atout unique : celui de réunir\, réconcilier et souder ceux qui participent à leur avènement ou ceux qui les écoutent. La joie qui s’en dégage est communicative et l’aspect ludique de cette musique éveille en chacun de nous notre part primitive\, quel que soit notre âge\, notre culture\, ou notre rang social. Le festival des arts africains\, c’est l’aboutissement d’un projet mis en œuvre tout au long de l’année par l’association « Manifest’action » avec de nombreux partenaires. \nVenez découvrir des prestations de différents groupes\, stages de danses et de percussions. \nStage de percussions de 11h à 13h\nAvec Madou Konaté et les musiciens\nStage Duns danse de 13h30 à 15h\nAvec Wens Bazamo\nTarif : 20 € / Personne \nSoirée à partir de 20h\nRestitution des groupes encadrés par l’association\nBal afro animé par le groupe Seko de Côte d’voire\nEntrée libre\nRepas africain\n10 € le plat sur réservation\nRenseignements et inscriptions : 06 14 55 08 02 ou hello asso
URL:https://etaples-sur-mer.fr/evenement/festival-des-arts-africains-4/
LOCATION:Salle de la Corderie
CATEGORIES:Associations,Culture,danse,musique,Tradition
ATTACH;FMTTYPE=image/jpeg:https://etaples-sur-mer.fr/wp-content/uploads/2024/11/Affiche.jpg
END:VEVENT
BEGIN:VEVENT
DTSTART;TZID=Europe/Paris:20250613T203000
DTEND;TZID=Europe/Paris:20250613T230000
DTSTAMP:20260421T155414
CREATED:20241126T082748Z
LAST-MODIFIED:20241203T133656Z
UID:212923-1749846600-1749855600@etaples-sur-mer.fr
SUMMARY:Gala de danse
DESCRIPTION:Gala annuel de danse modern’jazz avec 130 danseuses. \nTarif : 8 € /adulte \nInfos : M. Vambre – 06 10 32 93 73
URL:https://etaples-sur-mer.fr/evenement/gala-de-danse-2/
LOCATION:Salle de la Corderie
CATEGORIES:Associations,danse,musique,Spectacle
ATTACH;FMTTYPE=image/jpeg:https://etaples-sur-mer.fr/wp-content/uploads/2024/11/gala-de-danse-culture-danse-Copier-Copier.jpg
ORGANIZER;CN="Culture Danse":MAILTO:culturedanse@hotmail.fr
END:VEVENT
BEGIN:VEVENT
DTSTART;TZID=Europe/Paris:20250614T080000
DTEND;TZID=Europe/Paris:20250614T170000
DTSTAMP:20260421T155414
CREATED:20241126T083750Z
LAST-MODIFIED:20250527T063258Z
UID:212928-1749888000-1749920400@etaples-sur-mer.fr
SUMMARY:Fête du groupe scolaire de Jean Moulin
DESCRIPTION:cour de récréation de l’école \nDanse des enfants et kermesse \nInfos : M. Dewez – 03 21 94 72 37
URL:https://etaples-sur-mer.fr/evenement/fete-du-groupe-scolaire-de-jean-moulin-2/
LOCATION:école Jean Moulin\, avenue François Mitterrand\, etaples\, 62630\, France
CATEGORIES:danse,Enseignement,musique,Spectacle
ATTACH;FMTTYPE=image/jpeg:https://etaples-sur-mer.fr/wp-content/uploads/2024/11/499864668_122163726446488643_544926837163266883_n.jpg
END:VEVENT
BEGIN:VEVENT
DTSTART;TZID=Europe/Paris:20250614T080000
DTEND;TZID=Europe/Paris:20250621T170000
DTSTAMP:20260421T155414
CREATED:20241125T160009Z
LAST-MODIFIED:20250602T073042Z
UID:212871-1749888000-1750525200@etaples-sur-mer.fr
SUMMARY:Semaine de la musique et de la danse
DESCRIPTION:Dans toute la ville \nEtaples-sur-mer est en fête. L’arrivée de l’été se fait tout en musique ! Célébrée partout en France le 21 juin\, la fête de la musique est étalée dans le calendrier étaplois\, elle n’en sera que plus festive. L’événement se veut populaire et rassembleur. Il s’adresse à tous en s’appuyant sur une programmation variée. Il y en aura pour tous les goûts. Les rencontres musicales sont gratuites et ouvertes à tous. \nInfos : 03 21 89 62 70
URL:https://etaples-sur-mer.fr/evenement/semaine-de-la-musique-et-de-la-danse/
LOCATION:dans toute la ville
CATEGORIES:Culture,danse,musique
ATTACH;FMTTYPE=image/jpeg:https://etaples-sur-mer.fr/wp-content/uploads/2024/11/f^te-de-la-musique-web-scaled.jpg
ORGANIZER;CN="Service %C3%A9v%C3%A9nementiel":MAILTO:communication@etaples-sur-mer.net
END:VEVENT
BEGIN:VEVENT
DTSTART;TZID=Europe/Paris:20250614T100000
DTEND;TZID=Europe/Paris:20250614T170000
DTSTAMP:20260421T155414
CREATED:20241125T154438Z
LAST-MODIFIED:20241125T154438Z
UID:212854-1749895200-1749920400@etaples-sur-mer.fr
SUMMARY:Fête de fin d’année de Jean Macé
DESCRIPTION:  \nChants et danses devant les parents d’élèves – jeux de kermesse à destination des enfants. \nInfos : C. Berrier – 03 21 94 67 16
URL:https://etaples-sur-mer.fr/evenement/fete-de-fin-dannee-de-jean-mace/
LOCATION:école Jean Macé\, 26 rue Gressier de Lagrave\, Etaples\, 62630\, France
CATEGORIES:Animations,danse,Enseignement,musique,Spectacle
ATTACH;FMTTYPE=image/jpeg:https://etaples-sur-mer.fr/wp-content/uploads/2024/11/fete-de-lecole-jean-mace.jpg
END:VEVENT
BEGIN:VEVENT
DTSTART;TZID=Europe/Paris:20250614T150000
DTEND;TZID=Europe/Paris:20250614T230000
DTSTAMP:20260421T155414
CREATED:20250611T073011Z
LAST-MODIFIED:20250611T073011Z
UID:224273-1749913200-1749942000@etaples-sur-mer.fr
SUMMARY:FESTIVAL DES ARTS DE RUE « QUARTIERS LIBRES » & FEU D’ARTIFICE
DESCRIPTION:Dans un espace public transformé pour l’occasion en gigantesque territoire dédié au spectacle et à la féérie\, les visiteurs viendront s’émerveiller et applaudir de nombreux artistes de rue qui les inviteront à un total dépaysement. Un rendez-vous festif étonnant et totalement gratuit. On pourra y découvrir un large éventail de comédiens\, musiciens\, sportifs et artistes qui nous dévoileront leurs plus beaux atouts. Il y aura également de quoi s’amuser avec des espaces de jeux anciens et de jeux de société modernes\, des stands de maquillage pour les plus petits\, des espaces dédiés aux graffeurs et artistes de rue et une rencontre gourmande avec des producteurs locaux.La programmation musicale fera également le plein pour délivrer une ambiance festive durant tout l’après-midi.Comme promis\, en fin de soirée\, le grand rassemblement des artistes et du public formera la « Para’dingue » (qui a pris la succession de la retraite aux flambeaux). Les musiciens arriveront en tête\, en centre-ville\, vers 22 heures. Le cortège\, suivi du public\, défilera dans les rues de la ville au son des percussions et des sifflets en empruntant les rues de Rosamel et de Camiers\, pour rejoindre le port à 23 h où sera tiré le grand feu d’artifice.Entrée libreRenseignements : 03 21 89 62 70
URL:https://etaples-sur-mer.fr/evenement/festival-des-arts-de-rue-quartiers-libres-feu-dartifice/
LOCATION:1 Place du général de Gaulle\, 62630 Étaples
CATEGORIES:Animations,Art,cuisine,Jeux,musique,Spectacle,Tourisme
ATTACH;FMTTYPE=image/jpeg:https://etaples-sur-mer.fr/wp-content/uploads/2025/06/503807728_739044871831308_2590606800018002122_n-1.jpg
END:VEVENT
BEGIN:VEVENT
DTSTART;TZID=Europe/Paris:20250614T203000
DTEND;TZID=Europe/Paris:20250614T230000
DTSTAMP:20260421T155414
CREATED:20241126T082748Z
LAST-MODIFIED:20241203T133725Z
UID:214127-1749933000-1749942000@etaples-sur-mer.fr
SUMMARY:Gala de danse
DESCRIPTION:Gala annuel de danse modern’jazz avec 130 danseuses. \nTarif : 8 € /adulte \nInfos : M. Vambre – 06 10 32 93 73
URL:https://etaples-sur-mer.fr/evenement/gala-de-danse-2-2/
LOCATION:Salle de la Corderie
CATEGORIES:Associations,danse,musique,Spectacle
ATTACH;FMTTYPE=image/jpeg:https://etaples-sur-mer.fr/wp-content/uploads/2024/11/gala-de-danse-culture-danse-Copier-Copier.jpg
ORGANIZER;CN="Culture Danse":MAILTO:culturedanse@hotmail.fr
END:VEVENT
BEGIN:VEVENT
DTSTART;TZID=Europe/Paris:20250617T180000
DTEND;TZID=Europe/Paris:20250617T220000
DTSTAMP:20260421T155414
CREATED:20241126T085702Z
LAST-MODIFIED:20241126T085702Z
UID:212941-1750183200-1750197600@etaples-sur-mer.fr
SUMMARY:Comédie musicale
DESCRIPTION:Spectacle musical écrit et crée par les élèves et les professeurs sur le thème de l’errance d’un migrant. \nInfos : M. Dubois – 03 21 94 63 63
URL:https://etaples-sur-mer.fr/evenement/comedie-musicale/
CATEGORIES:Culture,danse,Enseignement,musique,Spectacle
ATTACH;FMTTYPE=image/jpeg:https://etaples-sur-mer.fr/wp-content/uploads/2024/11/IMG_6812-Copier-Copier.jpg
END:VEVENT
BEGIN:VEVENT
DTSTART;TZID=Europe/Paris:20250617T190000
DTEND;TZID=Europe/Paris:20250617T210000
DTSTAMP:20260421T155414
CREATED:20250616T091353Z
LAST-MODIFIED:20250616T091353Z
UID:224840-1750186800-1750194000@etaples-sur-mer.fr
SUMMARY:CONCERT JEAN-JACQUES LAMOUR
DESCRIPTION:Au restaurant NC TERRE ET MER\nGuitare et chansons françaises
URL:https://etaples-sur-mer.fr/evenement/concert-jean-jacques-lamour/
LOCATION:Étaples-sur-mer\, France
CATEGORIES:Animations,musique
ATTACH;FMTTYPE=image/avif:https://etaples-sur-mer.fr/wp-content/uploads/2025/06/2024-05-11_20-44-07_320_edited.avif
END:VEVENT
BEGIN:VEVENT
DTSTART;TZID=Europe/Paris:20250619T140000
DTEND;TZID=Europe/Paris:20250619T150000
DTSTAMP:20260421T155414
CREATED:20241126T090727Z
LAST-MODIFIED:20250506T135002Z
UID:212951-1750341600-1750345200@etaples-sur-mer.fr
SUMMARY:Blind test pour nos ainés
DESCRIPTION:En collaboration avec le service « Bien vieillir » du CCAS\, blind test musical dans le cadre de la fête de la musique. \nGratuit \nInfos : 03 21 94 29 31
URL:https://etaples-sur-mer.fr/evenement/blind-test-pour-nos-aines/
LOCATION:Médiathèque Marie-Madeleine Gauffeny
CATEGORIES:Animations,Culture,musique
ATTACH;FMTTYPE=image/png:https://etaples-sur-mer.fr/wp-content/uploads/2024/11/Blind-test-min-scaled.png
END:VEVENT
BEGIN:VEVENT
DTSTART;TZID=Europe/Paris:20250621T080000
DTEND;TZID=Europe/Paris:20250621T170000
DTSTAMP:20260421T155414
CREATED:20241126T101014Z
LAST-MODIFIED:20241126T101014Z
UID:213057-1750492800-1750525200@etaples-sur-mer.fr
SUMMARY:Kermesse et fête de l’école de Rombly
DESCRIPTION:Infos : N. Rosey – 09 74 92 46 48
URL:https://etaples-sur-mer.fr/evenement/kermesse-et-fete-de-lecole-de-rombly-2/
LOCATION:ecole de Rombly\, Avenue des Oyats\, Etaples\, 62630\, France
CATEGORIES:danse,Enseignement,Jeunesse,musique,Spectacle
ATTACH;FMTTYPE=image/jpeg:https://etaples-sur-mer.fr/wp-content/uploads/2024/11/fete-de-lecole-jean-moulin-1.jpg
END:VEVENT
BEGIN:VEVENT
DTSTART;TZID=Europe/Paris:20250621T140000
DTEND;TZID=Europe/Paris:20250621T180000
DTSTAMP:20260421T155414
CREATED:20241126T092911Z
LAST-MODIFIED:20250520T140015Z
UID:212998-1750514400-1750528800@etaples-sur-mer.fr
SUMMARY:Battle Hip Hop
DESCRIPTION: HIP H’OPALE – 15e ÉDITION  \nLe rendez-vous hip-hop incontournable est de retour à Étaples-sur-Mer !\nBattle\, breakdance\, danse urbaine… viens vibrer au rythme du Hip-Hop lors de cette journée explosive ! \n Le 21 juin 2025\nDe 14h à 18h\nEspace Corderie – 155 rue des Camiers\, Étaples-sur-Mer\n️ Entrée : 1€ (reversée dans le cadre d’un projet solidaire) \n Au programme :\nBattles 2 vs 2 pour les jeunes de 6 à 14 ans (par tranches d’âge)\nBattle 1 vs 1 pour les 14 ans et + – niveau confirmé \n Buvette et restauration sur place\nAmbiance garantie ! \nÉvénement organisé par le Centre Social CAF d’Étaples-sur-Mer\, en partenariat avec l’Association AS’Art et Boulogne Génération Hip Hop. \n Viens bouger avec nous et montre ce que t’as dans les jambes !\n#HipHopale #BattleHipHop #EtaplesSurMer #CultureUrbain #DanseHipHop \n 
URL:https://etaples-sur-mer.fr/evenement/battle-hip-hop-2/
LOCATION:Salle de la Corderie
CATEGORIES:Culture,danse,musique,Spectacle
ATTACH;FMTTYPE=image/png:https://etaples-sur-mer.fr/wp-content/uploads/2024/11/Facebook_Hip-HOpale-2025_CS-Etaples-1080-x-1350-px_VERSION050525.png
ORGANIZER;CN="Centre Social CAF":MAILTO:jean-jacques.smeeckaert@cafpas-de-calais.cnafmail.fr 
END:VEVENT
BEGIN:VEVENT
DTSTART;TZID=Europe/Paris:20250621T190000
DTEND;TZID=Europe/Paris:20250621T210000
DTSTAMP:20260421T155414
CREATED:20250616T091556Z
LAST-MODIFIED:20250616T091556Z
UID:224846-1750532400-1750539600@etaples-sur-mer.fr
SUMMARY:CONCERT DE SERGIO ET NATH
DESCRIPTION:Au restaurant « Home Burger »
URL:https://etaples-sur-mer.fr/evenement/concert-de-sergio-et-nath/
LOCATION:Étaples-sur-mer\, France
CATEGORIES:Animations,musique
ATTACH;FMTTYPE=image/jpeg:https://etaples-sur-mer.fr/wp-content/uploads/2025/06/Sergio-et-Nath.jpg
END:VEVENT
BEGIN:VEVENT
DTSTART;TZID=Europe/Paris:20250622T120000
DTEND;TZID=Europe/Paris:20250622T170000
DTSTAMP:20260421T155414
CREATED:20241126T110717Z
LAST-MODIFIED:20241126T110717Z
UID:213118-1750593600-1750611600@etaples-sur-mer.fr
SUMMARY:Repas dansant
DESCRIPTION:Tarif : 30 € \nInfos : B. Leprêtre – 06 16 39 10 43
URL:https://etaples-sur-mer.fr/evenement/repas-dansant-16/
LOCATION:Salle de la Corderie\, 155 rue de camiers\, etaples\, 62630\, France
CATEGORIES:Animations,Associations,danse,musique,Repas
ATTACH;FMTTYPE=image/jpeg:https://etaples-sur-mer.fr/wp-content/uploads/2024/11/repas-dansant.jpg
END:VEVENT
BEGIN:VEVENT
DTSTART;TZID=Europe/Paris:20250624T183000
DTEND;TZID=Europe/Paris:20250624T203000
DTSTAMP:20260421T155414
CREATED:20250616T091819Z
LAST-MODIFIED:20250616T091819Z
UID:224849-1750789800-1750797000@etaples-sur-mer.fr
SUMMARY:RESTITUTION ÉCOLE DE MUSIQUE
DESCRIPTION:Au café « Le bô bar »
URL:https://etaples-sur-mer.fr/evenement/restitution-ecole-de-musique/
LOCATION:Étaples-sur-mer\, France
CATEGORIES:Animations,musique
ATTACH;FMTTYPE=image/jpeg:https://etaples-sur-mer.fr/wp-content/uploads/2025/06/guitar-6683101_1280.jpg
END:VEVENT
BEGIN:VEVENT
DTSTART;TZID=Europe/Paris:20250624T183000
DTEND;TZID=Europe/Paris:20250624T220000
DTSTAMP:20260421T155414
CREATED:20241126T111525Z
LAST-MODIFIED:20241126T111525Z
UID:213130-1750789800-1750802400@etaples-sur-mer.fr
SUMMARY:Projet opéra – école maternelle Notre Dame de Foy
DESCRIPTION:Infos : E. Pinguet   – 03 21 94 66 89
URL:https://etaples-sur-mer.fr/evenement/projet-opera-ecole-maternelle-notre-dame-de-foy/
LOCATION:Salle de la Corderie
CATEGORIES:Culture,danse,Enseignement,musique
ATTACH;FMTTYPE=image/jpeg:https://etaples-sur-mer.fr/wp-content/uploads/2024/11/IMG_6812-Copier-Copier-1.jpg
END:VEVENT
BEGIN:VEVENT
DTSTART;TZID=Europe/Paris:20250628T150000
DTEND;TZID=Europe/Paris:20250628T170000
DTSTAMP:20260421T155414
CREATED:20241126T140340Z
LAST-MODIFIED:20241126T140340Z
UID:213156-1751122800-1751130000@etaples-sur-mer.fr
SUMMARY:Fête de l’école Notre Dame de Foy
DESCRIPTION:Danses des enfants avec petite restauration et stands de jeux. \nInfos : F. Legendre – 06 29 13 57 08
URL:https://etaples-sur-mer.fr/evenement/fete-de-lecole-notre-dame-de-foy-3/
LOCATION:ecole notre-dame de foy\, 3 Avenue du Vieux Moulin\, Étaples\, Nord Pas de Calais\, 62630\, France
CATEGORIES:danse,Enseignement,musique,Spectacle
ATTACH;FMTTYPE=image/jpeg:https://etaples-sur-mer.fr/wp-content/uploads/2024/11/fETE-DE-L42COLE-nOTRE-DAME-DE-fOY.jpg
END:VEVENT
BEGIN:VEVENT
DTSTART;TZID=Europe/Paris:20250628T190000
DTEND;TZID=Europe/Paris:20250628T230000
DTSTAMP:20260421T155414
CREATED:20241126T134840Z
LAST-MODIFIED:20241126T134840Z
UID:213147-1751137200-1751151600@etaples-sur-mer.fr
SUMMARY:Concert Barbecue
DESCRIPTION:Infos : S. Birault – 06 73 34 44 70
URL:https://etaples-sur-mer.fr/evenement/concert-barbecue-2/
LOCATION:capitainerie du port de plaisance
CATEGORIES:Animations,musique,Repas,Spectacle
ATTACH;FMTTYPE=image/jpeg:https://etaples-sur-mer.fr/wp-content/uploads/2024/11/maison-des-faiseurs-1.jpg
END:VEVENT
BEGIN:VEVENT
DTSTART;TZID=Europe/Paris:20250629T100000
DTEND;TZID=Europe/Paris:20250629T170000
DTSTAMP:20260421T155414
CREATED:20241126T142138Z
LAST-MODIFIED:20241126T142138Z
UID:213215-1751191200-1751216400@etaples-sur-mer.fr
SUMMARY:Kermesse de l’école Saint Michel Saint Joseph
DESCRIPTION:stands\, structures gonflables. Restauration sur réservation. Moules frites\, saucisses frites. \nInfos : P. Lignier – 06 86 90 17 70
URL:https://etaples-sur-mer.fr/evenement/kermesse-de-lecole-saint-michel-saint-joseph-3/
LOCATION:école Saint Michel Saint Joseph\, rue des Berceaux\, Etaples\, 62630\, France
CATEGORIES:Associations,danse,Enseignement,musique
ATTACH;FMTTYPE=image/jpeg:https://etaples-sur-mer.fr/wp-content/uploads/2024/11/fETE-DE-L42COLE-nOTRE-DAME-DE-fOY.jpg
END:VEVENT
END:VCALENDAR