BEGIN:VCALENDAR
VERSION:2.0
PRODID:-//Ville d&#039;Etaples sur mer - ECPv6.15.13.1//NONSGML v1.0//EN
CALSCALE:GREGORIAN
METHOD:PUBLISH
X-ORIGINAL-URL:https://etaples-sur-mer.fr
X-WR-CALDESC:Évènements pour Ville d&#039;Etaples sur mer
REFRESH-INTERVAL;VALUE=DURATION:PT1H
X-Robots-Tag:noindex
X-PUBLISHED-TTL:PT1H
BEGIN:VTIMEZONE
TZID:Europe/Paris
BEGIN:DAYLIGHT
TZOFFSETFROM:+0100
TZOFFSETTO:+0200
TZNAME:CEST
DTSTART:20250330T010000
END:DAYLIGHT
BEGIN:STANDARD
TZOFFSETFROM:+0200
TZOFFSETTO:+0100
TZNAME:CET
DTSTART:20251026T010000
END:STANDARD
BEGIN:DAYLIGHT
TZOFFSETFROM:+0100
TZOFFSETTO:+0200
TZNAME:CEST
DTSTART:20260329T010000
END:DAYLIGHT
BEGIN:STANDARD
TZOFFSETFROM:+0200
TZOFFSETTO:+0100
TZNAME:CET
DTSTART:20261025T010000
END:STANDARD
BEGIN:DAYLIGHT
TZOFFSETFROM:+0100
TZOFFSETTO:+0200
TZNAME:CEST
DTSTART:20270328T010000
END:DAYLIGHT
BEGIN:STANDARD
TZOFFSETFROM:+0200
TZOFFSETTO:+0100
TZNAME:CET
DTSTART:20271031T010000
END:STANDARD
END:VTIMEZONE
BEGIN:VEVENT
DTSTART;VALUE=DATE:20260509
DTEND;VALUE=DATE:20260511
DTSTAMP:20260422T131824
CREATED:20260227T092022Z
LAST-MODIFIED:20260227T092022Z
UID:240659-1778284800-1778457599@etaples-sur-mer.fr
SUMMARY:WEEK-END NATURE & JARDIN
DESCRIPTION:Par le service événementiel \nSamedi 9 et dimanche 10 mai de 10h à 18h – À proximité du parc du Clos Saint-Victor \nMarché des producteurs mais également animations\, ateliers\, rencontres\, balades\, démonstrations\, vous attendront pour passer un week-end gourmand et pédagogique. De nombreux stands seront proposés : fleuristes paysagistes\, pépiniéristes… mais aussi des producteurs locaux. Une ferme pédagogique\, de nombreuses animations permettront de découvrir ou de redécouvrir notre patrimoine naturel. Chaque passionné trouvera son bonheur parmi les nombreux stands et chapiteaux. Le tout étant bien entendu animé d’une belle ambiance musicale. \nInfos : Service Événementiel – 03 21 89 62 70
URL:https://etaples-sur-mer.fr/evenement/week-end-nature-jardin/
LOCATION:Parc du Clos Saint Victor\, Boulevard Bigot Descelers\, Etaples\, 62630\, France
CATEGORIES:Animations,marché,Nature
ATTACH;FMTTYPE=image/jpeg:https://etaples-sur-mer.fr/wp-content/uploads/2026/02/Affiche-week-end-nature-et-jardin-2026-web-scaled.jpg
ORGANIZER;CN="Service %C3%A9v%C3%A9nementiel":MAILTO:communication@etaples-sur-mer.net
END:VEVENT
END:VCALENDAR