BEGIN:VCALENDAR
VERSION:2.0
PRODID:-//Ville d&#039;Etaples sur mer - ECPv6.15.13.1//NONSGML v1.0//EN
CALSCALE:GREGORIAN
METHOD:PUBLISH
X-WR-CALNAME:Ville d&#039;Etaples sur mer
X-ORIGINAL-URL:https://etaples-sur-mer.fr
X-WR-CALDESC:Évènements pour Ville d&#039;Etaples sur mer
REFRESH-INTERVAL;VALUE=DURATION:PT1H
X-Robots-Tag:noindex
X-PUBLISHED-TTL:PT1H
BEGIN:VTIMEZONE
TZID:Europe/Paris
BEGIN:DAYLIGHT
TZOFFSETFROM:+0100
TZOFFSETTO:+0200
TZNAME:CEST
DTSTART:20240331T010000
END:DAYLIGHT
BEGIN:STANDARD
TZOFFSETFROM:+0200
TZOFFSETTO:+0100
TZNAME:CET
DTSTART:20241027T010000
END:STANDARD
BEGIN:DAYLIGHT
TZOFFSETFROM:+0100
TZOFFSETTO:+0200
TZNAME:CEST
DTSTART:20250330T010000
END:DAYLIGHT
BEGIN:STANDARD
TZOFFSETFROM:+0200
TZOFFSETTO:+0100
TZNAME:CET
DTSTART:20251026T010000
END:STANDARD
BEGIN:DAYLIGHT
TZOFFSETFROM:+0100
TZOFFSETTO:+0200
TZNAME:CEST
DTSTART:20260329T010000
END:DAYLIGHT
BEGIN:STANDARD
TZOFFSETFROM:+0200
TZOFFSETTO:+0100
TZNAME:CET
DTSTART:20261025T010000
END:STANDARD
END:VTIMEZONE
BEGIN:VEVENT
DTSTART;TZID=Europe/Paris:20251213T100000
DTEND;TZID=Europe/Paris:20251214T180000
DTSTAMP:20260422T181025
CREATED:20250729T080628Z
LAST-MODIFIED:20250905T134939Z
UID:229943-1765620000-1765735200@etaples-sur-mer.fr
SUMMARY:17ème Marché de Noël
DESCRIPTION:Par le service Événementiel \nSamedi 13 & dimanche 14 décembre de 10h à 18h – Place du Général de Gaulle. \nVenez préparer les fêtes de fin d’année lors de notre marché festif. Producteurs et artisans vous y attendent avec de nombreux stands pour garnir votre table et trouver vos cadeaux. Vous trouverez du champagne\, des vins\, des bières\, des spécialités salées et sucrées\, mais aussi des décorations\, des bijoux\, des coffrets cadeaux. L’ambiance sera féérique grâce à l’animation musicales assurée par différents orchestres. Pour les plus petits\, le Père Noël sera présent pour des séances photos inoubliables. Ne manquez pas l’exposition de Guénels qui aura lieu les samedis et dimanche. \nRenseignements : service événementiel – 03 21 89 62 70
URL:https://etaples-sur-mer.fr/evenement/17eme-marche-de-noel/
LOCATION:1 Place du général de Gaulle\, 62630 Étaples
CATEGORIES:marché,Noël
ATTACH;FMTTYPE=image/jpeg:https://etaples-sur-mer.fr/wp-content/uploads/2025/07/Affiche-marche-de-noel-2025-web-scaled.jpg
ORGANIZER;CN="Service %C3%A9v%C3%A9nementiel":MAILTO:communication@etaples-sur-mer.net
END:VEVENT
BEGIN:VEVENT
DTSTART;TZID=Europe/Paris:20251218T090000
DTEND;TZID=Europe/Paris:20251218T170000
DTSTAMP:20260422T181025
CREATED:20250729T124336Z
LAST-MODIFIED:20251217T131722Z
UID:229949-1766048400-1766077200@etaples-sur-mer.fr
SUMMARY:Marché et chorale de noël de Rombly
DESCRIPTION:Jeudi 18 décembre de 9h à 17h \nMarché et chorales de Noël\nInfos : N. Rosey –09 74 92 46 48
URL:https://etaples-sur-mer.fr/evenement/marche-et-chorale-de-noel-de-rombly/
LOCATION:ecole de Rombly\, Avenue des Oyats\, Etaples\, 62630\, France
CATEGORIES:marché,Noël
ATTACH;FMTTYPE=image/jpeg:https://etaples-sur-mer.fr/wp-content/uploads/2024/06/MARCHE-DE-NOEL-ET-CHORALE-DE-NOEL-scaled.jpg
END:VEVENT
BEGIN:VEVENT
DTSTART;TZID=Europe/Paris:20251220T100000
DTEND;TZID=Europe/Paris:20251220T170000
DTSTAMP:20260422T181025
CREATED:20250729T131922Z
LAST-MODIFIED:20251217T131922Z
UID:229957-1766224800-1766250000@etaples-sur-mer.fr
SUMMARY:Marché de Noël
DESCRIPTION:Par l’association « Club Nautique Etaples Plaisance »\nSamedi 20 décembre de 10h à 17h à La Capitainerie\nVentes de compositions florales\, gourmandes et décorations de Noel\nInfos : F. Rigaux – 06 32 05 32 06
URL:https://etaples-sur-mer.fr/evenement/marche-de-noel/
LOCATION:capitainerie du port de plaisance
CATEGORIES:marché,Noël
ATTACH;FMTTYPE=image/jpeg:https://etaples-sur-mer.fr/wp-content/uploads/2024/06/VEILLEE-DE-NOEL-EN-PATOIS.jpg
END:VEVENT
END:VCALENDAR