BEGIN:VCALENDAR
VERSION:2.0
PRODID:-//Ville d&#039;Etaples sur mer - ECPv6.15.13.1//NONSGML v1.0//EN
CALSCALE:GREGORIAN
METHOD:PUBLISH
X-WR-CALNAME:Ville d&#039;Etaples sur mer
X-ORIGINAL-URL:https://etaples-sur-mer.fr
X-WR-CALDESC:Évènements pour Ville d&#039;Etaples sur mer
REFRESH-INTERVAL;VALUE=DURATION:PT1H
X-Robots-Tag:noindex
X-PUBLISHED-TTL:PT1H
BEGIN:VTIMEZONE
TZID:Europe/Paris
BEGIN:DAYLIGHT
TZOFFSETFROM:+0100
TZOFFSETTO:+0200
TZNAME:CEST
DTSTART:20240331T010000
END:DAYLIGHT
BEGIN:STANDARD
TZOFFSETFROM:+0200
TZOFFSETTO:+0100
TZNAME:CET
DTSTART:20241027T010000
END:STANDARD
BEGIN:DAYLIGHT
TZOFFSETFROM:+0100
TZOFFSETTO:+0200
TZNAME:CEST
DTSTART:20250330T010000
END:DAYLIGHT
BEGIN:STANDARD
TZOFFSETFROM:+0200
TZOFFSETTO:+0100
TZNAME:CET
DTSTART:20251026T010000
END:STANDARD
BEGIN:DAYLIGHT
TZOFFSETFROM:+0100
TZOFFSETTO:+0200
TZNAME:CEST
DTSTART:20260329T010000
END:DAYLIGHT
BEGIN:STANDARD
TZOFFSETFROM:+0200
TZOFFSETTO:+0100
TZNAME:CET
DTSTART:20261025T010000
END:STANDARD
END:VTIMEZONE
BEGIN:VEVENT
DTSTART;TZID=Europe/Paris:20250803T080000
DTEND;TZID=Europe/Paris:20250803T170000
DTSTAMP:20260423T004517
CREATED:20250612T085115Z
LAST-MODIFIED:20250613T102658Z
UID:224515-1754208000-1754240400@etaples-sur-mer.fr
SUMMARY:GRANDE BROCANTE DU CENTRE-VILLE
DESCRIPTION:Par l’association des commerçants et artisans d’Etaples \nplace du général de Gaulle et rues adjacentes \nGrand déballage des commerçants\, professionnels\, brocanteurs et particuliers pour une journée 100% chine. \nTarifs : 5 € le mètre /étaplois – 7 € le mètre/extérieur et professionnels \nInfos : Y Fournier– 06 84 09 37 38 \n 
URL:https://etaples-sur-mer.fr/evenement/grande-brocante-du-centre-ville/
LOCATION:1 Place du général de Gaulle\, 62630 Étaples
CATEGORIES:Brocante,marché
ATTACH;FMTTYPE=image/jpeg:https://etaples-sur-mer.fr/wp-content/uploads/2025/06/503813840_739741868428275_362356087545877880_n.jpg
END:VEVENT
BEGIN:VEVENT
DTSTART;TZID=Europe/Paris:20250809T170000
DTEND;TZID=Europe/Paris:20250809T220000
DTSTAMP:20260423T004517
CREATED:20250613T142626Z
LAST-MODIFIED:20250613T142626Z
UID:224731-1754758800-1754776800@etaples-sur-mer.fr
SUMMARY:MARCHÉ NOCTURNE
DESCRIPTION:Par le service événementiel \nEn centre-ville\, le marché nocturne a maintenant pris son rythme de croisière et séduit par une formule adaptée à la période estivale. Parmi la trentaine d’exposants\, venez dénicher votre bonheur parmi des spécialités venues des quatre coins de la France. Restauration sur place \nInfos : 03 21 89 62 70
URL:https://etaples-sur-mer.fr/evenement/marche-nocturne-3/
LOCATION:1 Place du général de Gaulle\, 62630 Étaples
CATEGORIES:balade,marché
ATTACH;FMTTYPE=image/jpeg:https://etaples-sur-mer.fr/wp-content/uploads/2025/06/503582165_739043598498102_8027635735545987154_n-1.jpg
END:VEVENT
END:VCALENDAR