BEGIN:VCALENDAR
VERSION:2.0
PRODID:-//Ville d&#039;Etaples sur mer - ECPv6.15.13.1//NONSGML v1.0//EN
CALSCALE:GREGORIAN
METHOD:PUBLISH
X-ORIGINAL-URL:https://etaples-sur-mer.fr
X-WR-CALDESC:Évènements pour Ville d&#039;Etaples sur mer
REFRESH-INTERVAL;VALUE=DURATION:PT1H
X-Robots-Tag:noindex
X-PUBLISHED-TTL:PT1H
BEGIN:VTIMEZONE
TZID:Europe/Paris
BEGIN:DAYLIGHT
TZOFFSETFROM:+0100
TZOFFSETTO:+0200
TZNAME:CEST
DTSTART:20240331T010000
END:DAYLIGHT
BEGIN:STANDARD
TZOFFSETFROM:+0200
TZOFFSETTO:+0100
TZNAME:CET
DTSTART:20241027T010000
END:STANDARD
BEGIN:DAYLIGHT
TZOFFSETFROM:+0100
TZOFFSETTO:+0200
TZNAME:CEST
DTSTART:20250330T010000
END:DAYLIGHT
BEGIN:STANDARD
TZOFFSETFROM:+0200
TZOFFSETTO:+0100
TZNAME:CET
DTSTART:20251026T010000
END:STANDARD
BEGIN:DAYLIGHT
TZOFFSETFROM:+0100
TZOFFSETTO:+0200
TZNAME:CEST
DTSTART:20260329T010000
END:DAYLIGHT
BEGIN:STANDARD
TZOFFSETFROM:+0200
TZOFFSETTO:+0100
TZNAME:CET
DTSTART:20261025T010000
END:STANDARD
END:VTIMEZONE
BEGIN:VEVENT
DTSTART;TZID=Europe/Paris:20250124T200000
DTEND;TZID=Europe/Paris:20250124T220000
DTSTAMP:20260421T223203
CREATED:20241122T103344Z
LAST-MODIFIED:20241122T103344Z
UID:212545-1737748800-1737756000@etaples-sur-mer.fr
SUMMARY:Concours de belote des vétérans
DESCRIPTION:Par « l’AS Etaples Football »\nVendredi 24 janvier à 20h – club house du stade François Guilluy\nOuverture des portes à 19h. Buvette et restauration sur place. \nTarif : 10€ / joueur (20€ / doublette)\nInfos : F. Mathias – 06 07 27 69 58
URL:https://etaples-sur-mer.fr/evenement/concours-de-belote-des-veterans-2/
LOCATION:club house Stade François Guilluy\, rue de Camiers\, etaples\, 62630\, France
CATEGORIES:Animations,Jeux
ATTACH;FMTTYPE=image/jpeg:https://etaples-sur-mer.fr/wp-content/uploads/2024/11/CONCOURS-DE-BELOTE-DES-VETERANS.jpg
END:VEVENT
END:VCALENDAR