BEGIN:VCALENDAR
VERSION:2.0
PRODID:-//Ville d&#039;Etaples sur mer - ECPv6.15.13.1//NONSGML v1.0//EN
CALSCALE:GREGORIAN
METHOD:PUBLISH
X-WR-CALNAME:Ville d&#039;Etaples sur mer
X-ORIGINAL-URL:https://etaples-sur-mer.fr
X-WR-CALDESC:Évènements pour Ville d&#039;Etaples sur mer
REFRESH-INTERVAL;VALUE=DURATION:PT1H
X-Robots-Tag:noindex
X-PUBLISHED-TTL:PT1H
BEGIN:VTIMEZONE
TZID:Europe/Paris
BEGIN:DAYLIGHT
TZOFFSETFROM:+0100
TZOFFSETTO:+0200
TZNAME:CEST
DTSTART:20230326T010000
END:DAYLIGHT
BEGIN:STANDARD
TZOFFSETFROM:+0200
TZOFFSETTO:+0100
TZNAME:CET
DTSTART:20231029T010000
END:STANDARD
BEGIN:DAYLIGHT
TZOFFSETFROM:+0100
TZOFFSETTO:+0200
TZNAME:CEST
DTSTART:20240331T010000
END:DAYLIGHT
BEGIN:STANDARD
TZOFFSETFROM:+0200
TZOFFSETTO:+0100
TZNAME:CET
DTSTART:20241027T010000
END:STANDARD
BEGIN:DAYLIGHT
TZOFFSETFROM:+0100
TZOFFSETTO:+0200
TZNAME:CEST
DTSTART:20250330T010000
END:DAYLIGHT
BEGIN:STANDARD
TZOFFSETFROM:+0200
TZOFFSETTO:+0100
TZNAME:CET
DTSTART:20251026T010000
END:STANDARD
END:VTIMEZONE
BEGIN:VEVENT
DTSTART;TZID=Europe/Paris:20240723T100000
DTEND;TZID=Europe/Paris:20240723T120000
DTSTAMP:20260422T085258
CREATED:20240611T125419Z
LAST-MODIFIED:20240611T125419Z
UID:198697-1721728800-1721736000@etaples-sur-mer.fr
SUMMARY:ANIMATION À L’ESPACE NUMÉRIQUE : ATELIER MINECRAFT 
DESCRIPTION:Par le Point Cyb de la Médiathèque \nLes 23\, 26\, et 30 juillet de 10h à 11h45 \nInitiation à l’univers de Minecraft. \nGratuit (à partir de 10 ans) – sur réservations \nInfos : Médiathèque municipale : 03 21 94 29 31
URL:https://etaples-sur-mer.fr/evenement/animation-a-lespace-numerique-atelier-minecraft/
LOCATION:Médiathèque Marie-Madeleine Gauffeny
CATEGORIES:Animations,Jeux
ATTACH;FMTTYPE=image/png:https://etaples-sur-mer.fr/wp-content/uploads/2024/02/Minecraft.png
END:VEVENT
END:VCALENDAR