BEGIN:VCALENDAR
VERSION:2.0
PRODID:-//Ville d&#039;Etaples sur mer - ECPv6.15.13.1//NONSGML v1.0//EN
CALSCALE:GREGORIAN
METHOD:PUBLISH
X-WR-CALNAME:Ville d&#039;Etaples sur mer
X-ORIGINAL-URL:https://etaples-sur-mer.fr
X-WR-CALDESC:Évènements pour Ville d&#039;Etaples sur mer
REFRESH-INTERVAL;VALUE=DURATION:PT1H
X-Robots-Tag:noindex
X-PUBLISHED-TTL:PT1H
BEGIN:VTIMEZONE
TZID:Europe/Paris
BEGIN:DAYLIGHT
TZOFFSETFROM:+0100
TZOFFSETTO:+0200
TZNAME:CEST
DTSTART:20230326T010000
END:DAYLIGHT
BEGIN:STANDARD
TZOFFSETFROM:+0200
TZOFFSETTO:+0100
TZNAME:CET
DTSTART:20231029T010000
END:STANDARD
BEGIN:DAYLIGHT
TZOFFSETFROM:+0100
TZOFFSETTO:+0200
TZNAME:CEST
DTSTART:20240331T010000
END:DAYLIGHT
BEGIN:STANDARD
TZOFFSETFROM:+0200
TZOFFSETTO:+0100
TZNAME:CET
DTSTART:20241027T010000
END:STANDARD
BEGIN:DAYLIGHT
TZOFFSETFROM:+0100
TZOFFSETTO:+0200
TZNAME:CEST
DTSTART:20250330T010000
END:DAYLIGHT
BEGIN:STANDARD
TZOFFSETFROM:+0200
TZOFFSETTO:+0100
TZNAME:CET
DTSTART:20251026T010000
END:STANDARD
END:VTIMEZONE
BEGIN:VEVENT
DTSTART;TZID=Europe/Paris:20240710T200000
DTEND;TZID=Europe/Paris:20240711T000000
DTSTAMP:20260422T085053
CREATED:20240610T082501Z
LAST-MODIFIED:20240617T074759Z
UID:198444-1720641600-1720656000@etaples-sur-mer.fr
SUMMARY:NUIT DU JEU   
DESCRIPTION:  Par le service  Événementiel \nMercredi 10 juillet de 20h à minuit – Salle pédagogique de Maréis \nLa nuit du jeu est une idée de sortie originale et conviviale où la bonne humeur\, le plaisir\, le partage se sont donnés rendez-vous le temps d’une soirée. C’est l’occasion de retrouver du plaisir en jouant entre amis. Vous y découvrirez une centaine de jeux de société simples et modernes qui devraient ravir petits et grands tout au long de la soirée. Lors de cette édition\, des petits tournois seront organisés avec des petites récompenses à la clé (Six qui prend\, Wazabi\, Skyjo) \nTarif : gratuit \nRenseignements : service Événementiel – 03 21 89 62 51 \n 
URL:https://etaples-sur-mer.fr/evenement/nuit-du-jeu-3/
LOCATION:salle pédagogique de Maréis\, boulevard Bigot Descelers\, etaples\, 62630\, France
CATEGORIES:Animations,Jeux
ATTACH;FMTTYPE=image/jpeg:https://etaples-sur-mer.fr/wp-content/uploads/2024/06/Affiche-nuit-du-jeu-web-scaled.jpg
ORGANIZER;CN="Service %C3%A9v%C3%A9nementiel":MAILTO:communication@etaples-sur-mer.net
END:VEVENT
END:VCALENDAR